BEGIN:VCALENDAR
VERSION:2.0
PRODID:-//Quatre Quarts - ECPv6.15.20//NONSGML v1.0//EN
CALSCALE:GREGORIAN
METHOD:PUBLISH
X-WR-CALNAME:Quatre Quarts
X-ORIGINAL-URL:https://quatrequarts.coop
X-WR-CALDESC:Évènements pour Quatre Quarts
REFRESH-INTERVAL;VALUE=DURATION:PT1H
X-Robots-Tag:noindex
X-PUBLISHED-TTL:PT1H
BEGIN:VTIMEZONE
TZID:Europe/Brussels
BEGIN:DAYLIGHT
TZOFFSETFROM:+0100
TZOFFSETTO:+0200
TZNAME:CEST
DTSTART:20250330T010000
END:DAYLIGHT
BEGIN:STANDARD
TZOFFSETFROM:+0200
TZOFFSETTO:+0100
TZNAME:CET
DTSTART:20251026T010000
END:STANDARD
BEGIN:DAYLIGHT
TZOFFSETFROM:+0100
TZOFFSETTO:+0200
TZNAME:CEST
DTSTART:20260329T010000
END:DAYLIGHT
BEGIN:STANDARD
TZOFFSETFROM:+0200
TZOFFSETTO:+0100
TZNAME:CET
DTSTART:20261025T010000
END:STANDARD
BEGIN:DAYLIGHT
TZOFFSETFROM:+0100
TZOFFSETTO:+0200
TZNAME:CEST
DTSTART:20270328T010000
END:DAYLIGHT
BEGIN:STANDARD
TZOFFSETFROM:+0200
TZOFFSETTO:+0100
TZNAME:CET
DTSTART:20271031T010000
END:STANDARD
END:VTIMEZONE
BEGIN:VEVENT
DTSTART;TZID=Europe/Brussels:20260219T200000
DTEND;TZID=Europe/Brussels:20260219T220000
DTSTAMP:20260422T075324
CREATED:20260115T162345Z
LAST-MODIFIED:20260212T130337Z
UID:10020805-1771531200-1771538400@quatrequarts.coop
SUMMARY:Ciné-débat : Où sont passées les lucioles ?
DESCRIPTION:A la découverte du monde de la nuit \nPlecoBW\, le groupe local de Plecotus (pôle chauve-souris de Natagora)\, vous invite à la première édition de son ciné-débat. \nFilm : Où sont passées les lucioles de Corentin Kimenau \nÀ cette occasion\, venez échanger autour du monde nocturne : sa richesse\, son importance et les menaces croissantes qui pèsent sur la faune qui l’habite. \nPour cette soirée\, nous vous proposons la projection d’un film consacré à la pollution lumineuse et à ses impacts sur les lucioles\, suivie d’un moment de discussion ouvert à toutes et tous. \nAu plaisir de vous y rencontrer. \nInfos tarifs sur le visuel.
URL:https://quatrequarts.coop/event/cine-debat-a-la-decouverte-du-monde-de-la-nuit/
LOCATION:Quatre Quarts\, Rue Emile Henricot 61\, Court-Saint-Etienne\, 1490\, Belgique
ATTACH;FMTTYPE=image/png:https://quatrequarts.coop/wp-content/uploads/2026/01/Ou-sont-passees-les-lucioles-e1769515863690.png
ORGANIZER;CN="Quatre Quarts":MAILTO:viedulieu@quatrequarts.coop
GEO:50.6459666;4.5632717
X-APPLE-STRUCTURED-LOCATION;VALUE=URI;X-ADDRESS=Quatre Quarts Rue Emile Henricot 61 Court-Saint-Etienne 1490 Belgique;X-APPLE-RADIUS=500;X-TITLE=Rue Emile Henricot 61:geo:4.5632717,50.6459666
END:VEVENT
END:VCALENDAR