BEGIN:VCALENDAR
VERSION:2.0
PRODID:-//Quatre Quarts - ECPv6.15.20//NONSGML v1.0//EN
CALSCALE:GREGORIAN
METHOD:PUBLISH
X-ORIGINAL-URL:https://quatrequarts.coop
X-WR-CALDESC:Évènements pour Quatre Quarts
REFRESH-INTERVAL;VALUE=DURATION:PT1H
X-Robots-Tag:noindex
X-PUBLISHED-TTL:PT1H
BEGIN:VTIMEZONE
TZID:Europe/Brussels
BEGIN:DAYLIGHT
TZOFFSETFROM:+0100
TZOFFSETTO:+0200
TZNAME:CEST
DTSTART:20250330T010000
END:DAYLIGHT
BEGIN:STANDARD
TZOFFSETFROM:+0200
TZOFFSETTO:+0100
TZNAME:CET
DTSTART:20251026T010000
END:STANDARD
BEGIN:DAYLIGHT
TZOFFSETFROM:+0100
TZOFFSETTO:+0200
TZNAME:CEST
DTSTART:20260329T010000
END:DAYLIGHT
BEGIN:STANDARD
TZOFFSETFROM:+0200
TZOFFSETTO:+0100
TZNAME:CET
DTSTART:20261025T010000
END:STANDARD
BEGIN:DAYLIGHT
TZOFFSETFROM:+0100
TZOFFSETTO:+0200
TZNAME:CEST
DTSTART:20270328T010000
END:DAYLIGHT
BEGIN:STANDARD
TZOFFSETFROM:+0200
TZOFFSETTO:+0100
TZNAME:CET
DTSTART:20271031T010000
END:STANDARD
END:VTIMEZONE
BEGIN:VEVENT
DTSTART;TZID=Europe/Brussels:20260129T200000
DTEND;TZID=Europe/Brussels:20260129T220000
DTSTAMP:20260422T061020
CREATED:20260106T115003Z
LAST-MODIFIED:20260120T134743Z
UID:10020760-1769716800-1769724000@quatrequarts.coop
SUMMARY:Népal et Himalaya - une rencontre autour de la marche et du voyage
DESCRIPTION:🙏 Nous vous invitons à une rencontre autour du Népal et de l’Himalaya\, en compagnie de Guillaume\, concepteur de voyages installé à Katmandou depuis plus de dix ans. Son parcours s’est construit sur les sentiers : marcher\, comprendre les rythmes de l’altitude\, relier les vallées\, apprendre des équipes locales. \n🇳🇵Avec son associé népalais Furba\, ils ont fondé Nomad’s Land – The Trekking Company\, une agence locale népalaise qui conçoit et accompagne des expériences himalayennes pensées dans la durée\, avec attention\, respect et cohérence. \n⛰️ De quoi parlerons-nous ? Au fil de la soirée\, la marche et la montagne seront évoquées comme une manière d’entrer dans le pays\, d’en comprendre le rythme et de vivre un voyage en Himalaya\, entre paysages\, villages\, silences et chemins. \n🤝 Un moment de partage et d’échange\, ouvert à toutes celles et ceux qui s’intéressent au Népal\, à l’Himalaya et à une approche du voyage où l’on prend le temps d’observer et d’apprendre 🌿. \n✨Et qui sait\, peut-être germera l’idée de nous rejoindre sur l’un de nos itinéraires…
URL:https://quatrequarts.coop/event/nepal-et-himalaya-une-rencontre-autour-de-la-marche-et-du-voyage/
LOCATION:Quatre Quarts\, Rue Emile Henricot 61\, Court-Saint-Etienne\, 1490\, Belgique
CATEGORIES:Conférence-Débat,Echange
ATTACH;FMTTYPE=image/png:https://quatrequarts.coop/wp-content/uploads/2025/12/3.png
GEO:50.6459666;4.5632717
X-APPLE-STRUCTURED-LOCATION;VALUE=URI;X-ADDRESS=Quatre Quarts Rue Emile Henricot 61 Court-Saint-Etienne 1490 Belgique;X-APPLE-RADIUS=500;X-TITLE=Rue Emile Henricot 61:geo:4.5632717,50.6459666
END:VEVENT
END:VCALENDAR