BEGIN:VCALENDAR
VERSION:2.0
PRODID:-//Quatre Quarts - ECPv6.15.20//NONSGML v1.0//EN
CALSCALE:GREGORIAN
METHOD:PUBLISH
X-ORIGINAL-URL:https://quatrequarts.coop
X-WR-CALDESC:Évènements pour Quatre Quarts
REFRESH-INTERVAL;VALUE=DURATION:PT1H
X-Robots-Tag:noindex
X-PUBLISHED-TTL:PT1H
BEGIN:VTIMEZONE
TZID:Europe/Brussels
BEGIN:DAYLIGHT
TZOFFSETFROM:+0100
TZOFFSETTO:+0200
TZNAME:CEST
DTSTART:20240331T010000
END:DAYLIGHT
BEGIN:STANDARD
TZOFFSETFROM:+0200
TZOFFSETTO:+0100
TZNAME:CET
DTSTART:20241027T010000
END:STANDARD
BEGIN:DAYLIGHT
TZOFFSETFROM:+0100
TZOFFSETTO:+0200
TZNAME:CEST
DTSTART:20250330T010000
END:DAYLIGHT
BEGIN:STANDARD
TZOFFSETFROM:+0200
TZOFFSETTO:+0100
TZNAME:CET
DTSTART:20251026T010000
END:STANDARD
BEGIN:DAYLIGHT
TZOFFSETFROM:+0100
TZOFFSETTO:+0200
TZNAME:CEST
DTSTART:20260329T010000
END:DAYLIGHT
BEGIN:STANDARD
TZOFFSETFROM:+0200
TZOFFSETTO:+0100
TZNAME:CET
DTSTART:20261025T010000
END:STANDARD
END:VTIMEZONE
BEGIN:VEVENT
DTSTART;TZID=Europe/Brussels:20250221T210000
DTEND;TZID=Europe/Brussels:20250221T220000
DTSTAMP:20260423T031100
CREATED:20250205T083837Z
LAST-MODIFIED:20250205T083837Z
UID:10018987-1740171600-1740175200@quatrequarts.coop
SUMMARY:CONCERT: "De Katrina à KasZ" ou comment sublimer la vie !
DESCRIPTION:Après plusieurs concerts de reprises\, le besoin d’écrire s’allia à la nécessité de chanter et  » KasZ se prononce ‘kach’  » est née. \nAutrice\, compositrice et interprète de chansons françaises depuis décembre 2013\, elle a à cœur de partager ses expériences personnelles par des textes où se mêlent poésie\, personnalité et universalité. Le recul sur la vie de quadra à quinqua colore ses mots et mélodies\, la plupart en ballades acoustiques. KasZ s’est alors lancée à interpréter ses propres compositions. Elle s’accompagne parfois à la guitare\, parfois d’enregistrements de piano. \nRejoindre un Cover Band et chanter en français\, anglais et autres dans un futur très proche est son défi suivant.
URL:https://quatrequarts.coop/event/concert-de-katrina-a-kasz-ou-comment-sublimer-la-vie/
LOCATION:Quatre Quarts\, Rue Emile Henricot 61\, Court-Saint-Etienne\, 1490\, Belgique
ATTACH;FMTTYPE=image/png:https://quatrequarts.coop/wp-content/uploads/2025/01/KasZ-au-Quatre-Quarts-21-fevrier-2025-650-pixel.png
ORGANIZER;CN="Quatre Quarts":MAILTO:viedulieu@quatrequarts.coop
GEO:50.6459666;4.5632717
X-APPLE-STRUCTURED-LOCATION;VALUE=URI;X-ADDRESS=Quatre Quarts Rue Emile Henricot 61 Court-Saint-Etienne 1490 Belgique;X-APPLE-RADIUS=500;X-TITLE=Rue Emile Henricot 61:geo:4.5632717,50.6459666
END:VEVENT
END:VCALENDAR