BEGIN:VCALENDAR
VERSION:2.0
PRODID:-//Quatre Quarts - ECPv6.15.20//NONSGML v1.0//EN
CALSCALE:GREGORIAN
METHOD:PUBLISH
X-WR-CALNAME:Quatre Quarts
X-ORIGINAL-URL:https://quatrequarts.coop
X-WR-CALDESC:Évènements pour Quatre Quarts
REFRESH-INTERVAL;VALUE=DURATION:PT1H
X-Robots-Tag:noindex
X-PUBLISHED-TTL:PT1H
BEGIN:VTIMEZONE
TZID:Europe/Brussels
BEGIN:DAYLIGHT
TZOFFSETFROM:+0100
TZOFFSETTO:+0200
TZNAME:CEST
DTSTART:20240331T010000
END:DAYLIGHT
BEGIN:STANDARD
TZOFFSETFROM:+0200
TZOFFSETTO:+0100
TZNAME:CET
DTSTART:20241027T010000
END:STANDARD
BEGIN:DAYLIGHT
TZOFFSETFROM:+0100
TZOFFSETTO:+0200
TZNAME:CEST
DTSTART:20250330T010000
END:DAYLIGHT
BEGIN:STANDARD
TZOFFSETFROM:+0200
TZOFFSETTO:+0100
TZNAME:CET
DTSTART:20251026T010000
END:STANDARD
BEGIN:DAYLIGHT
TZOFFSETFROM:+0100
TZOFFSETTO:+0200
TZNAME:CEST
DTSTART:20260329T010000
END:DAYLIGHT
BEGIN:STANDARD
TZOFFSETFROM:+0200
TZOFFSETTO:+0100
TZNAME:CET
DTSTART:20261025T010000
END:STANDARD
END:VTIMEZONE
BEGIN:VEVENT
DTSTART;TZID=Europe/Brussels:20251004T193000
DTEND;TZID=Europe/Brussels:20251004T230000
DTSTAMP:20260422T100852
CREATED:20250923T093545Z
LAST-MODIFIED:20250925T160008Z
UID:10020006-1759606200-1759618800@quatrequarts.coop
SUMMARY:Soirée-récit : Sauvetage en Méditerranée à bord d'un voilier. Gratuit
DESCRIPTION:66.519 mort⸱es aux frontières européennes\, ça n’a rien d’un accident hasardeux. \nAlors que la forteresse européenne est de plus en plus meurtrière\, petites et grandes associations s’organisent pour répondre aux manquements de l’UE en termes de sauvetage. Ici\, c’est à bord d’un voilier 13 mètres\, le Trottamar III\, que Compass Collective (une petite ONG allemande) observe\, réagit et interpelle par rapport à ce qui se passe en mer.  \n Gauthier et Rosy\, deux activistes qui reviennent du dernier déploiement à bord du voiler\, vous racontent leur expérience de sauvetage en Méditerranée centrale\, leur vécu et leur perception quant à la situation politique et aux différentes approches d’intervention de sauvetage. \n Nous vous invitons à une soirée de récit et de rencontre pour partager sur des questions d’humanité et d’actions politiques qui nous concernent tou·tes. \nAccueil à 19h30 \nDébut de la présentation à 20h \nDans Salle voûtée \nEntrée gratuite \nUne vente de t-shirts au profit du projet Compass Collective aura lieu après la rencontre (prévoyez du cash  25€ le t-shirt)\nChaque t-shirt vendu n’est pas qu’une petite graine plantée\, mais bien un soutien concret pour garantir plus de sauvetage et de présence en mer ! \nhttps://fb.me/e/5lHsS2WqC \n  \nCo-organisateurs : Compass Collective\, Equipes Populaires Verviers \n 
URL:https://quatrequarts.coop/event/soiree-recit-sauvetage-en-mediterranee-a-bord-dun-voilier-gratuit/
LOCATION:Quatre Quarts\, Rue Emile Henricot 61\, Court-Saint-Etienne\, 1490\, Belgique
ATTACH;FMTTYPE=image/png:https://quatrequarts.coop/wp-content/uploads/2025/09/RECIT_650pix-2.png
ORGANIZER;CN="Quatre Quarts":MAILTO:viedulieu@quatrequarts.coop
GEO:50.6459666;4.5632717
X-APPLE-STRUCTURED-LOCATION;VALUE=URI;X-ADDRESS=Quatre Quarts Rue Emile Henricot 61 Court-Saint-Etienne 1490 Belgique;X-APPLE-RADIUS=500;X-TITLE=Rue Emile Henricot 61:geo:4.5632717,50.6459666
END:VEVENT
END:VCALENDAR