BEGIN:VCALENDAR
VERSION:2.0
PRODID:-//Quatre Quarts - ECPv6.15.20//NONSGML v1.0//EN
CALSCALE:GREGORIAN
METHOD:PUBLISH
X-WR-CALNAME:Quatre Quarts
X-ORIGINAL-URL:https://quatrequarts.coop
X-WR-CALDESC:Évènements pour Quatre Quarts
REFRESH-INTERVAL;VALUE=DURATION:PT1H
X-Robots-Tag:noindex
X-PUBLISHED-TTL:PT1H
BEGIN:VTIMEZONE
TZID:Europe/Brussels
BEGIN:DAYLIGHT
TZOFFSETFROM:+0100
TZOFFSETTO:+0200
TZNAME:CEST
DTSTART:20250330T010000
END:DAYLIGHT
BEGIN:STANDARD
TZOFFSETFROM:+0200
TZOFFSETTO:+0100
TZNAME:CET
DTSTART:20251026T010000
END:STANDARD
BEGIN:DAYLIGHT
TZOFFSETFROM:+0100
TZOFFSETTO:+0200
TZNAME:CEST
DTSTART:20260329T010000
END:DAYLIGHT
BEGIN:STANDARD
TZOFFSETFROM:+0200
TZOFFSETTO:+0100
TZNAME:CET
DTSTART:20261025T010000
END:STANDARD
BEGIN:DAYLIGHT
TZOFFSETFROM:+0100
TZOFFSETTO:+0200
TZNAME:CEST
DTSTART:20270328T010000
END:DAYLIGHT
BEGIN:STANDARD
TZOFFSETFROM:+0200
TZOFFSETTO:+0100
TZNAME:CET
DTSTART:20271031T010000
END:STANDARD
END:VTIMEZONE
BEGIN:VEVENT
DTSTART;TZID=Europe/Brussels:20260529T203000
DTEND;TZID=Europe/Brussels:20260529T220000
DTSTAMP:20260422T015004
CREATED:20260327T132730Z
LAST-MODIFIED:20260327T132730Z
UID:10021078-1780086600-1780092000@quatrequarts.coop
SUMMARY:Intimes - spectacle d'impro
DESCRIPTION:Intimes explore les nuances de l’intimité humaine avec humour\, sensibilité et spontanéité. Sur base d’une ou plusieurs anecdotes racontées par le public\, les artistes proposent une histoire où est mis en scène avec respect diverses facettes de l’intimité des personnages\, avec pour décor principal\, une chambre.\n\nIl est conseillé de réserver : https://forms.gle/Qr8iZKd5i4iyMuwa9
URL:https://quatrequarts.coop/event/intimes-spectacle-dimpro/
LOCATION:Quatre Quarts\, Rue Emile Henricot 61\, Court-Saint-Etienne\, 1490\, Belgique
CATEGORIES:Spectacle
ATTACH;FMTTYPE=image/png:https://quatrequarts.coop/wp-content/uploads/2026/03/Affiche_Intimes.png
ORGANIZER;CN="Ebullition":MAILTO:contact@ebullitiontheatre.org
GEO:50.6459666;4.5632717
X-APPLE-STRUCTURED-LOCATION;VALUE=URI;X-ADDRESS=Quatre Quarts Rue Emile Henricot 61 Court-Saint-Etienne 1490 Belgique;X-APPLE-RADIUS=500;X-TITLE=Rue Emile Henricot 61:geo:4.5632717,50.6459666
END:VEVENT
END:VCALENDAR