BEGIN:VCALENDAR
VERSION:2.0
PRODID:-//Quatre Quarts - ECPv6.15.20//NONSGML v1.0//EN
CALSCALE:GREGORIAN
METHOD:PUBLISH
X-WR-CALNAME:Quatre Quarts
X-ORIGINAL-URL:https://quatrequarts.coop
X-WR-CALDESC:Évènements pour Quatre Quarts
REFRESH-INTERVAL;VALUE=DURATION:PT1H
X-Robots-Tag:noindex
X-PUBLISHED-TTL:PT1H
BEGIN:VTIMEZONE
TZID:Europe/Brussels
BEGIN:DAYLIGHT
TZOFFSETFROM:+0100
TZOFFSETTO:+0200
TZNAME:CEST
DTSTART:20240331T010000
END:DAYLIGHT
BEGIN:STANDARD
TZOFFSETFROM:+0200
TZOFFSETTO:+0100
TZNAME:CET
DTSTART:20241027T010000
END:STANDARD
BEGIN:DAYLIGHT
TZOFFSETFROM:+0100
TZOFFSETTO:+0200
TZNAME:CEST
DTSTART:20250330T010000
END:DAYLIGHT
BEGIN:STANDARD
TZOFFSETFROM:+0200
TZOFFSETTO:+0100
TZNAME:CET
DTSTART:20251026T010000
END:STANDARD
BEGIN:DAYLIGHT
TZOFFSETFROM:+0100
TZOFFSETTO:+0200
TZNAME:CEST
DTSTART:20260329T010000
END:DAYLIGHT
BEGIN:STANDARD
TZOFFSETFROM:+0200
TZOFFSETTO:+0100
TZNAME:CET
DTSTART:20261025T010000
END:STANDARD
BEGIN:DAYLIGHT
TZOFFSETFROM:+0100
TZOFFSETTO:+0200
TZNAME:CEST
DTSTART:20270328T010000
END:DAYLIGHT
BEGIN:STANDARD
TZOFFSETFROM:+0200
TZOFFSETTO:+0100
TZNAME:CET
DTSTART:20271031T010000
END:STANDARD
END:VTIMEZONE
BEGIN:VEVENT
DTSTART;TZID=Europe/Brussels:20260405T130000
DTEND;TZID=Europe/Brussels:20260405T183000
DTSTAMP:20260421T213504
CREATED:20251014T122219Z
LAST-MODIFIED:20260312T185633Z
UID:10020079-1775394000-1775413800@quatrequarts.coop
SUMMARY:D4\, le club (de jeux de rôle).
DESCRIPTION:Live. Play. Di(c)e. \nQue tu sois joueur ou meneur\, néophyte ou vétéran\, des tables de jeux de rôle t’attendent chaque premier dimanche du mois chez Quatre Quarts. \nC’est gratuit\, mais l’inscription est obligatoire sur ⁦d4club.be⁩. \nBref\, viens à Jacta Est.
URL:https://quatrequarts.coop/event/d4-le-club-de-jeux-de-role/2026-04-05/
LOCATION:Quatre Quarts\, Rue Emile Henricot 61\, Court-Saint-Etienne\, 1490\, Belgique
ATTACH;FMTTYPE=image/png:https://quatrequarts.coop/wp-content/uploads/2025/10/banner_comics-e1760444496167.png
ORGANIZER;CN="Quatre Quarts":MAILTO:viedulieu@quatrequarts.coop
GEO:50.6459666;4.5632717
X-APPLE-STRUCTURED-LOCATION;VALUE=URI;X-ADDRESS=Quatre Quarts Rue Emile Henricot 61 Court-Saint-Etienne 1490 Belgique;X-APPLE-RADIUS=500;X-TITLE=Rue Emile Henricot 61:geo:4.5632717,50.6459666
END:VEVENT
BEGIN:VEVENT
DTSTART;TZID=Europe/Brussels:20260301T130000
DTEND;TZID=Europe/Brussels:20260301T183000
DTSTAMP:20260421T213504
CREATED:20251014T122219Z
LAST-MODIFIED:20260312T185633Z
UID:10020078-1772370000-1772389800@quatrequarts.coop
SUMMARY:D4\, le club (de jeux de rôle).
DESCRIPTION:Live. Play. Di(c)e. \nQue tu sois joueur ou meneur\, néophyte ou vétéran\, des tables de jeux de rôle t’attendent chaque premier dimanche du mois chez Quatre Quarts. \nC’est gratuit\, mais l’inscription est obligatoire sur ⁦d4club.be⁩. \nBref\, viens à Jacta Est.
URL:https://quatrequarts.coop/event/d4-le-club-de-jeux-de-role/2026-03-01/
LOCATION:Quatre Quarts\, Rue Emile Henricot 61\, Court-Saint-Etienne\, 1490\, Belgique
ATTACH;FMTTYPE=image/png:https://quatrequarts.coop/wp-content/uploads/2025/10/banner_comics-e1760444496167.png
ORGANIZER;CN="Quatre Quarts":MAILTO:viedulieu@quatrequarts.coop
GEO:50.6459666;4.5632717
X-APPLE-STRUCTURED-LOCATION;VALUE=URI;X-ADDRESS=Quatre Quarts Rue Emile Henricot 61 Court-Saint-Etienne 1490 Belgique;X-APPLE-RADIUS=500;X-TITLE=Rue Emile Henricot 61:geo:4.5632717,50.6459666
END:VEVENT
BEGIN:VEVENT
DTSTART;TZID=Europe/Brussels:20260201T130000
DTEND;TZID=Europe/Brussels:20260201T183000
DTSTAMP:20260421T213504
CREATED:20251014T122219Z
LAST-MODIFIED:20260312T185633Z
UID:10020077-1769950800-1769970600@quatrequarts.coop
SUMMARY:D4\, le club (de jeux de rôle).
DESCRIPTION:Live. Play. Di(c)e. \nQue tu sois joueur ou meneur\, néophyte ou vétéran\, des tables de jeux de rôle t’attendent chaque premier dimanche du mois chez Quatre Quarts. \nC’est gratuit\, mais l’inscription est obligatoire sur ⁦d4club.be⁩. \nBref\, viens à Jacta Est.
URL:https://quatrequarts.coop/event/d4-le-club-de-jeux-de-role/2026-02-01/
LOCATION:Quatre Quarts\, Rue Emile Henricot 61\, Court-Saint-Etienne\, 1490\, Belgique
ATTACH;FMTTYPE=image/png:https://quatrequarts.coop/wp-content/uploads/2025/10/banner_comics-e1760444496167.png
ORGANIZER;CN="Quatre Quarts":MAILTO:viedulieu@quatrequarts.coop
GEO:50.6459666;4.5632717
X-APPLE-STRUCTURED-LOCATION;VALUE=URI;X-ADDRESS=Quatre Quarts Rue Emile Henricot 61 Court-Saint-Etienne 1490 Belgique;X-APPLE-RADIUS=500;X-TITLE=Rue Emile Henricot 61:geo:4.5632717,50.6459666
END:VEVENT
BEGIN:VEVENT
DTSTART;TZID=Europe/Brussels:20251207T130000
DTEND;TZID=Europe/Brussels:20251207T183000
DTSTAMP:20260421T213504
CREATED:20251014T122219Z
LAST-MODIFIED:20260312T185633Z
UID:10020075-1765112400-1765132200@quatrequarts.coop
SUMMARY:D4\, le club (de jeux de rôle).
DESCRIPTION:Live. Play. Di(c)e. \nQue tu sois joueur ou meneur\, néophyte ou vétéran\, des tables de jeux de rôle t’attendent chaque premier dimanche du mois chez Quatre Quarts. \nC’est gratuit\, mais l’inscription est obligatoire sur ⁦d4club.be⁩. \nBref\, viens à Jacta Est.
URL:https://quatrequarts.coop/event/d4-le-club-de-jeux-de-role/2025-12-07/
LOCATION:Quatre Quarts\, Rue Emile Henricot 61\, Court-Saint-Etienne\, 1490\, Belgique
ATTACH;FMTTYPE=image/png:https://quatrequarts.coop/wp-content/uploads/2025/10/banner_comics-e1760444496167.png
ORGANIZER;CN="Quatre Quarts":MAILTO:viedulieu@quatrequarts.coop
GEO:50.6459666;4.5632717
X-APPLE-STRUCTURED-LOCATION;VALUE=URI;X-ADDRESS=Quatre Quarts Rue Emile Henricot 61 Court-Saint-Etienne 1490 Belgique;X-APPLE-RADIUS=500;X-TITLE=Rue Emile Henricot 61:geo:4.5632717,50.6459666
END:VEVENT
BEGIN:VEVENT
DTSTART;TZID=Europe/Brussels:20251102T130000
DTEND;TZID=Europe/Brussels:20251102T183000
DTSTAMP:20260421T213504
CREATED:20251014T122219Z
LAST-MODIFIED:20260312T185633Z
UID:10020074-1762088400-1762108200@quatrequarts.coop
SUMMARY:D4\, le club (de jeux de rôle).
DESCRIPTION:Live. Play. Di(c)e. \nQue tu sois joueur ou meneur\, néophyte ou vétéran\, des tables de jeux de rôle t’attendent chaque premier dimanche du mois chez Quatre Quarts. \nC’est gratuit\, mais l’inscription est obligatoire sur ⁦d4club.be⁩. \nBref\, viens à Jacta Est.
URL:https://quatrequarts.coop/event/d4-le-club-de-jeux-de-role/2025-11-02/
LOCATION:Quatre Quarts\, Rue Emile Henricot 61\, Court-Saint-Etienne\, 1490\, Belgique
ATTACH;FMTTYPE=image/png:https://quatrequarts.coop/wp-content/uploads/2025/10/banner_comics-e1760444496167.png
ORGANIZER;CN="Quatre Quarts":MAILTO:viedulieu@quatrequarts.coop
GEO:50.6459666;4.5632717
X-APPLE-STRUCTURED-LOCATION;VALUE=URI;X-ADDRESS=Quatre Quarts Rue Emile Henricot 61 Court-Saint-Etienne 1490 Belgique;X-APPLE-RADIUS=500;X-TITLE=Rue Emile Henricot 61:geo:4.5632717,50.6459666
END:VEVENT
END:VCALENDAR