BEGIN:VCALENDAR
VERSION:2.0
PRODID:-//Quatre Quarts - ECPv6.15.20//NONSGML v1.0//EN
CALSCALE:GREGORIAN
METHOD:PUBLISH
X-ORIGINAL-URL:https://quatrequarts.coop
X-WR-CALDESC:Évènements pour Quatre Quarts
REFRESH-INTERVAL;VALUE=DURATION:PT1H
X-Robots-Tag:noindex
X-PUBLISHED-TTL:PT1H
BEGIN:VTIMEZONE
TZID:Europe/Brussels
BEGIN:DAYLIGHT
TZOFFSETFROM:+0100
TZOFFSETTO:+0200
TZNAME:CEST
DTSTART:20250330T010000
END:DAYLIGHT
BEGIN:STANDARD
TZOFFSETFROM:+0200
TZOFFSETTO:+0100
TZNAME:CET
DTSTART:20251026T010000
END:STANDARD
BEGIN:DAYLIGHT
TZOFFSETFROM:+0100
TZOFFSETTO:+0200
TZNAME:CEST
DTSTART:20260329T010000
END:DAYLIGHT
BEGIN:STANDARD
TZOFFSETFROM:+0200
TZOFFSETTO:+0100
TZNAME:CET
DTSTART:20261025T010000
END:STANDARD
BEGIN:DAYLIGHT
TZOFFSETFROM:+0100
TZOFFSETTO:+0200
TZNAME:CEST
DTSTART:20270328T010000
END:DAYLIGHT
BEGIN:STANDARD
TZOFFSETFROM:+0200
TZOFFSETTO:+0100
TZNAME:CET
DTSTART:20271031T010000
END:STANDARD
END:VTIMEZONE
BEGIN:VEVENT
DTSTART;TZID=Europe/Brussels:20260328T140000
DTEND;TZID=Europe/Brussels:20260328T170000
DTSTAMP:20260422T024041
CREATED:20260325T083652Z
LAST-MODIFIED:20260325T083653Z
UID:10020909-1774706400-1774717200@quatrequarts.coop
SUMMARY:Annulé: Ateliers d'improvisation théâtrale pour enfants
DESCRIPTION:Quatre ateliers d’improvisation théâtrale mettant en jeu le corps\, le mouvement et le texte\, pour les enfants de 7 à 12 ans. \nLieu : salle Voutée \n28 mars – 25 avril – 30 mai – 27 juin : de 14h à 17h \nPrix : 30 euros par atelier / 110 euros pour les 4 avec une réduction de 10 euros à partir du deuxième enfant de la famille. \nInscriptions : chouaktheatre@gmail.com – 0498 50 43 85
URL:https://quatrequarts.coop/event/ateliers-dimprovisation-theatrale-pour-enfants-2/
LOCATION:Quatre Quarts\, Rue Emile Henricot 61\, Court-Saint-Etienne\, 1490\, Belgique
ATTACH;FMTTYPE=image/jpeg:https://quatrequarts.coop/wp-content/uploads/2026/02/4-ATELIERS-THEATRE-PRINTEMPS-2026-scaled-e1772110306713.jpg
ORGANIZER;CN="Quatre Quarts":MAILTO:viedulieu@quatrequarts.coop
GEO:50.6459666;4.5632717
X-APPLE-STRUCTURED-LOCATION;VALUE=URI;X-ADDRESS=Quatre Quarts Rue Emile Henricot 61 Court-Saint-Etienne 1490 Belgique;X-APPLE-RADIUS=500;X-TITLE=Rue Emile Henricot 61:geo:4.5632717,50.6459666
END:VEVENT
BEGIN:VEVENT
DTSTART;VALUE=DATE:20260216
DTEND;VALUE=DATE:20260219
DTSTAMP:20260422T024042
CREATED:20260113T115125Z
LAST-MODIFIED:20260115T120041Z
UID:10020790-1771200000-1771459199@quatrequarts.coop
SUMMARY:Stage de carnaval : Atelier de théâtre (spécial fabrication de masques)
DESCRIPTION:Ce stage s’adresse aux enfants de 7 à 12 ans curieux de découvrir une approche du théâtre par le corps et le mouvement. \nNous aborderons de façon ludique la palette des émotions\, le rapport à l’espace\, le rythme\, la musicalité du corps\, la construction de personnages\, nous improviserons des scènes sur des thèmes donnés… Et nous profiterons de cette période de carnaval pour nous consacrer à la création de masques personnalisés que nous emmènerons dans les improvisations. \nLe stage est limité à 12 participante.s\nPrix : 110 euros / réduction de 10 euros dès la deuxième inscription par famille. \nAnimatrice : Caroline Bouchoms\, actrice et autrice ayant également travaillé pendant 15 ans comme artiste partenaire d’ékla (centre scénique de Wallonie pour l’enfance et la jeunesse) dans le cadre de l’opération « Art à l’école ». \nInfos & réservations : 0498 50 43 85 – chouaktheatre@gmail.com
URL:https://quatrequarts.coop/event/atelier-de-theatre-special-fabrication-de-masques/
LOCATION:Quatre Quarts\, Rue Emile Henricot 61\, Court-Saint-Etienne\, 1490\, Belgique
CATEGORIES:Atelier
ATTACH;FMTTYPE=image/jpeg:https://quatrequarts.coop/wp-content/uploads/2026/01/Stage-Theatre-Carnaval-2025-scaled-e1768305051143.jpg
ORGANIZER;CN="Chouak Th%C3%A9%C3%A2tre":MAILTO:chouaktheatre@gmail.com
GEO:50.6459666;4.5632717
X-APPLE-STRUCTURED-LOCATION;VALUE=URI;X-ADDRESS=Quatre Quarts Rue Emile Henricot 61 Court-Saint-Etienne 1490 Belgique;X-APPLE-RADIUS=500;X-TITLE=Rue Emile Henricot 61:geo:4.5632717,50.6459666
END:VEVENT
END:VCALENDAR