BEGIN:VCALENDAR
VERSION:2.0
PRODID:-//Quatre Quarts - ECPv6.15.20//NONSGML v1.0//EN
CALSCALE:GREGORIAN
METHOD:PUBLISH
X-WR-CALNAME:Quatre Quarts
X-ORIGINAL-URL:https://quatrequarts.coop
X-WR-CALDESC:Évènements pour Quatre Quarts
REFRESH-INTERVAL;VALUE=DURATION:PT1H
X-Robots-Tag:noindex
X-PUBLISHED-TTL:PT1H
BEGIN:VTIMEZONE
TZID:Europe/Brussels
BEGIN:DAYLIGHT
TZOFFSETFROM:+0100
TZOFFSETTO:+0200
TZNAME:CEST
DTSTART:20240331T010000
END:DAYLIGHT
BEGIN:STANDARD
TZOFFSETFROM:+0200
TZOFFSETTO:+0100
TZNAME:CET
DTSTART:20241027T010000
END:STANDARD
BEGIN:DAYLIGHT
TZOFFSETFROM:+0100
TZOFFSETTO:+0200
TZNAME:CEST
DTSTART:20250330T010000
END:DAYLIGHT
BEGIN:STANDARD
TZOFFSETFROM:+0200
TZOFFSETTO:+0100
TZNAME:CET
DTSTART:20251026T010000
END:STANDARD
BEGIN:DAYLIGHT
TZOFFSETFROM:+0100
TZOFFSETTO:+0200
TZNAME:CEST
DTSTART:20260329T010000
END:DAYLIGHT
BEGIN:STANDARD
TZOFFSETFROM:+0200
TZOFFSETTO:+0100
TZNAME:CET
DTSTART:20261025T010000
END:STANDARD
END:VTIMEZONE
BEGIN:VEVENT
DTSTART;TZID=Europe/Brussels:20251212T113000
DTEND;TZID=Europe/Brussels:20251212T130000
DTSTAMP:20260422T093703
CREATED:20251204T103051Z
LAST-MODIFIED:20251204T105647Z
UID:10019952-1765539000-1765544400@quatrequarts.coop
SUMMARY:ANNULE - Café Menstruel
DESCRIPTION:Un espace pour parler du cycle sans tabou \nPour ne plus rester seule face aux difficultés ou incompréhensions du cycle ! \nLe cycle menstruel reste encore un sujet tabou dans nos sociétés. Il existe peu d’espaces pour poser ses questions\, partager ses vécus ou simplement écouter. \nLe Café Menstruel\, c’est un moment sécurisant\, chaleureux et convivial\, ouvert à toutes les personnes concernées par le cycle. Ce n’est pas un espace thérapeutique : simplement un temps pour se rencontrer\, échanger et lever le voile sur ce que l’on vit. Tous les sujets peuvent être abordés librement : premières règles\, douleurs\, SPM\, contraception\, préménopause\, ménopause… \nParlons de notre puissance : le cycle menstruel.\nBoissons disponibles sur place. \nDates et heure – 1x/mois de 11h30 à 13h (dans le salon) : mercredi 17 Septembre – vendredi 3 Octobre – mercredi 26 Novembre – vendredi 12 Décembre \nAnimé par Aude Berger\, accompagnatrice en bien-être menstruel\, passionnée du cycle et fondatrice de Vivre son cycle. \nInscription souhaitée : 0484 76 39 44\nvivresoncycle@gmail.com\nParticipation libre et en conscience \n 
URL:https://quatrequarts.coop/event/cafe-menstruel-2/
LOCATION:Quatre Quarts\, Rue Emile Henricot 61\, Court-Saint-Etienne\, 1490\, Belgique
ATTACH;FMTTYPE=image/jpeg:https://quatrequarts.coop/wp-content/uploads/2025/07/cafemenstruel-e1752745775273.jpg
ORGANIZER;CN="Aude Berger":MAILTO:vivresoncycle@gmail.com
GEO:50.6459666;4.5632717
X-APPLE-STRUCTURED-LOCATION;VALUE=URI;X-ADDRESS=Quatre Quarts Rue Emile Henricot 61 Court-Saint-Etienne 1490 Belgique;X-APPLE-RADIUS=500;X-TITLE=Rue Emile Henricot 61:geo:4.5632717,50.6459666
END:VEVENT
BEGIN:VEVENT
DTSTART;TZID=Europe/Brussels:20251126T113000
DTEND;TZID=Europe/Brussels:20251126T130000
DTSTAMP:20260422T093703
CREATED:20250717T095024Z
LAST-MODIFIED:20250717T095227Z
UID:10019951-1764156600-1764162000@quatrequarts.coop
SUMMARY:Café Menstruel
DESCRIPTION:Un espace pour parler du cycle sans tabou \nPour ne plus rester seule face aux difficultés ou incompréhensions du cycle ! \nLe cycle menstruel reste encore un sujet tabou dans nos sociétés. Il existe peu d’espaces pour poser ses questions\, partager ses vécus ou simplement écouter. \nLe Café Menstruel\, c’est un moment sécurisant\, chaleureux et convivial\, ouvert à toutes les personnes concernées par le cycle. Ce n’est pas un espace thérapeutique : simplement un temps pour se rencontrer\, échanger et lever le voile sur ce que l’on vit. Tous les sujets peuvent être abordés librement : premières règles\, douleurs\, SPM\, contraception\, préménopause\, ménopause… \nParlons de notre puissance : le cycle menstruel.\nBoissons disponibles sur place. \nDates et heure – 1x/mois de 11h30 à 13h (dans le salon) : mercredi 17 Septembre – vendredi 3 Octobre – mercredi 26 Novembre – vendredi 12 Décembre \nAnimé par Aude Berger\, accompagnatrice en bien-être menstruel\, passionnée du cycle et fondatrice de Vivre son cycle. \nInscription souhaitée : 0484 76 39 44\nvivresoncycle@gmail.com\nParticipation libre et en conscience \n 
URL:https://quatrequarts.coop/event/cafe-menstruel/2025-11-26/
LOCATION:Quatre Quarts\, Rue Emile Henricot 61\, Court-Saint-Etienne\, 1490\, Belgique
ATTACH;FMTTYPE=image/jpeg:https://quatrequarts.coop/wp-content/uploads/2025/07/cafemenstruel-e1752745775273.jpg
ORGANIZER;CN="Aude Berger":MAILTO:vivresoncycle@gmail.com
GEO:50.6459666;4.5632717
X-APPLE-STRUCTURED-LOCATION;VALUE=URI;X-ADDRESS=Quatre Quarts Rue Emile Henricot 61 Court-Saint-Etienne 1490 Belgique;X-APPLE-RADIUS=500;X-TITLE=Rue Emile Henricot 61:geo:4.5632717,50.6459666
END:VEVENT
BEGIN:VEVENT
DTSTART;TZID=Europe/Brussels:20251003T113000
DTEND;TZID=Europe/Brussels:20251003T130000
DTSTAMP:20260422T093703
CREATED:20250717T095024Z
LAST-MODIFIED:20250717T095227Z
UID:10019950-1759491000-1759496400@quatrequarts.coop
SUMMARY:Café Menstruel
DESCRIPTION:Un espace pour parler du cycle sans tabou \nPour ne plus rester seule face aux difficultés ou incompréhensions du cycle ! \nLe cycle menstruel reste encore un sujet tabou dans nos sociétés. Il existe peu d’espaces pour poser ses questions\, partager ses vécus ou simplement écouter. \nLe Café Menstruel\, c’est un moment sécurisant\, chaleureux et convivial\, ouvert à toutes les personnes concernées par le cycle. Ce n’est pas un espace thérapeutique : simplement un temps pour se rencontrer\, échanger et lever le voile sur ce que l’on vit. Tous les sujets peuvent être abordés librement : premières règles\, douleurs\, SPM\, contraception\, préménopause\, ménopause… \nParlons de notre puissance : le cycle menstruel.\nBoissons disponibles sur place. \nDates et heure – 1x/mois de 11h30 à 13h (dans le salon) : mercredi 17 Septembre – vendredi 3 Octobre – mercredi 26 Novembre – vendredi 12 Décembre \nAnimé par Aude Berger\, accompagnatrice en bien-être menstruel\, passionnée du cycle et fondatrice de Vivre son cycle. \nInscription souhaitée : 0484 76 39 44\nvivresoncycle@gmail.com\nParticipation libre et en conscience \n 
URL:https://quatrequarts.coop/event/cafe-menstruel/2025-10-03/
LOCATION:Quatre Quarts\, Rue Emile Henricot 61\, Court-Saint-Etienne\, 1490\, Belgique
ATTACH;FMTTYPE=image/jpeg:https://quatrequarts.coop/wp-content/uploads/2025/07/cafemenstruel-e1752745775273.jpg
ORGANIZER;CN="Aude Berger":MAILTO:vivresoncycle@gmail.com
GEO:50.6459666;4.5632717
X-APPLE-STRUCTURED-LOCATION;VALUE=URI;X-ADDRESS=Quatre Quarts Rue Emile Henricot 61 Court-Saint-Etienne 1490 Belgique;X-APPLE-RADIUS=500;X-TITLE=Rue Emile Henricot 61:geo:4.5632717,50.6459666
END:VEVENT
BEGIN:VEVENT
DTSTART;TZID=Europe/Brussels:20250917T113000
DTEND;TZID=Europe/Brussels:20250917T130000
DTSTAMP:20260422T093703
CREATED:20250717T095024Z
LAST-MODIFIED:20250717T095227Z
UID:10019949-1758108600-1758114000@quatrequarts.coop
SUMMARY:Café Menstruel
DESCRIPTION:Un espace pour parler du cycle sans tabou \nPour ne plus rester seule face aux difficultés ou incompréhensions du cycle ! \nLe cycle menstruel reste encore un sujet tabou dans nos sociétés. Il existe peu d’espaces pour poser ses questions\, partager ses vécus ou simplement écouter. \nLe Café Menstruel\, c’est un moment sécurisant\, chaleureux et convivial\, ouvert à toutes les personnes concernées par le cycle. Ce n’est pas un espace thérapeutique : simplement un temps pour se rencontrer\, échanger et lever le voile sur ce que l’on vit. Tous les sujets peuvent être abordés librement : premières règles\, douleurs\, SPM\, contraception\, préménopause\, ménopause… \nParlons de notre puissance : le cycle menstruel.\nBoissons disponibles sur place. \nDates et heure – 1x/mois de 11h30 à 13h (dans le salon) : mercredi 17 Septembre – vendredi 3 Octobre – mercredi 26 Novembre – vendredi 12 Décembre \nAnimé par Aude Berger\, accompagnatrice en bien-être menstruel\, passionnée du cycle et fondatrice de Vivre son cycle. \nInscription souhaitée : 0484 76 39 44\nvivresoncycle@gmail.com\nParticipation libre et en conscience \n 
URL:https://quatrequarts.coop/event/cafe-menstruel/2025-09-17/
LOCATION:Quatre Quarts\, Rue Emile Henricot 61\, Court-Saint-Etienne\, 1490\, Belgique
ATTACH;FMTTYPE=image/jpeg:https://quatrequarts.coop/wp-content/uploads/2025/07/cafemenstruel-e1752745775273.jpg
ORGANIZER;CN="Aude Berger":MAILTO:vivresoncycle@gmail.com
GEO:50.6459666;4.5632717
X-APPLE-STRUCTURED-LOCATION;VALUE=URI;X-ADDRESS=Quatre Quarts Rue Emile Henricot 61 Court-Saint-Etienne 1490 Belgique;X-APPLE-RADIUS=500;X-TITLE=Rue Emile Henricot 61:geo:4.5632717,50.6459666
END:VEVENT
END:VCALENDAR