BEGIN:VCALENDAR
VERSION:2.0
PRODID:-//Quatre Quarts - ECPv6.15.20//NONSGML v1.0//EN
CALSCALE:GREGORIAN
METHOD:PUBLISH
X-WR-CALNAME:Quatre Quarts
X-ORIGINAL-URL:https://quatrequarts.coop
X-WR-CALDESC:Évènements pour Quatre Quarts
REFRESH-INTERVAL;VALUE=DURATION:PT1H
X-Robots-Tag:noindex
X-PUBLISHED-TTL:PT1H
BEGIN:VTIMEZONE
TZID:Europe/Brussels
BEGIN:DAYLIGHT
TZOFFSETFROM:+0100
TZOFFSETTO:+0200
TZNAME:CEST
DTSTART:20250330T010000
END:DAYLIGHT
BEGIN:STANDARD
TZOFFSETFROM:+0200
TZOFFSETTO:+0100
TZNAME:CET
DTSTART:20251026T010000
END:STANDARD
BEGIN:DAYLIGHT
TZOFFSETFROM:+0100
TZOFFSETTO:+0200
TZNAME:CEST
DTSTART:20260329T010000
END:DAYLIGHT
BEGIN:STANDARD
TZOFFSETFROM:+0200
TZOFFSETTO:+0100
TZNAME:CET
DTSTART:20261025T010000
END:STANDARD
BEGIN:DAYLIGHT
TZOFFSETFROM:+0100
TZOFFSETTO:+0200
TZNAME:CEST
DTSTART:20270328T010000
END:DAYLIGHT
BEGIN:STANDARD
TZOFFSETFROM:+0200
TZOFFSETTO:+0100
TZNAME:CET
DTSTART:20271031T010000
END:STANDARD
END:VTIMEZONE
BEGIN:VEVENT
DTSTART;TZID=Europe/Brussels:20260516T140000
DTEND;TZID=Europe/Brussels:20260516T153000
DTSTAMP:20260422T005434
CREATED:20251120T160840Z
LAST-MODIFIED:20251128T151459Z
UID:10020703-1778940000-1778945400@quatrequarts.coop
SUMMARY:Ra Conte - Exploration artistique Enfants
DESCRIPTION:Atelier destiné aux enfants de 3 à 10 ans. \nAprès la lecture d’un livre jeunesse\, les enfants s’en inspirent pour créer leurs propres histoires. \nUn moment pour inventer\, explorer des techniques et rigoler ! \nTechniques utilisées : dessin\, collage\, montage\, peinture et reliure. \n  \nPas de niveau scolaire requis. Les « différences » sont les bienvenues. \nAnimés par Malvina Reyns\, animatrice artistique spécialisée en art thérapie \nÀ apporter : tablier et gourde \nSalle : salon \n Dates des ateliers:\n17/01\, 14/02\, 14/03\, 18/04\, 16/05 et 13/06 \nDates\, infos et inscriptions : https://swoen.be/agenda/
URL:https://quatrequarts.coop/event/ra-conte-exploration-artistique-enfants-4/2026-05-16/
LOCATION:Quatre Quarts\, Rue Emile Henricot 61\, Court-Saint-Etienne\, 1490\, Belgique
ATTACH;FMTTYPE=image/jpeg:https://quatrequarts.coop/wp-content/uploads/2025/11/4QuartsEnfants2-e1763654669149.jpeg
ORGANIZER;CN="Malvina Reyns (Swoen.be)":MAILTO:malvina@swoen.be
GEO:50.6459666;4.5632717
X-APPLE-STRUCTURED-LOCATION;VALUE=URI;X-ADDRESS=Quatre Quarts Rue Emile Henricot 61 Court-Saint-Etienne 1490 Belgique;X-APPLE-RADIUS=500;X-TITLE=Rue Emile Henricot 61:geo:4.5632717,50.6459666
END:VEVENT
BEGIN:VEVENT
DTSTART;TZID=Europe/Brussels:20260613T140000
DTEND;TZID=Europe/Brussels:20260613T153000
DTSTAMP:20260422T005434
CREATED:20251120T160840Z
LAST-MODIFIED:20251128T151459Z
UID:10020704-1781359200-1781364600@quatrequarts.coop
SUMMARY:Ra Conte - Exploration artistique Enfants
DESCRIPTION:Atelier destiné aux enfants de 3 à 10 ans. \nAprès la lecture d’un livre jeunesse\, les enfants s’en inspirent pour créer leurs propres histoires. \nUn moment pour inventer\, explorer des techniques et rigoler ! \nTechniques utilisées : dessin\, collage\, montage\, peinture et reliure. \n  \nPas de niveau scolaire requis. Les « différences » sont les bienvenues. \nAnimés par Malvina Reyns\, animatrice artistique spécialisée en art thérapie \nÀ apporter : tablier et gourde \nSalle : salon \n Dates des ateliers:\n17/01\, 14/02\, 14/03\, 18/04\, 16/05 et 13/06 \nDates\, infos et inscriptions : https://swoen.be/agenda/
URL:https://quatrequarts.coop/event/ra-conte-exploration-artistique-enfants-4/2026-06-13/
LOCATION:Quatre Quarts\, Rue Emile Henricot 61\, Court-Saint-Etienne\, 1490\, Belgique
ATTACH;FMTTYPE=image/jpeg:https://quatrequarts.coop/wp-content/uploads/2025/11/4QuartsEnfants2-e1763654669149.jpeg
ORGANIZER;CN="Malvina Reyns (Swoen.be)":MAILTO:malvina@swoen.be
GEO:50.6459666;4.5632717
X-APPLE-STRUCTURED-LOCATION;VALUE=URI;X-ADDRESS=Quatre Quarts Rue Emile Henricot 61 Court-Saint-Etienne 1490 Belgique;X-APPLE-RADIUS=500;X-TITLE=Rue Emile Henricot 61:geo:4.5632717,50.6459666
END:VEVENT
END:VCALENDAR