BEGIN:VCALENDAR
VERSION:2.0
PRODID:-//Quatre Quarts - ECPv6.15.20//NONSGML v1.0//EN
CALSCALE:GREGORIAN
METHOD:PUBLISH
X-WR-CALNAME:Quatre Quarts
X-ORIGINAL-URL:https://quatrequarts.coop
X-WR-CALDESC:Évènements pour Quatre Quarts
REFRESH-INTERVAL;VALUE=DURATION:PT1H
X-Robots-Tag:noindex
X-PUBLISHED-TTL:PT1H
BEGIN:VTIMEZONE
TZID:Europe/Brussels
BEGIN:DAYLIGHT
TZOFFSETFROM:+0100
TZOFFSETTO:+0200
TZNAME:CEST
DTSTART:20260329T010000
END:DAYLIGHT
BEGIN:STANDARD
TZOFFSETFROM:+0200
TZOFFSETTO:+0100
TZNAME:CET
DTSTART:20261025T010000
END:STANDARD
BEGIN:DAYLIGHT
TZOFFSETFROM:+0100
TZOFFSETTO:+0200
TZNAME:CEST
DTSTART:20270328T010000
END:DAYLIGHT
BEGIN:STANDARD
TZOFFSETFROM:+0200
TZOFFSETTO:+0100
TZNAME:CET
DTSTART:20271031T010000
END:STANDARD
BEGIN:DAYLIGHT
TZOFFSETFROM:+0100
TZOFFSETTO:+0200
TZNAME:CEST
DTSTART:20280326T010000
END:DAYLIGHT
BEGIN:STANDARD
TZOFFSETFROM:+0200
TZOFFSETTO:+0100
TZNAME:CET
DTSTART:20281029T010000
END:STANDARD
END:VTIMEZONE
BEGIN:VEVENT
DTSTART;TZID=Europe/Brussels:20270903T200000
DTEND;TZID=Europe/Brussels:20270903T230000
DTSTAMP:20260423T062051
CREATED:20251106T120819Z
LAST-MODIFIED:20260324T101746Z
UID:10020265-1820001600-1820012400@quatrequarts.coop
SUMMARY:JAM !
DESCRIPTION:Jam Session chez Quatre Quarts chaque premier vendredi du mois de 20h à 23h.\nAmenez vos instruments\, percussions\, ou juste votre voix. Timides ou extravertis\, venez jammer avec nous ! C’est une chouette soirée mensuelle où rencontrer d’autres musiciens. Les styles sont variés : Blues\, Rock\, Jazz\, Pop\, Chanson française\, anglaise\, etc.\nImpros et covers seront au programme pour tous\, musiciens débutants\, pratiquants assidus\, joueurs de cuillères ou juste spectateurs.\nEntrée gratuite\, bar et cantine ouverts.
URL:https://quatrequarts.coop/event/jam-2-5/2027-09-03/
ATTACH;FMTTYPE=image/jpeg:https://quatrequarts.coop/wp-content/uploads/2022/09/Jam-3-mars.jpeg
END:VEVENT
BEGIN:VEVENT
DTSTART;TZID=Europe/Brussels:20270905T130000
DTEND;TZID=Europe/Brussels:20270905T183000
DTSTAMP:20260423T062051
CREATED:20251014T122219Z
LAST-MODIFIED:20260312T185633Z
UID:10020096-1820149200-1820169000@quatrequarts.coop
SUMMARY:D4\, le club (de jeux de rôle).
DESCRIPTION:Live. Play. Di(c)e. \nQue tu sois joueur ou meneur\, néophyte ou vétéran\, des tables de jeux de rôle t’attendent chaque premier dimanche du mois chez Quatre Quarts. \nC’est gratuit\, mais l’inscription est obligatoire sur ⁦d4club.be⁩. \nBref\, viens à Jacta Est.
URL:https://quatrequarts.coop/event/d4-le-club-de-jeux-de-role/2027-09-05/
LOCATION:Quatre Quarts\, Rue Emile Henricot 61\, Court-Saint-Etienne\, 1490\, Belgique
ATTACH;FMTTYPE=image/png:https://quatrequarts.coop/wp-content/uploads/2025/10/banner_comics-e1760444496167.png
ORGANIZER;CN="Quatre Quarts":MAILTO:viedulieu@quatrequarts.coop
GEO:50.6459666;4.5632717
X-APPLE-STRUCTURED-LOCATION;VALUE=URI;X-ADDRESS=Quatre Quarts Rue Emile Henricot 61 Court-Saint-Etienne 1490 Belgique;X-APPLE-RADIUS=500;X-TITLE=Rue Emile Henricot 61:geo:4.5632717,50.6459666
END:VEVENT
BEGIN:VEVENT
DTSTART;TZID=Europe/Brussels:20270907T100000
DTEND;TZID=Europe/Brussels:20270907T120000
DTSTAMP:20260423T062051
CREATED:20251107T093216Z
LAST-MODIFIED:20260324T110151Z
UID:10020399-1820311200-1820318400@quatrequarts.coop
SUMMARY:Permanence des Écrivains publics
DESCRIPTION:Développé par Présence et Action culturelles\, l’Espace Écrivain public s’appuie sur les valeurs de l’éducation permanente et sur des méthodes d’écoute active afin de pouvoir : \n\napporter un soutien gratuit et confidentiel à la rédaction de courriers administratifs ou privés à des publics aux demandes diversifiées\n\ntransmettre les informations permettant aux bénéficiaires de devenir plus autonomes dans leurs démarches\n\ndévelopper des actions collectives à partir des situations émergeant dans les permanences (ateliers d’écriture\, lectures à voix haute\, recueils de récits de vie\, de mémoires collectives…)\n\n \nProposé dans le cadre du projet “Tisser son chemin”
URL:https://quatrequarts.coop/event/permanence-ecrivain-public-6/2027-09-07/
LOCATION:Quatre Quarts\, Rue Emile Henricot 61\, Court-Saint-Etienne\, 1490\, Belgique
CATEGORIES:Atelier,Tiers-Lieu,Tisser son chemin
ATTACH;FMTTYPE=image/jpeg:https://quatrequarts.coop/wp-content/uploads/2024/02/logo-ecrivain-publicpetit.jpg
GEO:50.6459666;4.5632717
X-APPLE-STRUCTURED-LOCATION;VALUE=URI;X-ADDRESS=Quatre Quarts Rue Emile Henricot 61 Court-Saint-Etienne 1490 Belgique;X-APPLE-RADIUS=500;X-TITLE=Rue Emile Henricot 61:geo:4.5632717,50.6459666
END:VEVENT
BEGIN:VEVENT
DTSTART;TZID=Europe/Brussels:20270907T183000
DTEND;TZID=Europe/Brussels:20270907T210000
DTSTAMP:20260423T062051
CREATED:20260305T095321Z
LAST-MODIFIED:20260324T110343Z
UID:10013892-1820341800-1820350800@quatrequarts.coop
SUMMARY:Soiréé Talapatat !
DESCRIPTION:Tu as envie d’une soirée agréable et abordable ? T’es dans la purée (ou pas) pour le moment ? Viens\, tu auras la patate en sortant ! Quatre Quarts ouvre les mardis soirs avec un plat du jour à 5€… (possibilité de payer 10\, 15\, 20€ et d’ainsi offrir des plats solidaires). \nSi t’as la patate et envie d’aller plus loin\, l’idée de ces mardis « auberge collective » est aussi de cuisiner et servir ensemble : tu peux t’inscrire pour venir aider en nous envoyant un mail la semaine précédente.\nPour manger\, il suffit de venir ! Nous ne prenons pas de réservation à l’avance… \n  \nImpulsé grâce au soutien de la Wallonie (SPW-ARNE) et du Plan de relance de la Wallonie\, dans le cadre de l’appel à projets « Tiers-lieux ruraux ».
URL:https://quatrequarts.coop/event/soirees-talapatat-2-3/2027-09-07/
LOCATION:Quatre Quarts\, Rue Emile Henricot 61\, Court-Saint-Etienne\, 1490\, Belgique
CATEGORIES:Cuisine,Echange
ATTACH;FMTTYPE=image/png:https://quatrequarts.coop/wp-content/uploads/2024/05/TALAPATAT-1-e1763389513784.png
ORGANIZER;CN="Quatre Quarts":MAILTO:viedulieu@quatrequarts.coop
GEO:50.6459666;4.5632717
X-APPLE-STRUCTURED-LOCATION;VALUE=URI;X-ADDRESS=Quatre Quarts Rue Emile Henricot 61 Court-Saint-Etienne 1490 Belgique;X-APPLE-RADIUS=500;X-TITLE=Rue Emile Henricot 61:geo:4.5632717,50.6459666
END:VEVENT
BEGIN:VEVENT
DTSTART;TZID=Europe/Brussels:20270914T100000
DTEND;TZID=Europe/Brussels:20270914T120000
DTSTAMP:20260423T062051
CREATED:20251107T093216Z
LAST-MODIFIED:20260324T110151Z
UID:10020400-1820916000-1820923200@quatrequarts.coop
SUMMARY:Permanence des Écrivains publics
DESCRIPTION:Développé par Présence et Action culturelles\, l’Espace Écrivain public s’appuie sur les valeurs de l’éducation permanente et sur des méthodes d’écoute active afin de pouvoir : \n\napporter un soutien gratuit et confidentiel à la rédaction de courriers administratifs ou privés à des publics aux demandes diversifiées\n\ntransmettre les informations permettant aux bénéficiaires de devenir plus autonomes dans leurs démarches\n\ndévelopper des actions collectives à partir des situations émergeant dans les permanences (ateliers d’écriture\, lectures à voix haute\, recueils de récits de vie\, de mémoires collectives…)\n\n \nProposé dans le cadre du projet “Tisser son chemin”
URL:https://quatrequarts.coop/event/permanence-ecrivain-public-6/2027-09-14/
LOCATION:Quatre Quarts\, Rue Emile Henricot 61\, Court-Saint-Etienne\, 1490\, Belgique
CATEGORIES:Atelier,Tiers-Lieu,Tisser son chemin
ATTACH;FMTTYPE=image/jpeg:https://quatrequarts.coop/wp-content/uploads/2024/02/logo-ecrivain-publicpetit.jpg
GEO:50.6459666;4.5632717
X-APPLE-STRUCTURED-LOCATION;VALUE=URI;X-ADDRESS=Quatre Quarts Rue Emile Henricot 61 Court-Saint-Etienne 1490 Belgique;X-APPLE-RADIUS=500;X-TITLE=Rue Emile Henricot 61:geo:4.5632717,50.6459666
END:VEVENT
BEGIN:VEVENT
DTSTART;TZID=Europe/Brussels:20270914T183000
DTEND;TZID=Europe/Brussels:20270914T210000
DTSTAMP:20260423T062051
CREATED:20260305T095321Z
LAST-MODIFIED:20260324T110343Z
UID:10013893-1820946600-1820955600@quatrequarts.coop
SUMMARY:Soiréé Talapatat !
DESCRIPTION:Tu as envie d’une soirée agréable et abordable ? T’es dans la purée (ou pas) pour le moment ? Viens\, tu auras la patate en sortant ! Quatre Quarts ouvre les mardis soirs avec un plat du jour à 5€… (possibilité de payer 10\, 15\, 20€ et d’ainsi offrir des plats solidaires). \nSi t’as la patate et envie d’aller plus loin\, l’idée de ces mardis « auberge collective » est aussi de cuisiner et servir ensemble : tu peux t’inscrire pour venir aider en nous envoyant un mail la semaine précédente.\nPour manger\, il suffit de venir ! Nous ne prenons pas de réservation à l’avance… \n  \nImpulsé grâce au soutien de la Wallonie (SPW-ARNE) et du Plan de relance de la Wallonie\, dans le cadre de l’appel à projets « Tiers-lieux ruraux ».
URL:https://quatrequarts.coop/event/soirees-talapatat-2-3/2027-09-14/
LOCATION:Quatre Quarts\, Rue Emile Henricot 61\, Court-Saint-Etienne\, 1490\, Belgique
CATEGORIES:Cuisine,Echange
ATTACH;FMTTYPE=image/png:https://quatrequarts.coop/wp-content/uploads/2024/05/TALAPATAT-1-e1763389513784.png
ORGANIZER;CN="Quatre Quarts":MAILTO:viedulieu@quatrequarts.coop
GEO:50.6459666;4.5632717
X-APPLE-STRUCTURED-LOCATION;VALUE=URI;X-ADDRESS=Quatre Quarts Rue Emile Henricot 61 Court-Saint-Etienne 1490 Belgique;X-APPLE-RADIUS=500;X-TITLE=Rue Emile Henricot 61:geo:4.5632717,50.6459666
END:VEVENT
BEGIN:VEVENT
DTSTART;TZID=Europe/Brussels:20270921T100000
DTEND;TZID=Europe/Brussels:20270921T120000
DTSTAMP:20260423T062051
CREATED:20251107T093216Z
LAST-MODIFIED:20260324T110151Z
UID:10020401-1821520800-1821528000@quatrequarts.coop
SUMMARY:Permanence des Écrivains publics
DESCRIPTION:Développé par Présence et Action culturelles\, l’Espace Écrivain public s’appuie sur les valeurs de l’éducation permanente et sur des méthodes d’écoute active afin de pouvoir : \n\napporter un soutien gratuit et confidentiel à la rédaction de courriers administratifs ou privés à des publics aux demandes diversifiées\n\ntransmettre les informations permettant aux bénéficiaires de devenir plus autonomes dans leurs démarches\n\ndévelopper des actions collectives à partir des situations émergeant dans les permanences (ateliers d’écriture\, lectures à voix haute\, recueils de récits de vie\, de mémoires collectives…)\n\n \nProposé dans le cadre du projet “Tisser son chemin”
URL:https://quatrequarts.coop/event/permanence-ecrivain-public-6/2027-09-21/
LOCATION:Quatre Quarts\, Rue Emile Henricot 61\, Court-Saint-Etienne\, 1490\, Belgique
CATEGORIES:Atelier,Tiers-Lieu,Tisser son chemin
ATTACH;FMTTYPE=image/jpeg:https://quatrequarts.coop/wp-content/uploads/2024/02/logo-ecrivain-publicpetit.jpg
GEO:50.6459666;4.5632717
X-APPLE-STRUCTURED-LOCATION;VALUE=URI;X-ADDRESS=Quatre Quarts Rue Emile Henricot 61 Court-Saint-Etienne 1490 Belgique;X-APPLE-RADIUS=500;X-TITLE=Rue Emile Henricot 61:geo:4.5632717,50.6459666
END:VEVENT
BEGIN:VEVENT
DTSTART;TZID=Europe/Brussels:20270921T183000
DTEND;TZID=Europe/Brussels:20270921T210000
DTSTAMP:20260423T062051
CREATED:20260305T095321Z
LAST-MODIFIED:20260324T110343Z
UID:10013894-1821551400-1821560400@quatrequarts.coop
SUMMARY:Soiréé Talapatat !
DESCRIPTION:Tu as envie d’une soirée agréable et abordable ? T’es dans la purée (ou pas) pour le moment ? Viens\, tu auras la patate en sortant ! Quatre Quarts ouvre les mardis soirs avec un plat du jour à 5€… (possibilité de payer 10\, 15\, 20€ et d’ainsi offrir des plats solidaires). \nSi t’as la patate et envie d’aller plus loin\, l’idée de ces mardis « auberge collective » est aussi de cuisiner et servir ensemble : tu peux t’inscrire pour venir aider en nous envoyant un mail la semaine précédente.\nPour manger\, il suffit de venir ! Nous ne prenons pas de réservation à l’avance… \n  \nImpulsé grâce au soutien de la Wallonie (SPW-ARNE) et du Plan de relance de la Wallonie\, dans le cadre de l’appel à projets « Tiers-lieux ruraux ».
URL:https://quatrequarts.coop/event/soirees-talapatat-2-3/2027-09-21/
LOCATION:Quatre Quarts\, Rue Emile Henricot 61\, Court-Saint-Etienne\, 1490\, Belgique
CATEGORIES:Cuisine,Echange
ATTACH;FMTTYPE=image/png:https://quatrequarts.coop/wp-content/uploads/2024/05/TALAPATAT-1-e1763389513784.png
ORGANIZER;CN="Quatre Quarts":MAILTO:viedulieu@quatrequarts.coop
GEO:50.6459666;4.5632717
X-APPLE-STRUCTURED-LOCATION;VALUE=URI;X-ADDRESS=Quatre Quarts Rue Emile Henricot 61 Court-Saint-Etienne 1490 Belgique;X-APPLE-RADIUS=500;X-TITLE=Rue Emile Henricot 61:geo:4.5632717,50.6459666
END:VEVENT
BEGIN:VEVENT
DTSTART;TZID=Europe/Brussels:20270925T140000
DTEND;TZID=Europe/Brussels:20270925T170000
DTSTAMP:20260423T062051
CREATED:20260226T125109Z
LAST-MODIFIED:20260312T183927Z
UID:10020928-1821880800-1821891600@quatrequarts.coop
SUMMARY:Ateliers d'improvisation théâtrale pour enfants
DESCRIPTION:Quatre ateliers d’improvisation théâtrale mettant en jeu le corps\, le mouvement et le texte\, pour les enfants de 7 à 12 ans. \nLieu : salle Voutée \n28 mars – 25 avril – 30 mai – 27 juin : de 14h à 17h \nPrix : 30 euros par atelier / 110 euros pour les 4 avec une réduction de 10 euros à partir du deuxième enfant de la famille. \nInscriptions : chouaktheatre@gmail.com – 0498 50 43 85
URL:https://quatrequarts.coop/event/ateliers-dimprovisation-theatrale-pour-enfants/2027-09-25/
LOCATION:Quatre Quarts\, Rue Emile Henricot 61\, Court-Saint-Etienne\, 1490\, Belgique
ATTACH;FMTTYPE=image/jpeg:https://quatrequarts.coop/wp-content/uploads/2026/02/4-ATELIERS-THEATRE-PRINTEMPS-2026-scaled-e1772110306713.jpg
ORGANIZER;CN="Quatre Quarts":MAILTO:viedulieu@quatrequarts.coop
GEO:50.6459666;4.5632717
X-APPLE-STRUCTURED-LOCATION;VALUE=URI;X-ADDRESS=Quatre Quarts Rue Emile Henricot 61 Court-Saint-Etienne 1490 Belgique;X-APPLE-RADIUS=500;X-TITLE=Rue Emile Henricot 61:geo:4.5632717,50.6459666
END:VEVENT
BEGIN:VEVENT
DTSTART;TZID=Europe/Brussels:20270928T100000
DTEND;TZID=Europe/Brussels:20270928T120000
DTSTAMP:20260423T062051
CREATED:20251107T093216Z
LAST-MODIFIED:20260324T110151Z
UID:10020402-1822125600-1822132800@quatrequarts.coop
SUMMARY:Permanence des Écrivains publics
DESCRIPTION:Développé par Présence et Action culturelles\, l’Espace Écrivain public s’appuie sur les valeurs de l’éducation permanente et sur des méthodes d’écoute active afin de pouvoir : \n\napporter un soutien gratuit et confidentiel à la rédaction de courriers administratifs ou privés à des publics aux demandes diversifiées\n\ntransmettre les informations permettant aux bénéficiaires de devenir plus autonomes dans leurs démarches\n\ndévelopper des actions collectives à partir des situations émergeant dans les permanences (ateliers d’écriture\, lectures à voix haute\, recueils de récits de vie\, de mémoires collectives…)\n\n \nProposé dans le cadre du projet “Tisser son chemin”
URL:https://quatrequarts.coop/event/permanence-ecrivain-public-6/2027-09-28/
LOCATION:Quatre Quarts\, Rue Emile Henricot 61\, Court-Saint-Etienne\, 1490\, Belgique
CATEGORIES:Atelier,Tiers-Lieu,Tisser son chemin
ATTACH;FMTTYPE=image/jpeg:https://quatrequarts.coop/wp-content/uploads/2024/02/logo-ecrivain-publicpetit.jpg
GEO:50.6459666;4.5632717
X-APPLE-STRUCTURED-LOCATION;VALUE=URI;X-ADDRESS=Quatre Quarts Rue Emile Henricot 61 Court-Saint-Etienne 1490 Belgique;X-APPLE-RADIUS=500;X-TITLE=Rue Emile Henricot 61:geo:4.5632717,50.6459666
END:VEVENT
BEGIN:VEVENT
DTSTART;TZID=Europe/Brussels:20270928T183000
DTEND;TZID=Europe/Brussels:20270928T210000
DTSTAMP:20260423T062051
CREATED:20260305T095321Z
LAST-MODIFIED:20260324T110343Z
UID:10013895-1822156200-1822165200@quatrequarts.coop
SUMMARY:Soiréé Talapatat !
DESCRIPTION:Tu as envie d’une soirée agréable et abordable ? T’es dans la purée (ou pas) pour le moment ? Viens\, tu auras la patate en sortant ! Quatre Quarts ouvre les mardis soirs avec un plat du jour à 5€… (possibilité de payer 10\, 15\, 20€ et d’ainsi offrir des plats solidaires). \nSi t’as la patate et envie d’aller plus loin\, l’idée de ces mardis « auberge collective » est aussi de cuisiner et servir ensemble : tu peux t’inscrire pour venir aider en nous envoyant un mail la semaine précédente.\nPour manger\, il suffit de venir ! Nous ne prenons pas de réservation à l’avance… \n  \nImpulsé grâce au soutien de la Wallonie (SPW-ARNE) et du Plan de relance de la Wallonie\, dans le cadre de l’appel à projets « Tiers-lieux ruraux ».
URL:https://quatrequarts.coop/event/soirees-talapatat-2-3/2027-09-28/
LOCATION:Quatre Quarts\, Rue Emile Henricot 61\, Court-Saint-Etienne\, 1490\, Belgique
CATEGORIES:Cuisine,Echange
ATTACH;FMTTYPE=image/png:https://quatrequarts.coop/wp-content/uploads/2024/05/TALAPATAT-1-e1763389513784.png
ORGANIZER;CN="Quatre Quarts":MAILTO:viedulieu@quatrequarts.coop
GEO:50.6459666;4.5632717
X-APPLE-STRUCTURED-LOCATION;VALUE=URI;X-ADDRESS=Quatre Quarts Rue Emile Henricot 61 Court-Saint-Etienne 1490 Belgique;X-APPLE-RADIUS=500;X-TITLE=Rue Emile Henricot 61:geo:4.5632717,50.6459666
END:VEVENT
END:VCALENDAR