BEGIN:VCALENDAR
VERSION:2.0
PRODID:-//Quatre Quarts - ECPv6.15.20//NONSGML v1.0//EN
CALSCALE:GREGORIAN
METHOD:PUBLISH
X-ORIGINAL-URL:https://quatrequarts.coop
X-WR-CALDESC:Évènements pour Quatre Quarts
REFRESH-INTERVAL;VALUE=DURATION:PT1H
X-Robots-Tag:noindex
X-PUBLISHED-TTL:PT1H
BEGIN:VTIMEZONE
TZID:Europe/Brussels
BEGIN:DAYLIGHT
TZOFFSETFROM:+0100
TZOFFSETTO:+0200
TZNAME:CEST
DTSTART:20250330T010000
END:DAYLIGHT
BEGIN:STANDARD
TZOFFSETFROM:+0200
TZOFFSETTO:+0100
TZNAME:CET
DTSTART:20251026T010000
END:STANDARD
BEGIN:DAYLIGHT
TZOFFSETFROM:+0100
TZOFFSETTO:+0200
TZNAME:CEST
DTSTART:20260329T010000
END:DAYLIGHT
BEGIN:STANDARD
TZOFFSETFROM:+0200
TZOFFSETTO:+0100
TZNAME:CET
DTSTART:20261025T010000
END:STANDARD
BEGIN:DAYLIGHT
TZOFFSETFROM:+0100
TZOFFSETTO:+0200
TZNAME:CEST
DTSTART:20270328T010000
END:DAYLIGHT
BEGIN:STANDARD
TZOFFSETFROM:+0200
TZOFFSETTO:+0100
TZNAME:CET
DTSTART:20271031T010000
END:STANDARD
END:VTIMEZONE
BEGIN:VEVENT
DTSTART;TZID=Europe/Brussels:20260701T130000
DTEND;TZID=Europe/Brussels:20260701T150000
DTSTAMP:20260422T021908
CREATED:20250702T113147Z
LAST-MODIFIED:20250702T113147Z
UID:10019594-1782910800-1782918000@quatrequarts.coop
SUMMARY:Atelier d'écriture créative
DESCRIPTION:Présentations : chaque atelier débute par une présentation des participants (et de leurs attentes) et de l’animateur\nRelaxation/méditation : on enchaîne avec une relaxation/méditation en musique pendant 5 minutes. Cela peut être l’occasion de déjà partager des paroles et de créer une poésie commune.\n2 ou 3 exercices d’échauffement\, au choix (certains sont collectifs)  : écriture automatique\, acrostiche\, lipogramme\, tautogramme\, pangramme\, figures de style (comparaison\, métaphore\, métonymie\, hyperbole… )\, vers rophalique\, le portrait chinois\, description\, cadavre exquis\, texte lacunaire\, texte fendu\, exercices de style\, calembour\, contrepèterie…\n1 ou 2 exercices d’écriture\, au choix ou combinés : poésie en prose\, poésie en vers\, chanson\, mini nouvelle\, conte\, écriture sous contraintes\, dialogue\, pastiche\, parodie\, écriture basée sur une image…\n\nPrix : 20€/atelier \nContact et inscription : Julien – lecomtefleurette@gmail.com – 0477 648 232
URL:https://quatrequarts.coop/event/atelier-decriture-creative-3/2026-07-01/
LOCATION:Quatre Quarts\, Rue Emile Henricot 61\, Court-Saint-Etienne\, 1490\, Belgique
CATEGORIES:Atelier
ATTACH;FMTTYPE=image/jpeg:https://quatrequarts.coop/wp-content/uploads/2024/07/ateliersecriture.jpg
ORGANIZER;CN="Julien":MAILTO:lecomtefleurette@gmail.com
GEO:50.6459666;4.5632717
X-APPLE-STRUCTURED-LOCATION;VALUE=URI;X-ADDRESS=Quatre Quarts Rue Emile Henricot 61 Court-Saint-Etienne 1490 Belgique;X-APPLE-RADIUS=500;X-TITLE=Rue Emile Henricot 61:geo:4.5632717,50.6459666
END:VEVENT
BEGIN:VEVENT
DTSTART;TZID=Europe/Brussels:20260702T093000
DTEND;TZID=Europe/Brussels:20260702T113000
DTSTAMP:20260422T021908
CREATED:20260317T090807Z
LAST-MODIFIED:20260324T105145Z
UID:10021029-1782984600-1782991800@quatrequarts.coop
SUMMARY:Matinée Dessin
DESCRIPTION:Envie de dessiner ? \nSi l’expérience vous tente\, rendez-vous tous les jeudis à 09h30. \nPrendre du papier\, un marqueur\, un pastel sec… \nPAF : 15€ par séance \nPour infos : Jean Verly 0472 24 57 88
URL:https://quatrequarts.coop/event/matinee-dessin-4-3-2-2/2026-07-02/
CATEGORIES:Cours
ATTACH;FMTTYPE=image/png:https://quatrequarts.coop/wp-content/uploads/2026/01/matinee-dessin-e1773738462494.png
END:VEVENT
BEGIN:VEVENT
DTSTART;TZID=Europe/Brussels:20260702T130000
DTEND;TZID=Europe/Brussels:20260702T150000
DTSTAMP:20260422T021908
CREATED:20241003T110210Z
LAST-MODIFIED:20260324T105240Z
UID:10019295-1782997200-1783004400@quatrequarts.coop
SUMMARY:A vos aiguilles ! A vos crochets !
DESCRIPTION:
URL:https://quatrequarts.coop/event/a-vos-aiguilles-a-vos-crochets-3/2026-07-02/
CATEGORIES:Atelier
ATTACH;FMTTYPE=image/png:https://quatrequarts.coop/wp-content/uploads/2022/09/Jaune-Croix-Elite-Gym-Affiche-3-1-e1711216338671.png
END:VEVENT
BEGIN:VEVENT
DTSTART;TZID=Europe/Brussels:20260703T200000
DTEND;TZID=Europe/Brussels:20260703T230000
DTSTAMP:20260422T021908
CREATED:20251106T120819Z
LAST-MODIFIED:20260324T101746Z
UID:10020251-1783108800-1783119600@quatrequarts.coop
SUMMARY:JAM !
DESCRIPTION:Jam Session chez Quatre Quarts chaque premier vendredi du mois de 20h à 23h.\nAmenez vos instruments\, percussions\, ou juste votre voix. Timides ou extravertis\, venez jammer avec nous ! C’est une chouette soirée mensuelle où rencontrer d’autres musiciens. Les styles sont variés : Blues\, Rock\, Jazz\, Pop\, Chanson française\, anglaise\, etc.\nImpros et covers seront au programme pour tous\, musiciens débutants\, pratiquants assidus\, joueurs de cuillères ou juste spectateurs.\nEntrée gratuite\, bar et cantine ouverts.
URL:https://quatrequarts.coop/event/jam-2-5/2026-07-03/
ATTACH;FMTTYPE=image/jpeg:https://quatrequarts.coop/wp-content/uploads/2022/09/Jam-3-mars.jpeg
END:VEVENT
BEGIN:VEVENT
DTSTART;TZID=Europe/Brussels:20260705T130000
DTEND;TZID=Europe/Brussels:20260705T183000
DTSTAMP:20260422T021908
CREATED:20251014T122219Z
LAST-MODIFIED:20260312T185633Z
UID:10020082-1783256400-1783276200@quatrequarts.coop
SUMMARY:D4\, le club (de jeux de rôle).
DESCRIPTION:Live. Play. Di(c)e. \nQue tu sois joueur ou meneur\, néophyte ou vétéran\, des tables de jeux de rôle t’attendent chaque premier dimanche du mois chez Quatre Quarts. \nC’est gratuit\, mais l’inscription est obligatoire sur ⁦d4club.be⁩. \nBref\, viens à Jacta Est.
URL:https://quatrequarts.coop/event/d4-le-club-de-jeux-de-role/2026-07-05/
LOCATION:Quatre Quarts\, Rue Emile Henricot 61\, Court-Saint-Etienne\, 1490\, Belgique
ATTACH;FMTTYPE=image/png:https://quatrequarts.coop/wp-content/uploads/2025/10/banner_comics-e1760444496167.png
ORGANIZER;CN="Quatre Quarts":MAILTO:viedulieu@quatrequarts.coop
GEO:50.6459666;4.5632717
X-APPLE-STRUCTURED-LOCATION;VALUE=URI;X-ADDRESS=Quatre Quarts Rue Emile Henricot 61 Court-Saint-Etienne 1490 Belgique;X-APPLE-RADIUS=500;X-TITLE=Rue Emile Henricot 61:geo:4.5632717,50.6459666
END:VEVENT
BEGIN:VEVENT
DTSTART;TZID=Europe/Brussels:20260707T100000
DTEND;TZID=Europe/Brussels:20260707T120000
DTSTAMP:20260422T021908
CREATED:20251107T093216Z
LAST-MODIFIED:20260324T110151Z
UID:10020338-1783418400-1783425600@quatrequarts.coop
SUMMARY:Permanence des Écrivains publics
DESCRIPTION:Développé par Présence et Action culturelles\, l’Espace Écrivain public s’appuie sur les valeurs de l’éducation permanente et sur des méthodes d’écoute active afin de pouvoir : \n\napporter un soutien gratuit et confidentiel à la rédaction de courriers administratifs ou privés à des publics aux demandes diversifiées\n\ntransmettre les informations permettant aux bénéficiaires de devenir plus autonomes dans leurs démarches\n\ndévelopper des actions collectives à partir des situations émergeant dans les permanences (ateliers d’écriture\, lectures à voix haute\, recueils de récits de vie\, de mémoires collectives…)\n\n \nProposé dans le cadre du projet “Tisser son chemin”
URL:https://quatrequarts.coop/event/permanence-ecrivain-public-6/2026-07-07/
LOCATION:Quatre Quarts\, Rue Emile Henricot 61\, Court-Saint-Etienne\, 1490\, Belgique
CATEGORIES:Atelier,Tiers-Lieu,Tisser son chemin
ATTACH;FMTTYPE=image/jpeg:https://quatrequarts.coop/wp-content/uploads/2024/02/logo-ecrivain-publicpetit.jpg
GEO:50.6459666;4.5632717
X-APPLE-STRUCTURED-LOCATION;VALUE=URI;X-ADDRESS=Quatre Quarts Rue Emile Henricot 61 Court-Saint-Etienne 1490 Belgique;X-APPLE-RADIUS=500;X-TITLE=Rue Emile Henricot 61:geo:4.5632717,50.6459666
END:VEVENT
BEGIN:VEVENT
DTSTART;TZID=Europe/Brussels:20260707T183000
DTEND;TZID=Europe/Brussels:20260707T210000
DTSTAMP:20260422T021908
CREATED:20260305T095321Z
LAST-MODIFIED:20260324T110343Z
UID:10013831-1783449000-1783458000@quatrequarts.coop
SUMMARY:Soiréé Talapatat !
DESCRIPTION:Tu as envie d’une soirée agréable et abordable ? T’es dans la purée (ou pas) pour le moment ? Viens\, tu auras la patate en sortant ! Quatre Quarts ouvre les mardis soirs avec un plat du jour à 5€… (possibilité de payer 10\, 15\, 20€ et d’ainsi offrir des plats solidaires). \nSi t’as la patate et envie d’aller plus loin\, l’idée de ces mardis « auberge collective » est aussi de cuisiner et servir ensemble : tu peux t’inscrire pour venir aider en nous envoyant un mail la semaine précédente.\nPour manger\, il suffit de venir ! Nous ne prenons pas de réservation à l’avance… \n  \nImpulsé grâce au soutien de la Wallonie (SPW-ARNE) et du Plan de relance de la Wallonie\, dans le cadre de l’appel à projets « Tiers-lieux ruraux ».
URL:https://quatrequarts.coop/event/soirees-talapatat-2-3/2026-07-07/
LOCATION:Quatre Quarts\, Rue Emile Henricot 61\, Court-Saint-Etienne\, 1490\, Belgique
CATEGORIES:Cuisine,Echange
ATTACH;FMTTYPE=image/png:https://quatrequarts.coop/wp-content/uploads/2024/05/TALAPATAT-1-e1763389513784.png
ORGANIZER;CN="Quatre Quarts":MAILTO:viedulieu@quatrequarts.coop
GEO:50.6459666;4.5632717
X-APPLE-STRUCTURED-LOCATION;VALUE=URI;X-ADDRESS=Quatre Quarts Rue Emile Henricot 61 Court-Saint-Etienne 1490 Belgique;X-APPLE-RADIUS=500;X-TITLE=Rue Emile Henricot 61:geo:4.5632717,50.6459666
END:VEVENT
BEGIN:VEVENT
DTSTART;TZID=Europe/Brussels:20260709T130000
DTEND;TZID=Europe/Brussels:20260709T150000
DTSTAMP:20260422T021908
CREATED:20241003T110210Z
LAST-MODIFIED:20260324T105240Z
UID:10019296-1783602000-1783609200@quatrequarts.coop
SUMMARY:A vos aiguilles ! A vos crochets !
DESCRIPTION:
URL:https://quatrequarts.coop/event/a-vos-aiguilles-a-vos-crochets-3/2026-07-09/
CATEGORIES:Atelier
ATTACH;FMTTYPE=image/png:https://quatrequarts.coop/wp-content/uploads/2022/09/Jaune-Croix-Elite-Gym-Affiche-3-1-e1711216338671.png
END:VEVENT
BEGIN:VEVENT
DTSTART;TZID=Europe/Brussels:20260714T100000
DTEND;TZID=Europe/Brussels:20260714T120000
DTSTAMP:20260422T021908
CREATED:20251107T093216Z
LAST-MODIFIED:20260324T110151Z
UID:10020339-1784023200-1784030400@quatrequarts.coop
SUMMARY:Permanence des Écrivains publics
DESCRIPTION:Développé par Présence et Action culturelles\, l’Espace Écrivain public s’appuie sur les valeurs de l’éducation permanente et sur des méthodes d’écoute active afin de pouvoir : \n\napporter un soutien gratuit et confidentiel à la rédaction de courriers administratifs ou privés à des publics aux demandes diversifiées\n\ntransmettre les informations permettant aux bénéficiaires de devenir plus autonomes dans leurs démarches\n\ndévelopper des actions collectives à partir des situations émergeant dans les permanences (ateliers d’écriture\, lectures à voix haute\, recueils de récits de vie\, de mémoires collectives…)\n\n \nProposé dans le cadre du projet “Tisser son chemin”
URL:https://quatrequarts.coop/event/permanence-ecrivain-public-6/2026-07-14/
LOCATION:Quatre Quarts\, Rue Emile Henricot 61\, Court-Saint-Etienne\, 1490\, Belgique
CATEGORIES:Atelier,Tiers-Lieu,Tisser son chemin
ATTACH;FMTTYPE=image/jpeg:https://quatrequarts.coop/wp-content/uploads/2024/02/logo-ecrivain-publicpetit.jpg
GEO:50.6459666;4.5632717
X-APPLE-STRUCTURED-LOCATION;VALUE=URI;X-ADDRESS=Quatre Quarts Rue Emile Henricot 61 Court-Saint-Etienne 1490 Belgique;X-APPLE-RADIUS=500;X-TITLE=Rue Emile Henricot 61:geo:4.5632717,50.6459666
END:VEVENT
BEGIN:VEVENT
DTSTART;TZID=Europe/Brussels:20260714T183000
DTEND;TZID=Europe/Brussels:20260714T210000
DTSTAMP:20260422T021908
CREATED:20260305T095321Z
LAST-MODIFIED:20260324T110343Z
UID:10013832-1784053800-1784062800@quatrequarts.coop
SUMMARY:Soiréé Talapatat !
DESCRIPTION:Tu as envie d’une soirée agréable et abordable ? T’es dans la purée (ou pas) pour le moment ? Viens\, tu auras la patate en sortant ! Quatre Quarts ouvre les mardis soirs avec un plat du jour à 5€… (possibilité de payer 10\, 15\, 20€ et d’ainsi offrir des plats solidaires). \nSi t’as la patate et envie d’aller plus loin\, l’idée de ces mardis « auberge collective » est aussi de cuisiner et servir ensemble : tu peux t’inscrire pour venir aider en nous envoyant un mail la semaine précédente.\nPour manger\, il suffit de venir ! Nous ne prenons pas de réservation à l’avance… \n  \nImpulsé grâce au soutien de la Wallonie (SPW-ARNE) et du Plan de relance de la Wallonie\, dans le cadre de l’appel à projets « Tiers-lieux ruraux ».
URL:https://quatrequarts.coop/event/soirees-talapatat-2-3/2026-07-14/
LOCATION:Quatre Quarts\, Rue Emile Henricot 61\, Court-Saint-Etienne\, 1490\, Belgique
CATEGORIES:Cuisine,Echange
ATTACH;FMTTYPE=image/png:https://quatrequarts.coop/wp-content/uploads/2024/05/TALAPATAT-1-e1763389513784.png
ORGANIZER;CN="Quatre Quarts":MAILTO:viedulieu@quatrequarts.coop
GEO:50.6459666;4.5632717
X-APPLE-STRUCTURED-LOCATION;VALUE=URI;X-ADDRESS=Quatre Quarts Rue Emile Henricot 61 Court-Saint-Etienne 1490 Belgique;X-APPLE-RADIUS=500;X-TITLE=Rue Emile Henricot 61:geo:4.5632717,50.6459666
END:VEVENT
BEGIN:VEVENT
DTSTART;TZID=Europe/Brussels:20260716T130000
DTEND;TZID=Europe/Brussels:20260716T150000
DTSTAMP:20260422T021908
CREATED:20241003T110210Z
LAST-MODIFIED:20260324T105240Z
UID:10019297-1784206800-1784214000@quatrequarts.coop
SUMMARY:A vos aiguilles ! A vos crochets !
DESCRIPTION:
URL:https://quatrequarts.coop/event/a-vos-aiguilles-a-vos-crochets-3/2026-07-16/
CATEGORIES:Atelier
ATTACH;FMTTYPE=image/png:https://quatrequarts.coop/wp-content/uploads/2022/09/Jaune-Croix-Elite-Gym-Affiche-3-1-e1711216338671.png
END:VEVENT
BEGIN:VEVENT
DTSTART;TZID=Europe/Brussels:20260718T100000
DTEND;TZID=Europe/Brussels:20260718T130000
DTSTAMP:20260422T021908
CREATED:20240829T142359Z
LAST-MODIFIED:20260411T080233Z
UID:10020697-1784368800-1784379600@quatrequarts.coop
SUMMARY:Repair café
DESCRIPTION:!! Sur réservation !! \n« Jeter\, pas question ! Réparons ensemble… » est la devise des repair cafés :-). \nL’équipe du Repair Café de Court-Saint-Étienne est heureuse de vous accueillir (presque) chaque 3e samedi du mois\, de 10h à 13h. \n\nProchaine date chez Quatre Quarts : le samedi 18 avril 2026 de 10h à 13h\, sur réservation.\nPour participer aux ateliers\, merci de : \n– réserver l’heure de rendez-vous souhaitée\, par mail à l’adresse ci-dessous\n– signaler ce que vous apportez à réparer et une petite description de la panne (une seule réparation électro par famille) \nHeures de RDV pour :\n \n\nPetit électroménager  : 10h OU 11h OU 12h\nPanne\, conseil informatique ou installation Linux : 10h OU 11h OU 12h\nCouture\, bijoux\, tricot\, crochet\, raccommodage\, aiguisage de couteaux de cuisine : entre 10h et 11h OU entre 11h et 12h15\n\n\nAdresse de réservation : repair.cafe.cse@gmail.com \nBar et petite restauration ouverts dès 10h. \n\nINFOS GÉNÉRALES\n \nAteliers proposés généralement (à vérifier chaque fois dans les infos ci-dessus) : \n\nInformatique/électronique\nPetit électroménager\nInstallation Linux\nCouture\nRéparation bijoux (pas de soudure)\nRéparation/apprentissage tricot\, crochet\, raccommodage\n\nLes entretiens et petites réparations vélos sont proposées tous les samedis matin par l’Atelier Vélos du Passage : 0477 245 264 \nContact Repair Café :\nTransition en Court / Cercle économie \nMail : repair.cafe.cse@gmail.com\nFrançoise : 010 65 10 14 – Olivier : 0495 43 53 67
URL:https://quatrequarts.coop/event/repair-cafe-3-3-4/2026-07-18/
ATTACH;FMTTYPE=image/jpeg:https://quatrequarts.coop/wp-content/uploads/2025/02/RC-TeC_logo_2024-e1767265921935.jpg
ORGANIZER;CN="TEC (Transition en Court)":MAILTO:info@transitionencourt.be
END:VEVENT
BEGIN:VEVENT
DTSTART;VALUE=DATE:20260721
DTEND;VALUE=DATE:20260722
DTSTAMP:20260422T021908
CREATED:20260324T110457Z
LAST-MODIFIED:20260324T111150Z
UID:10021071-1784592000-1784678399@quatrequarts.coop
SUMMARY:Fermeture : congés
DESCRIPTION:
URL:https://quatrequarts.coop/event/fermeture-conges-2/
LOCATION:Quatre Quarts\, Rue Emile Henricot 61\, Court-Saint-Etienne\, 1490\, Belgique
ATTACH;FMTTYPE=image/png:https://quatrequarts.coop/wp-content/uploads/2026/03/fermeture-21-juillet-e1774350290625.png
ORGANIZER;CN="Quatre Quarts":MAILTO:viedulieu@quatrequarts.coop
GEO:50.6459666;4.5632717
X-APPLE-STRUCTURED-LOCATION;VALUE=URI;X-ADDRESS=Quatre Quarts Rue Emile Henricot 61 Court-Saint-Etienne 1490 Belgique;X-APPLE-RADIUS=500;X-TITLE=Rue Emile Henricot 61:geo:4.5632717,50.6459666
END:VEVENT
BEGIN:VEVENT
DTSTART;TZID=Europe/Brussels:20260723T130000
DTEND;TZID=Europe/Brussels:20260723T150000
DTSTAMP:20260422T021908
CREATED:20241003T110210Z
LAST-MODIFIED:20260324T105240Z
UID:10019298-1784811600-1784818800@quatrequarts.coop
SUMMARY:A vos aiguilles ! A vos crochets !
DESCRIPTION:
URL:https://quatrequarts.coop/event/a-vos-aiguilles-a-vos-crochets-3/2026-07-23/
CATEGORIES:Atelier
ATTACH;FMTTYPE=image/png:https://quatrequarts.coop/wp-content/uploads/2022/09/Jaune-Croix-Elite-Gym-Affiche-3-1-e1711216338671.png
END:VEVENT
BEGIN:VEVENT
DTSTART;TZID=Europe/Brussels:20260725T140000
DTEND;TZID=Europe/Brussels:20260725T170000
DTSTAMP:20260422T021908
CREATED:20260226T125109Z
LAST-MODIFIED:20260312T183927Z
UID:10020914-1784988000-1784998800@quatrequarts.coop
SUMMARY:Ateliers d'improvisation théâtrale pour enfants
DESCRIPTION:Quatre ateliers d’improvisation théâtrale mettant en jeu le corps\, le mouvement et le texte\, pour les enfants de 7 à 12 ans. \nLieu : salle Voutée \n28 mars – 25 avril – 30 mai – 27 juin : de 14h à 17h \nPrix : 30 euros par atelier / 110 euros pour les 4 avec une réduction de 10 euros à partir du deuxième enfant de la famille. \nInscriptions : chouaktheatre@gmail.com – 0498 50 43 85
URL:https://quatrequarts.coop/event/ateliers-dimprovisation-theatrale-pour-enfants/2026-07-25/
LOCATION:Quatre Quarts\, Rue Emile Henricot 61\, Court-Saint-Etienne\, 1490\, Belgique
ATTACH;FMTTYPE=image/jpeg:https://quatrequarts.coop/wp-content/uploads/2026/02/4-ATELIERS-THEATRE-PRINTEMPS-2026-scaled-e1772110306713.jpg
ORGANIZER;CN="Quatre Quarts":MAILTO:viedulieu@quatrequarts.coop
GEO:50.6459666;4.5632717
X-APPLE-STRUCTURED-LOCATION;VALUE=URI;X-ADDRESS=Quatre Quarts Rue Emile Henricot 61 Court-Saint-Etienne 1490 Belgique;X-APPLE-RADIUS=500;X-TITLE=Rue Emile Henricot 61:geo:4.5632717,50.6459666
END:VEVENT
BEGIN:VEVENT
DTSTART;TZID=Europe/Brussels:20260728T100000
DTEND;TZID=Europe/Brussels:20260728T120000
DTSTAMP:20260422T021908
CREATED:20251107T093216Z
LAST-MODIFIED:20260324T110151Z
UID:10020341-1785232800-1785240000@quatrequarts.coop
SUMMARY:Permanence des Écrivains publics
DESCRIPTION:Développé par Présence et Action culturelles\, l’Espace Écrivain public s’appuie sur les valeurs de l’éducation permanente et sur des méthodes d’écoute active afin de pouvoir : \n\napporter un soutien gratuit et confidentiel à la rédaction de courriers administratifs ou privés à des publics aux demandes diversifiées\n\ntransmettre les informations permettant aux bénéficiaires de devenir plus autonomes dans leurs démarches\n\ndévelopper des actions collectives à partir des situations émergeant dans les permanences (ateliers d’écriture\, lectures à voix haute\, recueils de récits de vie\, de mémoires collectives…)\n\n \nProposé dans le cadre du projet “Tisser son chemin”
URL:https://quatrequarts.coop/event/permanence-ecrivain-public-6/2026-07-28/
LOCATION:Quatre Quarts\, Rue Emile Henricot 61\, Court-Saint-Etienne\, 1490\, Belgique
CATEGORIES:Atelier,Tiers-Lieu,Tisser son chemin
ATTACH;FMTTYPE=image/jpeg:https://quatrequarts.coop/wp-content/uploads/2024/02/logo-ecrivain-publicpetit.jpg
GEO:50.6459666;4.5632717
X-APPLE-STRUCTURED-LOCATION;VALUE=URI;X-ADDRESS=Quatre Quarts Rue Emile Henricot 61 Court-Saint-Etienne 1490 Belgique;X-APPLE-RADIUS=500;X-TITLE=Rue Emile Henricot 61:geo:4.5632717,50.6459666
END:VEVENT
BEGIN:VEVENT
DTSTART;TZID=Europe/Brussels:20260728T183000
DTEND;TZID=Europe/Brussels:20260728T210000
DTSTAMP:20260422T021908
CREATED:20260305T095321Z
LAST-MODIFIED:20260324T110343Z
UID:10013834-1785263400-1785272400@quatrequarts.coop
SUMMARY:Soiréé Talapatat !
DESCRIPTION:Tu as envie d’une soirée agréable et abordable ? T’es dans la purée (ou pas) pour le moment ? Viens\, tu auras la patate en sortant ! Quatre Quarts ouvre les mardis soirs avec un plat du jour à 5€… (possibilité de payer 10\, 15\, 20€ et d’ainsi offrir des plats solidaires). \nSi t’as la patate et envie d’aller plus loin\, l’idée de ces mardis « auberge collective » est aussi de cuisiner et servir ensemble : tu peux t’inscrire pour venir aider en nous envoyant un mail la semaine précédente.\nPour manger\, il suffit de venir ! Nous ne prenons pas de réservation à l’avance… \n  \nImpulsé grâce au soutien de la Wallonie (SPW-ARNE) et du Plan de relance de la Wallonie\, dans le cadre de l’appel à projets « Tiers-lieux ruraux ».
URL:https://quatrequarts.coop/event/soirees-talapatat-2-3/2026-07-28/
LOCATION:Quatre Quarts\, Rue Emile Henricot 61\, Court-Saint-Etienne\, 1490\, Belgique
CATEGORIES:Cuisine,Echange
ATTACH;FMTTYPE=image/png:https://quatrequarts.coop/wp-content/uploads/2024/05/TALAPATAT-1-e1763389513784.png
ORGANIZER;CN="Quatre Quarts":MAILTO:viedulieu@quatrequarts.coop
GEO:50.6459666;4.5632717
X-APPLE-STRUCTURED-LOCATION;VALUE=URI;X-ADDRESS=Quatre Quarts Rue Emile Henricot 61 Court-Saint-Etienne 1490 Belgique;X-APPLE-RADIUS=500;X-TITLE=Rue Emile Henricot 61:geo:4.5632717,50.6459666
END:VEVENT
BEGIN:VEVENT
DTSTART;TZID=Europe/Brussels:20260730T130000
DTEND;TZID=Europe/Brussels:20260730T150000
DTSTAMP:20260422T021908
CREATED:20241003T110210Z
LAST-MODIFIED:20260324T105240Z
UID:10019299-1785416400-1785423600@quatrequarts.coop
SUMMARY:A vos aiguilles ! A vos crochets !
DESCRIPTION:
URL:https://quatrequarts.coop/event/a-vos-aiguilles-a-vos-crochets-3/2026-07-30/
CATEGORIES:Atelier
ATTACH;FMTTYPE=image/png:https://quatrequarts.coop/wp-content/uploads/2022/09/Jaune-Croix-Elite-Gym-Affiche-3-1-e1711216338671.png
END:VEVENT
END:VCALENDAR