BEGIN:VCALENDAR
VERSION:2.0
PRODID:-//Quatre Quarts - ECPv6.15.20//NONSGML v1.0//EN
CALSCALE:GREGORIAN
METHOD:PUBLISH
X-ORIGINAL-URL:https://quatrequarts.coop
X-WR-CALDESC:Évènements pour Quatre Quarts
REFRESH-INTERVAL;VALUE=DURATION:PT1H
X-Robots-Tag:noindex
X-PUBLISHED-TTL:PT1H
BEGIN:VTIMEZONE
TZID:Europe/Brussels
BEGIN:DAYLIGHT
TZOFFSETFROM:+0100
TZOFFSETTO:+0200
TZNAME:CEST
DTSTART:20220327T010000
END:DAYLIGHT
BEGIN:STANDARD
TZOFFSETFROM:+0200
TZOFFSETTO:+0100
TZNAME:CET
DTSTART:20221030T010000
END:STANDARD
BEGIN:DAYLIGHT
TZOFFSETFROM:+0100
TZOFFSETTO:+0200
TZNAME:CEST
DTSTART:20230326T010000
END:DAYLIGHT
BEGIN:STANDARD
TZOFFSETFROM:+0200
TZOFFSETTO:+0100
TZNAME:CET
DTSTART:20231029T010000
END:STANDARD
BEGIN:DAYLIGHT
TZOFFSETFROM:+0100
TZOFFSETTO:+0200
TZNAME:CEST
DTSTART:20240331T010000
END:DAYLIGHT
BEGIN:STANDARD
TZOFFSETFROM:+0200
TZOFFSETTO:+0100
TZNAME:CET
DTSTART:20241027T010000
END:STANDARD
END:VTIMEZONE
BEGIN:VEVENT
DTSTART;TZID=Europe/Brussels:20230729T080000
DTEND;TZID=Europe/Brussels:20230815T170000
DTSTAMP:20260424T024238
CREATED:20230627T103407Z
LAST-MODIFIED:20230718T130848Z
UID:10005522-1690617600-1692118800@quatrequarts.coop
SUMMARY:Quatre Quarts est en vacances !
DESCRIPTION:
URL:https://quatrequarts.coop/event/le-quatre-quarts-est-en-vacances/
LOCATION:Quatre Quarts\, Rue Emile Henricot 61\, Court-Saint-Etienne\, 1490\, Belgique
ORGANIZER;CN="Quatre Quarts":MAILTO:viedulieu@quatrequarts.coop
GEO:50.6459666;4.5632717
X-APPLE-STRUCTURED-LOCATION;VALUE=URI;X-ADDRESS=Quatre Quarts Rue Emile Henricot 61 Court-Saint-Etienne 1490 Belgique;X-APPLE-RADIUS=500;X-TITLE=Rue Emile Henricot 61:geo:4.5632717,50.6459666
END:VEVENT
BEGIN:VEVENT
DTSTART;TZID=Europe/Brussels:20230816T103000
DTEND;TZID=Europe/Brussels:20230816T120000
DTSTAMP:20260424T024238
CREATED:20230627T101957Z
LAST-MODIFIED:20230911T093226Z
UID:10005380-1692181800-1692187200@quatrequarts.coop
SUMMARY:Table de conversation en anglais
DESCRIPTION:
URL:https://quatrequarts.coop/event/table-de-conversation-en-anglais-2/2023-08-16/
LOCATION:Quatre Quarts\, Rue Emile Henricot 61\, Court-Saint-Etienne\, 1490\, Belgique
CATEGORIES:Atelier
ATTACH;FMTTYPE=image/jpeg:https://quatrequarts.coop/wp-content/uploads/2023/05/Table_conversation_anglais_Detry-scaled-e1696691655663.jpg
GEO:50.6459666;4.5632717
X-APPLE-STRUCTURED-LOCATION;VALUE=URI;X-ADDRESS=Quatre Quarts Rue Emile Henricot 61 Court-Saint-Etienne 1490 Belgique;X-APPLE-RADIUS=500;X-TITLE=Rue Emile Henricot 61:geo:4.5632717,50.6459666
END:VEVENT
BEGIN:VEVENT
DTSTART;TZID=Europe/Brussels:20230817T130000
DTEND;TZID=Europe/Brussels:20230817T150000
DTSTAMP:20260424T024238
CREATED:20230629T123931Z
LAST-MODIFIED:20240323T175245Z
UID:10005563-1692277200-1692284400@quatrequarts.coop
SUMMARY:A vos aiguilles ! A vos crochets !
DESCRIPTION:
URL:https://quatrequarts.coop/event/a-vos-aiguilles-a-vos-crochets-2/2023-08-17/
CATEGORIES:Atelier
ATTACH;FMTTYPE=image/png:https://quatrequarts.coop/wp-content/uploads/2022/09/Jaune-Croix-Elite-Gym-Affiche-3-1-e1711216338671.png
END:VEVENT
BEGIN:VEVENT
DTSTART;TZID=Europe/Brussels:20230818T183000
DTEND;TZID=Europe/Brussels:20230818T230000
DTSTAMP:20260424T024238
CREATED:20230720T092037Z
LAST-MODIFIED:20230816T112228Z
UID:10006285-1692383400-1692399600@quatrequarts.coop
SUMMARY:SOIRÉE SALOON !
DESCRIPTION:Vous aussi vous avez grandi avec les histoires de cow-boys ?\nVenez dézinguer les mythes et les portes de notre Saloon d’un soir ! \n\nDès 18h30 : Accueil et photo souvenir. Le shérif interdit l’entrée à toute personne non déguisée ( le chapeau seul ne suffira pas ! ).\n> Ouverture des Jeux de saloon : lancer du fer à cheval\, jeu du clou\, défi de bras de fer\, duels\, prise au lasso\, Black Jack.\n19h-20h : Plat unique à 15€ composé d’un délicieux chili des chefs\, accompagné d’une sauce relevée que vous doserez selon votre audace en mode « la bonne\, la brute ou la truande ».\n> Vous pouvez le réserver à l’adresse suivante : https://reservations.quatrequarts.coop/\n21h : Ouverture de la piste pour de la Country Dance !
URL:https://quatrequarts.coop/event/soiree-saloon/
LOCATION:Quatre Quarts\, Rue Emile Henricot 61\, Court-Saint-Etienne\, 1490\, Belgique
CATEGORIES:Fête
ATTACH;FMTTYPE=image/png:https://quatrequarts.coop/wp-content/uploads/2023/07/AFFICHE-SALOON-FIN-e1689851446695.png
GEO:50.6459666;4.5632717
X-APPLE-STRUCTURED-LOCATION;VALUE=URI;X-ADDRESS=Quatre Quarts Rue Emile Henricot 61 Court-Saint-Etienne 1490 Belgique;X-APPLE-RADIUS=500;X-TITLE=Rue Emile Henricot 61:geo:4.5632717,50.6459666
END:VEVENT
BEGIN:VEVENT
DTSTART;TZID=Europe/Brussels:20230819T100000
DTEND;TZID=Europe/Brussels:20230819T130000
DTSTAMP:20260424T024238
CREATED:20230621T041519Z
LAST-MODIFIED:20240829T142332Z
UID:10005510-1692439200-1692450000@quatrequarts.coop
SUMMARY:Repair café
DESCRIPTION:« Jeter\, pas question ! Réparons ensemble… » est la devise des repair cafés :-). \nL’équipe du Repair café de Court-Saint-Étienne est heureuse de vous accueillir (presque) chaque 3e samedi du mois\, de 10h à 13h (sur réservation)… \n\nProchaine date chez Quatre Quarts : le samedi 19 octobre 2024 de 10h à 13h (sur réservation)\n \nATTENTION : il n’y aura pas de Repair café en septembre ! \nPour participer aux ateliers\, merci de : \n– réserver la plage horaire souhaitée\, par mail à l’adresse ci-dessous\n– signaler ce que vous apportez à réparer et une petite description de la panne \nHoraires d’arrivée pour :\n \n\npetit électroménager  : COMPLET !\n\nProblème\, conseil informatique ou installation Linux : 10h OU 11h OU 12h\nCouture\, bijoux\, tricot\, crochet\, raccommodage\, aiguisage de couteaux de cuisine : entre 10h et 11h OU entre 11h et 12h15\n\n\nAdresse de réservation : repair.cafe.cse@gmail.com \nBar et petite restauration ouverts dès 10h. \n\nINFOS GÉNÉRALES\n \nAteliers proposés généralement (à vérifier chaque fois dans les infos ci-dessus) : \n\nInformatique/électronique\nPetit électroménager\nInstallation Linux\nCouture\nRéparation bijoux (pas de soudure)\nRéparation/apprentissage tricot\, crochet\, raccommodage\n\nLes entretiens et petites réparations vélos sont proposées tous les samedis matin par l’Atelier Vélos du Passage : 0477 245 264 \nContact Repair café :\nTransition en Court / Cercle économie \nMail : repair.cafe.cse@gmail.com\nFrançoise : 010 65 10 14 – Olivier : 0495 43 53 67
URL:https://quatrequarts.coop/event/repair-cafe-3-3/2023-08-19/
ATTACH;FMTTYPE=image/jpeg:https://quatrequarts.coop/wp-content/uploads/2020/08/unnamed-2-e1598087684623.jpg
ORGANIZER;CN="TEC (Transition en Court)":MAILTO:info@transitionencourt.be
END:VEVENT
BEGIN:VEVENT
DTSTART;TZID=Europe/Brussels:20230819T210000
DTEND;TZID=Europe/Brussels:20230819T220000
DTSTAMP:20260424T024238
CREATED:20230607T124951Z
LAST-MODIFIED:20230607T125007Z
UID:10005436-1692478800-1692482400@quatrequarts.coop
SUMMARY:Concert : LAURIANE
DESCRIPTION:Lauriane est une  jeune chanteuse belge à la voix sensible et profonde.  Compositrice et interprète\, elle nous emmène dans un monde fragile et vulnérable ou nos âmes s’ouvrent à notre humanité.  Avec sa guitare comme fidèle amie\, Lauriane nous connecte à nos émotions intimes et éveille les cœurs de ceux qui se laissent toucher.  Sa passion pour la musique\, son goût raffiné pour les mots\, son regard sur le monde et sa voix feutrée vous transportera dans un monde poétique et harmonieux.  Entre ses compositions personnelles et des reprises choisies avec amour\, laissez vous transporter par sa magie et son charme lumineux.
URL:https://quatrequarts.coop/event/concert-lauriane/
LOCATION:Quatre Quarts\, Rue Emile Henricot 61\, Court-Saint-Etienne\, 1490\, Belgique
CATEGORIES:Concert
ATTACH;FMTTYPE=image/jpeg:https://quatrequarts.coop/wp-content/uploads/2023/06/lauriane.jpeg
ORGANIZER;CN="Quatre Quarts":MAILTO:viedulieu@quatrequarts.coop
GEO:50.6459666;4.5632717
X-APPLE-STRUCTURED-LOCATION;VALUE=URI;X-ADDRESS=Quatre Quarts Rue Emile Henricot 61 Court-Saint-Etienne 1490 Belgique;X-APPLE-RADIUS=500;X-TITLE=Rue Emile Henricot 61:geo:4.5632717,50.6459666
END:VEVENT
BEGIN:VEVENT
DTSTART;TZID=Europe/Brussels:20230823T103000
DTEND;TZID=Europe/Brussels:20230823T120000
DTSTAMP:20260424T024238
CREATED:20230627T101957Z
LAST-MODIFIED:20230911T093226Z
UID:10005381-1692786600-1692792000@quatrequarts.coop
SUMMARY:Table de conversation en anglais
DESCRIPTION:
URL:https://quatrequarts.coop/event/table-de-conversation-en-anglais-2/2023-08-23/
LOCATION:Quatre Quarts\, Rue Emile Henricot 61\, Court-Saint-Etienne\, 1490\, Belgique
CATEGORIES:Atelier
ATTACH;FMTTYPE=image/jpeg:https://quatrequarts.coop/wp-content/uploads/2023/05/Table_conversation_anglais_Detry-scaled-e1696691655663.jpg
GEO:50.6459666;4.5632717
X-APPLE-STRUCTURED-LOCATION;VALUE=URI;X-ADDRESS=Quatre Quarts Rue Emile Henricot 61 Court-Saint-Etienne 1490 Belgique;X-APPLE-RADIUS=500;X-TITLE=Rue Emile Henricot 61:geo:4.5632717,50.6459666
END:VEVENT
BEGIN:VEVENT
DTSTART;TZID=Europe/Brussels:20230823T183000
DTEND;TZID=Europe/Brussels:20230823T203000
DTSTAMP:20260424T024238
CREATED:20230720T113015Z
LAST-MODIFIED:20230720T113322Z
UID:10006286-1692815400-1692822600@quatrequarts.coop
SUMMARY:Stage de Lindy Hop
DESCRIPTION:Vous aimez le jazz\, le swing……?\nVous aimez danser et vous voulez apprendre quelque chose de nouveau?\nCe stage est fait pour vous ! \nPour débutants qui découvrent le Lindy Hop pour la première fois ou qui ont suivi un stage de\nquelques heures. \nInscription obligatoire à l’avance.\nIl est conseillé de s’inscrire avec un partenaire.\nhttps://forms.gle/tYikkaeSovxhAP8j9 \nElise et Didier de Apollo Swing \nelise@apolloswing.be\n0473/49.99.91
URL:https://quatrequarts.coop/event/stage-de-lindy-hop/
LOCATION:Sans titre\, Belgique
ATTACH;FMTTYPE=image/png:https://quatrequarts.coop/wp-content/uploads/2023/07/quatre-quarts-e1689852602672.png
END:VEVENT
BEGIN:VEVENT
DTSTART;TZID=Europe/Brussels:20230824T130000
DTEND;TZID=Europe/Brussels:20230824T150000
DTSTAMP:20260424T024238
CREATED:20230629T123931Z
LAST-MODIFIED:20240323T175245Z
UID:10005564-1692882000-1692889200@quatrequarts.coop
SUMMARY:A vos aiguilles ! A vos crochets !
DESCRIPTION:
URL:https://quatrequarts.coop/event/a-vos-aiguilles-a-vos-crochets-2/2023-08-24/
CATEGORIES:Atelier
ATTACH;FMTTYPE=image/png:https://quatrequarts.coop/wp-content/uploads/2022/09/Jaune-Croix-Elite-Gym-Affiche-3-1-e1711216338671.png
END:VEVENT
BEGIN:VEVENT
DTSTART;TZID=Europe/Brussels:20230825T190000
DTEND;TZID=Europe/Brussels:20230825T230000
DTSTAMP:20260424T024238
CREATED:20230726T092712Z
LAST-MODIFIED:20230821T100623Z
UID:10006289-1692990000-1693004400@quatrequarts.coop
SUMMARY:SOIRÉE LATINO !
DESCRIPTION:Envie de vous essayer à la salsa… avant de commencer un cours\, ou juste pour le plaisir ?\nEnvie de retrouver des amis passionnés de danse latino (salsa\, bachata\, merengue\, chachacha\, kizomba…) pour une belle soirée\, avant la grande rentrée de septembre ?\nVenez à notre soirée latino le 25 aout ! \nAu programme (réservez si vous souhaitez manger et/ou participer à l’initiation salsa) : \n\nAccueil dès 18h30 – Bar ouvert en continu !\n19h : Assiette-repas composée par nos chefs (2 empanadas et salade : 15€ à régler sur place)\n> A réserver via le lien ci-dessous\n20h : Initiation à la salsa par Lukas et Sylvie (cours Salsa LLN) !\n> A réserver également via le lien ci-dessous (5€ à régler sur place)\n21h-24h : Latino Party pour tous\, avec DJ Daniel ! Facebook\n\nLien de réservation ICI ! \nOrganisation : Laurence et Françoise\, coopér’actrices chez Quatre Quarts\, avec l’aide de l’équipe !
URL:https://quatrequarts.coop/event/soiree-latino-2/
LOCATION:Quatre Quarts\, Rue Emile Henricot 61\, Court-Saint-Etienne\, 1490\, Belgique
CATEGORIES:Danse
ATTACH;FMTTYPE=image/png:https://quatrequarts.coop/wp-content/uploads/2023/07/Soiree-latino_Affiche_final-copie.png
GEO:50.6459666;4.5632717
X-APPLE-STRUCTURED-LOCATION;VALUE=URI;X-ADDRESS=Quatre Quarts Rue Emile Henricot 61 Court-Saint-Etienne 1490 Belgique;X-APPLE-RADIUS=500;X-TITLE=Rue Emile Henricot 61:geo:4.5632717,50.6459666
END:VEVENT
BEGIN:VEVENT
DTSTART;TZID=Europe/Brussels:20230826T150000
DTEND;TZID=Europe/Brussels:20230826T170000
DTSTAMP:20260424T024238
CREATED:20230712T105928Z
LAST-MODIFIED:20230712T105928Z
UID:10005923-1693062000-1693069200@quatrequarts.coop
SUMMARY:Promenade à la découverte de plantes sauvages
DESCRIPTION:Promenade guidée à la découverte de plantes sauvages comestibles suivie d’une dégustation !\nNous parcourrons les chemins des environs pour identifier des plantes sauvages comestibles\, apprendre leurs qualités gustatives et médicinales. Se réapproprier ces connaissances est un pas vers l’autonomie et vers le respect du vivant.\nLa promenade sera suivie d’une dégustation de petites préparations sauvages simples qui vous mettront l’eau à la bouche et l’envie de pratiquer ces connaissances chez vous.\n\nContact et inscription: Isabelle au 0498 80 37 63 ou isaslinc@gmail.com \n\nParticipation : 10 €
URL:https://quatrequarts.coop/event/promenade-a-la-decouverte-de-plantes-sauvages/
END:VEVENT
BEGIN:VEVENT
DTSTART;TZID=Europe/Brussels:20230826T210000
DTEND;TZID=Europe/Brussels:20230826T210000
DTSTAMP:20260424T024238
CREATED:20230607T113053Z
LAST-MODIFIED:20230813T143354Z
UID:10005435-1693083600-1693083600@quatrequarts.coop
SUMMARY:Concert : Jen&Lau F
DESCRIPTION:Jen&Lau F est né aussi bien dans la vie que dans la musique\, il y a bientôt 4 ans.\nC’est un duo piano-voix acoustique où les compositions originales se mêlent à des reprises pop revisitées avec douceur afin de vous offrir une caresse auditive.\n\nhttps://www.youtube.com/@jenlauf6706
URL:https://quatrequarts.coop/event/concert-jen-lau-f/
LOCATION:Quatre Quarts\, Rue Emile Henricot 61\, Court-Saint-Etienne\, 1490\, Belgique
CATEGORIES:Concert
ATTACH;FMTTYPE=image/jpeg:https://quatrequarts.coop/wp-content/uploads/2023/06/jen-lau-F.jpg
ORGANIZER;CN="Quatre Quarts":MAILTO:viedulieu@quatrequarts.coop
GEO:50.6459666;4.5632717
X-APPLE-STRUCTURED-LOCATION;VALUE=URI;X-ADDRESS=Quatre Quarts Rue Emile Henricot 61 Court-Saint-Etienne 1490 Belgique;X-APPLE-RADIUS=500;X-TITLE=Rue Emile Henricot 61:geo:4.5632717,50.6459666
END:VEVENT
BEGIN:VEVENT
DTSTART;TZID=Europe/Brussels:20230829T183000
DTEND;TZID=Europe/Brussels:20230829T194500
DTSTAMP:20260424T024238
CREATED:20230718T142742Z
LAST-MODIFIED:20231025T135728Z
UID:10006326-1693333800-1693338300@quatrequarts.coop
SUMMARY:Yoga Doux
DESCRIPTION:
URL:https://quatrequarts.coop/event/yoga-doux-3/2023-08-29/
LOCATION:Sans titre\, Belgique
CATEGORIES:Cours
ATTACH;FMTTYPE=image/jpeg:https://quatrequarts.coop/wp-content/uploads/2022/09/Yoga-Doux-Cours--scaled-e1767725793209.jpg
END:VEVENT
BEGIN:VEVENT
DTSTART;TZID=Europe/Brussels:20230830T103000
DTEND;TZID=Europe/Brussels:20230830T120000
DTSTAMP:20260424T024238
CREATED:20230627T101957Z
LAST-MODIFIED:20230911T093226Z
UID:10005382-1693391400-1693396800@quatrequarts.coop
SUMMARY:Table de conversation en anglais
DESCRIPTION:
URL:https://quatrequarts.coop/event/table-de-conversation-en-anglais-2/2023-08-30/
LOCATION:Quatre Quarts\, Rue Emile Henricot 61\, Court-Saint-Etienne\, 1490\, Belgique
CATEGORIES:Atelier
ATTACH;FMTTYPE=image/jpeg:https://quatrequarts.coop/wp-content/uploads/2023/05/Table_conversation_anglais_Detry-scaled-e1696691655663.jpg
GEO:50.6459666;4.5632717
X-APPLE-STRUCTURED-LOCATION;VALUE=URI;X-ADDRESS=Quatre Quarts Rue Emile Henricot 61 Court-Saint-Etienne 1490 Belgique;X-APPLE-RADIUS=500;X-TITLE=Rue Emile Henricot 61:geo:4.5632717,50.6459666
END:VEVENT
BEGIN:VEVENT
DTSTART;TZID=Europe/Brussels:20230831T130000
DTEND;TZID=Europe/Brussels:20230831T150000
DTSTAMP:20260424T024238
CREATED:20230629T123931Z
LAST-MODIFIED:20240323T175245Z
UID:10005565-1693486800-1693494000@quatrequarts.coop
SUMMARY:A vos aiguilles ! A vos crochets !
DESCRIPTION:
URL:https://quatrequarts.coop/event/a-vos-aiguilles-a-vos-crochets-2/2023-08-31/
CATEGORIES:Atelier
ATTACH;FMTTYPE=image/png:https://quatrequarts.coop/wp-content/uploads/2022/09/Jaune-Croix-Elite-Gym-Affiche-3-1-e1711216338671.png
END:VEVENT
BEGIN:VEVENT
DTSTART;TZID=Europe/Brussels:20230831T170000
DTEND;TZID=Europe/Brussels:20230831T190000
DTSTAMP:20260424T024238
CREATED:20230325T103853Z
LAST-MODIFIED:20240502T090722Z
UID:10006312-1693501200-1693508400@quatrequarts.coop
SUMMARY:Café-Deuil
DESCRIPTION:
URL:https://quatrequarts.coop/event/cafe-deuil/2023-08-31/
CATEGORIES:Echange
END:VEVENT
BEGIN:VEVENT
DTSTART;TZID=Europe/Brussels:20230831T190000
DTEND;TZID=Europe/Brussels:20230831T203000
DTSTAMP:20260424T024238
CREATED:20230531T093506Z
LAST-MODIFIED:20231010T084144Z
UID:10005428-1693508400-1693513800@quatrequarts.coop
SUMMARY:Téhima\, danse sur les lettres hébraïques
DESCRIPTION:La Téhima\, Harmonie en hébreu\, est un ensemble de postures en mouvement qui répondent aux 22 lettres de l’alphabet hébraïque. Cette gestuelle est liée à la symbolique\, la calligraphie et la dynamique de chaque lettre. Elle travaille sur l’ancrage\, l’allongement et la respiration des tissus\, le souffle\, donnant une intention dans la partie du corps en résonance avec la lettre et s’inscrivant dans une relation macrocosme/microcosme. Natacha vous propose ici  un cycle de 5 ateliers qui suivra la progression des lettres telle qu’elle se présente dans l’alphabet. La participation par atelier est de 20 euros. La participation au cycle complet est vivement recommandée et souhaitée. Ces ateliers sont accessibles à tous. Inscription obligatoire via dansevoix@gmail.com. Plus d’infos sur www.natachasimmonds.com \nLes jeudis de 19h00 à 20h30 \n\n\n\n\n1er cycle :\n31 août\n28 septembre\n23 novembre\n21 décembre \nPrix : 20 euros/Atelier
URL:https://quatrequarts.coop/event/tehima-danse-sur-les-lettres-hebraiques/2023-08-31/
LOCATION:Quatre Quarts\, Rue Emile Henricot 61\, Court-Saint-Etienne\, 1490\, Belgique
CATEGORIES:Atelier
ATTACH;FMTTYPE=image/jpeg:https://quatrequarts.coop/wp-content/uploads/2023/05/01-ALEPH-scaled-e1696101697945.jpg
GEO:50.6459666;4.5632717
X-APPLE-STRUCTURED-LOCATION;VALUE=URI;X-ADDRESS=Quatre Quarts Rue Emile Henricot 61 Court-Saint-Etienne 1490 Belgique;X-APPLE-RADIUS=500;X-TITLE=Rue Emile Henricot 61:geo:4.5632717,50.6459666
END:VEVENT
END:VCALENDAR