BEGIN:VCALENDAR
VERSION:2.0
PRODID:-//Quatre Quarts - ECPv6.15.20//NONSGML v1.0//EN
CALSCALE:GREGORIAN
METHOD:PUBLISH
X-ORIGINAL-URL:https://quatrequarts.coop
X-WR-CALDESC:Évènements pour Quatre Quarts
REFRESH-INTERVAL;VALUE=DURATION:PT1H
X-Robots-Tag:noindex
X-PUBLISHED-TTL:PT1H
BEGIN:VTIMEZONE
TZID:Europe/Brussels
BEGIN:DAYLIGHT
TZOFFSETFROM:+0100
TZOFFSETTO:+0200
TZNAME:CEST
DTSTART:20210328T010000
END:DAYLIGHT
BEGIN:STANDARD
TZOFFSETFROM:+0200
TZOFFSETTO:+0100
TZNAME:CET
DTSTART:20211031T010000
END:STANDARD
BEGIN:DAYLIGHT
TZOFFSETFROM:+0100
TZOFFSETTO:+0200
TZNAME:CEST
DTSTART:20220327T010000
END:DAYLIGHT
BEGIN:STANDARD
TZOFFSETFROM:+0200
TZOFFSETTO:+0100
TZNAME:CET
DTSTART:20221030T010000
END:STANDARD
BEGIN:DAYLIGHT
TZOFFSETFROM:+0100
TZOFFSETTO:+0200
TZNAME:CEST
DTSTART:20230326T010000
END:DAYLIGHT
BEGIN:STANDARD
TZOFFSETFROM:+0200
TZOFFSETTO:+0100
TZNAME:CET
DTSTART:20231029T010000
END:STANDARD
END:VTIMEZONE
BEGIN:VEVENT
DTSTART;TZID=Europe/Brussels:20220801T093000
DTEND;TZID=Europe/Brussels:20220801T113000
DTSTAMP:20260424T230648
CREATED:20180910T105738Z
LAST-MODIFIED:20180910T111211Z
UID:10003554-1659346200-1659353400@quatrequarts.coop
SUMMARY:La physiologie de la naissance
DESCRIPTION:Rencontres périnatales avec l’Asbl Timoun\nL’équipe des sages-femmes de TIMOUN vous propose un cycle d’ateliers autour de la naissance. Ces séances sont ouvertes à tous les parents quel que soit le lieu de naissance de l’enfant. Elles se font en collectif\, à partir de 3 couples et ou mamans. Durant cet atelier\, nous allons découvrir comment le corps de la femme se prépare pour la mise au monde de l’enfant\, quelles sont les différentes phases\, comment les reconnaitre\, les accompagner. Comprendre le fonctionnement des hormones du travail fabuleux que font la mère et l’enfant. Nous aborderons l’évolution de ce travail\, la descente du bébé\, la poussée\, le périnée……
URL:https://quatrequarts.coop/event/rencontres-perinatales/2022-08-01/
END:VEVENT
BEGIN:VEVENT
DTSTART;TZID=Europe/Brussels:20220803T193000
DTEND;TZID=Europe/Brussels:20220803T220000
DTSTAMP:20260424T230648
CREATED:20180910T110134Z
LAST-MODIFIED:20180910T111145Z
UID:10003666-1659555000-1659564000@quatrequarts.coop
SUMMARY:La physiologie de la naissance
DESCRIPTION:Rencontres périnatales avec l’Asble Timoun\nL’équipe des sages-femmes de TIMOUN vous propose un cycle d’ateliers autour de la naissance. Ces séances sont ouvertes à tous les parents quel que soit le lieu de naissance de l’enfant. Elles se font en collectif\, à partir de 3 couples et ou mamans. Durant cet atelier\, nous allons découvrir comment le corps de la femme se prépare pour la mise au monde de l’enfant\, quelles sont les différentes phases\, comment les reconnaitre\, les accompagner. Comprendre le fonctionnement des hormones du travail fabuleux que font la mère et l’enfant. Nous aborderons l’évolution de ce travail\, la descente du bébé\, la poussée\, le périnée……
URL:https://quatrequarts.coop/event/rencontres-perinatales-2/2022-08-03/
END:VEVENT
BEGIN:VEVENT
DTSTART;TZID=Europe/Brussels:20220809T200000
DTEND;TZID=Europe/Brussels:20220809T230000
DTSTAMP:20260424T230648
CREATED:20221227T160822Z
LAST-MODIFIED:20221227T160822Z
UID:10003238-1660075200-1660086000@quatrequarts.coop
SUMMARY:Quatre Quart's Band
DESCRIPTION:Ensemble musical ouvert à tou·tes les instrumentistes et/ou chanteur·euses\, de tous styles et niveaux. Nous pouvons accueillir vocal\, percussion\, basse\, guitare\, violon(celle)\, et tout autre instrument. \n\n\nCovers français\, anglais\, ou plus\, seront au menu mais\, revisités\, arrangés à la sauce «Quatre Quarts Band». On compte sur la dynamique qui va se mettre en place pour en faire des reprises inattendues.\nVous venez participer à un\, trois ou tous les morceaux selon votre niveau\, mais avec un engagement d’assiduité aux répétitions toutes les deux semaines (2e et 4e mardi du mois\, de 20h à 23h) pour finaliser une presta de folie au Quatre Quarts.\n\n\nAttention\, ceci n’est pas un cours de musique\, vous devez pouvoir comprendre et suivre une grille d’accords ou une notation musicale et maîtriser votre instrument ou votre voix\, mais nous serons là pour progresser tous ensemble.\n\n\n\nSi vous êtes nouveau-nouvelle\, annoncez-vous tant que possible. \ncontact : olivier.stevens@oszone.be 
URL:https://quatrequarts.coop/event/quatre-quatres-band/2022-08-09/
LOCATION:Sans titre\, Belgique
ATTACH;FMTTYPE=image/png:https://quatrequarts.coop/wp-content/uploads/2022/01/Logo-QQB-1200-628-avec-fond-texte.png
END:VEVENT
BEGIN:VEVENT
DTSTART;TZID=Europe/Brussels:20220812T090000
DTEND;TZID=Europe/Brussels:20220812T120000
DTSTAMP:20260424T230648
CREATED:20180825T114406Z
LAST-MODIFIED:20180825T114406Z
UID:10003443-1660294800-1660305600@quatrequarts.coop
SUMMARY:"Cheminons ensemble"
DESCRIPTION:  \n  \n  \n 
URL:https://quatrequarts.coop/event/cheminons-ensemble/2022-08-12/
END:VEVENT
BEGIN:VEVENT
DTSTART;TZID=Europe/Brussels:20220815T093000
DTEND;TZID=Europe/Brussels:20220815T113000
DTSTAMP:20260424T230648
CREATED:20180910T105738Z
LAST-MODIFIED:20180910T111211Z
UID:10003555-1660555800-1660563000@quatrequarts.coop
SUMMARY:La physiologie de la naissance
DESCRIPTION:Rencontres périnatales avec l’Asbl Timoun\nL’équipe des sages-femmes de TIMOUN vous propose un cycle d’ateliers autour de la naissance. Ces séances sont ouvertes à tous les parents quel que soit le lieu de naissance de l’enfant. Elles se font en collectif\, à partir de 3 couples et ou mamans. Durant cet atelier\, nous allons découvrir comment le corps de la femme se prépare pour la mise au monde de l’enfant\, quelles sont les différentes phases\, comment les reconnaitre\, les accompagner. Comprendre le fonctionnement des hormones du travail fabuleux que font la mère et l’enfant. Nous aborderons l’évolution de ce travail\, la descente du bébé\, la poussée\, le périnée……
URL:https://quatrequarts.coop/event/rencontres-perinatales/2022-08-15/
END:VEVENT
BEGIN:VEVENT
DTSTART;TZID=Europe/Brussels:20220817T193000
DTEND;TZID=Europe/Brussels:20220817T220000
DTSTAMP:20260424T230648
CREATED:20180910T110134Z
LAST-MODIFIED:20180910T111145Z
UID:10003667-1660764600-1660773600@quatrequarts.coop
SUMMARY:La physiologie de la naissance
DESCRIPTION:Rencontres périnatales avec l’Asble Timoun\nL’équipe des sages-femmes de TIMOUN vous propose un cycle d’ateliers autour de la naissance. Ces séances sont ouvertes à tous les parents quel que soit le lieu de naissance de l’enfant. Elles se font en collectif\, à partir de 3 couples et ou mamans. Durant cet atelier\, nous allons découvrir comment le corps de la femme se prépare pour la mise au monde de l’enfant\, quelles sont les différentes phases\, comment les reconnaitre\, les accompagner. Comprendre le fonctionnement des hormones du travail fabuleux que font la mère et l’enfant. Nous aborderons l’évolution de ce travail\, la descente du bébé\, la poussée\, le périnée……
URL:https://quatrequarts.coop/event/rencontres-perinatales-2/2022-08-17/
END:VEVENT
BEGIN:VEVENT
DTSTART;TZID=Europe/Brussels:20220818T180000
DTEND;TZID=Europe/Brussels:20220818T200000
DTSTAMP:20260424T230648
CREATED:20220503T123432Z
LAST-MODIFIED:20220528T094614Z
UID:10003802-1660845600-1660852800@quatrequarts.coop
SUMMARY:Etre acteur de sa vie
DESCRIPTION: 
URL:https://quatrequarts.coop/event/etre-acteur-de-sa-vie/2022-08-18/
LOCATION:Sans titre\, Belgique
END:VEVENT
BEGIN:VEVENT
DTSTART;TZID=Europe/Brussels:20220819T210000
DTEND;TZID=Europe/Brussels:20220819T220000
DTSTAMP:20260424T230648
CREATED:20220621T123716Z
LAST-MODIFIED:20220621T123716Z
UID:10002958-1660942800-1660946400@quatrequarts.coop
SUMMARY:Concert : CHARANGO & CIE
DESCRIPTION:Charango et Cie trio c’est un projet musical qui mélange sans complexe les cultures et les styles pour vous emmener en voyage au son cristallin du Charango petite guitare des Andes.  Cela donne une musique métissée qui raconte des histoires sans frontière d’ici et de là-bas. Un peu de Bolivie avec Hugo Paricuello aux flûtes et percussions andines\, un peu de Chili avec Max Foncea à la guitare et un peu de belgitude féminine avec Marie Laduron au charango et à la compo.  \n  \n  \nhttps://www.youtube.com/playlist?list=PLM_66D8NBDdFjjB_OOOCxKiCS2G7Mtl3R
URL:https://quatrequarts.coop/event/concert-charango-cie/
LOCATION:Sans titre\, Belgique
ATTACH;FMTTYPE=image/jpeg:https://quatrequarts.coop/wp-content/uploads/2022/06/cHARANGO-trio-POUR-LE-QUATRE-QUART-.jpg
END:VEVENT
BEGIN:VEVENT
DTSTART;TZID=Europe/Brussels:20220820T100000
DTEND;TZID=Europe/Brussels:20220820T130000
DTSTAMP:20260424T230648
CREATED:20210605T070030Z
LAST-MODIFIED:20230531T121130Z
UID:10004502-1660989600-1661000400@quatrequarts.coop
SUMMARY:Camion des Filles - friperie itinérante
DESCRIPTION:Le Camion des Filles\,\nune friperie itinérante\, une boutique qui roule…\nC’est l’idée de 3 filles qui veulent s’habiller et consommer autrement.\nLe Camion des Filles\, un nouveau concept en Brabant wallon.\nFini les vêtements dormant dans les armoires\, on les fait circuler entre\nles filles de la région à travers un nouveau circuit court\, solidaire et convivial !\nOn vous rachète les vêtements que vous ne portez plus\, on les revend à la\npièce et le surplus est donné à des associations…\nle tout dans un magnifique camion qui viendra à votre rencontre et\ncirculera de lieu en lieu public ou privé.\nValorisons ensemble la seconde main pour une consommation plus juste et\nresponsable. \nhttps://www.facebook.com/Le-Camion-des-Filles-100433225113981
URL:https://quatrequarts.coop/event/camion-des-filles-friperie-itinerante-2022-06-18/2022-08-20/
ATTACH;FMTTYPE=image/jpeg:https://quatrequarts.coop/wp-content/uploads/2021/06/DSC_0242-e1689692088352.jpg
END:VEVENT
BEGIN:VEVENT
DTSTART;TZID=Europe/Brussels:20220820T183000
DTEND;TZID=Europe/Brussels:20220820T220000
DTSTAMP:20260424T230648
CREATED:20220624T122720Z
LAST-MODIFIED:20220624T124900Z
UID:10004674-1661020200-1661032800@quatrequarts.coop
SUMMARY:Soirée grand jeu
DESCRIPTION:Pendant tout l’été 2022\, chaque samedi soir\, des coopérateur·rices vous proposent des soirées à thème avec un plat unique (15 €) simple et convivial\, suivi d’une animation. \nCe 20 août: propositions de salades estivales pour ensuite jouer à un incontournable des jeux en grand groupe: Two Rooms & a Boom. Il s’agit d’un jeu de société très particulier pouvant être joué jusqu’à 30 en parties courtes de moins de 10 minutes : intuition\, déduction sociale avec plein de rôles cachés. \nRéservation fortement conseillée au 010 613 813
URL:https://quatrequarts.coop/event/soiree-grand-jeu/
LOCATION:Sans titre\, Belgique
ATTACH;FMTTYPE=image/jpeg:https://quatrequarts.coop/wp-content/uploads/2022/06/ezgif.com-gif-maker.jpg
ORGANIZER;CN="Quatre Quarts":MAILTO:viedulieu@quatrequarts.coop
END:VEVENT
BEGIN:VEVENT
DTSTART;TZID=Europe/Brussels:20220823T200000
DTEND;TZID=Europe/Brussels:20220823T230000
DTSTAMP:20260424T230648
CREATED:20220128T151459Z
LAST-MODIFIED:20220927T095957Z
UID:10003224-1661284800-1661295600@quatrequarts.coop
SUMMARY:Quatre Quart's Band
DESCRIPTION:Ensemble musical ouvert à tou·tes les instrumentistes et/ou chanteur·euses\, de tous styles et niveaux. Nous pouvons accueillir vocal\, percussion\, basse\, guitare\, violon(celle)\, et tout autre instrument. \n\n\nCovers français\, anglais\, ou plus\, seront au menu mais\, revisités\, arrangés à la sauce «Quatre Quarts Band». On compte sur la dynamique qui va se mettre en place pour en faire des reprises inattendues.\nVous venez participer à un\, trois ou tous les morceaux selon votre niveau\, mais avec un engagement d’assiduité aux répétitions toutes les deux semaines (2e et 4e mardi du mois\, de 20h à 23h) pour finaliser une presta de folie au Quatre Quarts.\n\n\nAttention\, ceci n’est pas un cours de musique\, vous devez pouvoir comprendre et suivre une grille d’accords ou une notation musicale et maîtriser votre instrument ou votre voix\, mais nous serons là pour progresser tous ensemble.\n\n\n\nSi vous êtes nouveau-nouvelle\, annoncez-vous tant que possible. \ncontact : olivier.stevens@oszone.be 
URL:https://quatrequarts.coop/event/quatre-quatres-band/2022-08-23/
LOCATION:Sans titre\, Belgique
ATTACH;FMTTYPE=image/png:https://quatrequarts.coop/wp-content/uploads/2022/01/Logo-QQB-1200-628-avec-fond-texte.png
END:VEVENT
BEGIN:VEVENT
DTSTART;TZID=Europe/Brussels:20220825T180000
DTEND;TZID=Europe/Brussels:20220825T200000
DTSTAMP:20260424T230648
CREATED:20220503T123432Z
LAST-MODIFIED:20220528T094614Z
UID:10003803-1661450400-1661457600@quatrequarts.coop
SUMMARY:Etre acteur de sa vie
DESCRIPTION: 
URL:https://quatrequarts.coop/event/etre-acteur-de-sa-vie/2022-08-25/
LOCATION:Sans titre\, Belgique
END:VEVENT
BEGIN:VEVENT
DTSTART;TZID=Europe/Brussels:20220826T090000
DTEND;TZID=Europe/Brussels:20220826T120000
DTSTAMP:20260424T230648
CREATED:20180825T114406Z
LAST-MODIFIED:20180825T114406Z
UID:10003444-1661504400-1661515200@quatrequarts.coop
SUMMARY:"Cheminons ensemble"
DESCRIPTION:  \n  \n  \n 
URL:https://quatrequarts.coop/event/cheminons-ensemble/2022-08-26/
END:VEVENT
BEGIN:VEVENT
DTSTART;TZID=Europe/Brussels:20220826T180000
DTEND;TZID=Europe/Brussels:20220826T190000
DTSTAMP:20260424T230649
CREATED:20170928T131010Z
LAST-MODIFIED:20180926T092627Z
UID:10002642-1661536800-1661540400@quatrequarts.coop
SUMMARY:Table de conversation en espagnol
DESCRIPTION:Un vendredi par mois\, venez à notre table de conversation en espagnol ! gérés par un couple de voyageurs. \nOn peut aborder divers sujets\, culture\, voyages\, paysages\, nourriture\, musique et tout ce que vous proposez. \nPrenons un bol d’air latino ensemble ! \n 
URL:https://quatrequarts.coop/event/table-de-conversation-espagnole/2022-08-26/
ATTACH;FMTTYPE=image/jpeg:https://quatrequarts.coop/wp-content/uploads/2017/09/drapeau-espagnol.jpg
ORGANIZER;CN="Sarai & Quentin":MAILTO:heritageancestral@gmail.com
END:VEVENT
BEGIN:VEVENT
DTSTART;TZID=Europe/Brussels:20220826T210000
DTEND;TZID=Europe/Brussels:20220826T220000
DTSTAMP:20260424T230649
CREATED:20220624T144923Z
LAST-MODIFIED:20220624T144923Z
UID:10004677-1661547600-1661551200@quatrequarts.coop
SUMMARY:Concert : MAYA
DESCRIPTION:​ \nAuteure-compositrice-interprète\, d’origine belgo-turque\, Maya Nashoba nous emmène dans son univers de chanson française pop folk ponctuée d’une touche orientale. \nDepuis le début de son projet en 2017\, elle a sorti deux EPs qu’elle a joués sur plus de 150 dates\, dont les premières parties de Saule. Son dernier EP sorti en 2020 est intitulé « En Chemin ». C’est sa vie\, mais aussi une part de celle de chacun de nous. \nMaya Nashoba est avant tout un équilibre subtil entre sensibilité et force intérieure\, doute et espoir\, calme et passion. Quelque part entre les mondes de Vianney et de Pomme\, elle nous conte son histoire qui est comme celle de chacun\, unique.
URL:https://quatrequarts.coop/event/concert-maya/
LOCATION:Sans titre\, Belgique
ATTACH;FMTTYPE=image/jpeg:https://quatrequarts.coop/wp-content/uploads/2022/06/Lara-Herbinia-2021-2_edited.jpg
END:VEVENT
BEGIN:VEVENT
DTSTART;TZID=Europe/Brussels:20220827T183000
DTEND;TZID=Europe/Brussels:20220827T220000
DTSTAMP:20260424T230649
CREATED:20220624T122720Z
LAST-MODIFIED:20220624T125303Z
UID:10004675-1661625000-1661637600@quatrequarts.coop
SUMMARY:Soirée Karaoké
DESCRIPTION:Pendant tout l’été 2022\, chaque samedi soir\, des coopérateur·rices vous proposent des soirées à thème avec un plat unique (15 €) simple et convivial\, suivi d’une animation. \nCe 27 août: Moussaka veggie\, suivi d’une soirée Karaoké (chansons à puiser dans un large catalogue) \nRéservation fortement conseillée au 010 613 813
URL:https://quatrequarts.coop/event/soiree-karaoke/
LOCATION:Sans titre\, Belgique
ATTACH;FMTTYPE=image/jpeg:https://quatrequarts.coop/wp-content/uploads/2022/06/nikola-duza-6w66byzkPBI-unsplash-scaled.jpg
ORGANIZER;CN="Quatre Quarts":MAILTO:viedulieu@quatrequarts.coop
END:VEVENT
BEGIN:VEVENT
DTSTART;TZID=Europe/Brussels:20220829T093000
DTEND;TZID=Europe/Brussels:20220829T113000
DTSTAMP:20260424T230649
CREATED:20180910T105738Z
LAST-MODIFIED:20180910T111211Z
UID:10003556-1661765400-1661772600@quatrequarts.coop
SUMMARY:La physiologie de la naissance
DESCRIPTION:Rencontres périnatales avec l’Asbl Timoun\nL’équipe des sages-femmes de TIMOUN vous propose un cycle d’ateliers autour de la naissance. Ces séances sont ouvertes à tous les parents quel que soit le lieu de naissance de l’enfant. Elles se font en collectif\, à partir de 3 couples et ou mamans. Durant cet atelier\, nous allons découvrir comment le corps de la femme se prépare pour la mise au monde de l’enfant\, quelles sont les différentes phases\, comment les reconnaitre\, les accompagner. Comprendre le fonctionnement des hormones du travail fabuleux que font la mère et l’enfant. Nous aborderons l’évolution de ce travail\, la descente du bébé\, la poussée\, le périnée……
URL:https://quatrequarts.coop/event/rencontres-perinatales/2022-08-29/
END:VEVENT
BEGIN:VEVENT
DTSTART;TZID=Europe/Brussels:20220831T193000
DTEND;TZID=Europe/Brussels:20220831T220000
DTSTAMP:20260424T230649
CREATED:20180910T110134Z
LAST-MODIFIED:20180910T111145Z
UID:10003668-1661974200-1661983200@quatrequarts.coop
SUMMARY:La physiologie de la naissance
DESCRIPTION:Rencontres périnatales avec l’Asble Timoun\nL’équipe des sages-femmes de TIMOUN vous propose un cycle d’ateliers autour de la naissance. Ces séances sont ouvertes à tous les parents quel que soit le lieu de naissance de l’enfant. Elles se font en collectif\, à partir de 3 couples et ou mamans. Durant cet atelier\, nous allons découvrir comment le corps de la femme se prépare pour la mise au monde de l’enfant\, quelles sont les différentes phases\, comment les reconnaitre\, les accompagner. Comprendre le fonctionnement des hormones du travail fabuleux que font la mère et l’enfant. Nous aborderons l’évolution de ce travail\, la descente du bébé\, la poussée\, le périnée……
URL:https://quatrequarts.coop/event/rencontres-perinatales-2/2022-08-31/
END:VEVENT
BEGIN:VEVENT
DTSTART;TZID=Europe/Brussels:20220831T203000
DTEND;TZID=Europe/Brussels:20220831T220000
DTSTAMP:20260424T230649
CREATED:20220615T113400Z
LAST-MODIFIED:20241015T131152Z
UID:10004635-1661977800-1661983200@quatrequarts.coop
SUMMARY:Table ouverte Cobeps
DESCRIPTION:plus d’info 010/616750 \njm.wattecamps@cobeps.org \nMerci
URL:https://quatrequarts.coop/event/table-ouverte-cobeps/2022-08-31/
LOCATION:Sans titre\, Belgique
CATEGORIES:Echange
ATTACH;FMTTYPE=image/jpeg:https://quatrequarts.coop/wp-content/uploads/2022/06/Table_ouverte_pub1.jpg
END:VEVENT
END:VCALENDAR