BEGIN:VCALENDAR
VERSION:2.0
PRODID:-//Quatre Quarts - ECPv6.15.20//NONSGML v1.0//EN
CALSCALE:GREGORIAN
METHOD:PUBLISH
X-ORIGINAL-URL:https://quatrequarts.coop
X-WR-CALDESC:Évènements pour Quatre Quarts
REFRESH-INTERVAL;VALUE=DURATION:PT1H
X-Robots-Tag:noindex
X-PUBLISHED-TTL:PT1H
BEGIN:VTIMEZONE
TZID:Europe/Brussels
BEGIN:DAYLIGHT
TZOFFSETFROM:+0100
TZOFFSETTO:+0200
TZNAME:CEST
DTSTART:20200329T010000
END:DAYLIGHT
BEGIN:STANDARD
TZOFFSETFROM:+0200
TZOFFSETTO:+0100
TZNAME:CET
DTSTART:20201025T010000
END:STANDARD
BEGIN:DAYLIGHT
TZOFFSETFROM:+0100
TZOFFSETTO:+0200
TZNAME:CEST
DTSTART:20210328T010000
END:DAYLIGHT
BEGIN:STANDARD
TZOFFSETFROM:+0200
TZOFFSETTO:+0100
TZNAME:CET
DTSTART:20211031T010000
END:STANDARD
BEGIN:DAYLIGHT
TZOFFSETFROM:+0100
TZOFFSETTO:+0200
TZNAME:CEST
DTSTART:20220327T010000
END:DAYLIGHT
BEGIN:STANDARD
TZOFFSETFROM:+0200
TZOFFSETTO:+0100
TZNAME:CET
DTSTART:20221030T010000
END:STANDARD
END:VTIMEZONE
BEGIN:VEVENT
DTSTART;TZID=Europe/Brussels:20211105T090000
DTEND;TZID=Europe/Brussels:20211105T120000
DTSTAMP:20260425T151503
CREATED:20180825T114406Z
LAST-MODIFIED:20180825T114406Z
UID:10003423-1636102800-1636113600@quatrequarts.coop
SUMMARY:"Cheminons ensemble"
DESCRIPTION:  \n  \n  \n 
URL:https://quatrequarts.coop/event/cheminons-ensemble/2021-11-05/
END:VEVENT
BEGIN:VEVENT
DTSTART;TZID=Europe/Brussels:20211105T210000
DTEND;TZID=Europe/Brussels:20211105T230000
DTSTAMP:20260425T151503
CREATED:20211030T150032Z
LAST-MODIFIED:20211101T144039Z
UID:10004520-1636146000-1636153200@quatrequarts.coop
SUMMARY:Jam Session
DESCRIPTION:Organisateur : Olivier Stevens (olivier.stevens@oszone.be) \n\n\nVenez avec votre instrument et/ou votre voix\, ou simplement avec vos oreilles pour écouter ;-).\nTous niveaux\, tous styles\, impros et cover. Accueil des musiciens à partir de 19h40.\n\n\n\n\n\n\n\n\n\n>> gratuit\n>> restauration possible sur place\n\nLien facebook : https://www.facebook.com/events/533079311158236?ref=newsfeed
URL:https://quatrequarts.coop/event/vendredi-5-novembre-20h00-23h00/
ATTACH;FMTTYPE=image/jpeg:https://quatrequarts.coop/wp-content/uploads/2021/10/726616c7-b459-d443-e543-75ae2d94219a.jpg
END:VEVENT
BEGIN:VEVENT
DTSTART;TZID=Europe/Brussels:20211106T200000
DTEND;TZID=Europe/Brussels:20211106T220000
DTSTAMP:20260425T151503
CREATED:20211030T150542Z
LAST-MODIFIED:20211030T171932Z
UID:10004100-1636228800-1636236000@quatrequarts.coop
SUMMARY:Le Voyage de la Baleine
DESCRIPTION:« On connait tous des histoires de grands voyages\, d’incroyables traversées\,\nde héros qui marchent à contre-courant se battant contre l’adversité… \nMoi je vous propose de remonter avant même que le voyage ne commence…\nQuand on ressent l’appel de la mer\, comment trouve-t-on la force de faire le\npremier pas dans le vide ? \nPar la prose\, la musique et le jeu\, je vous emmène dans mon univers pour un\nvoyage au cœur des grandes questions : Qui suis-je ? Quelle est ma place ? Ça\nveut dire quoi ‘VIVRE’ ? » \n  \nPour tout public. \nParticipation au chapeau.
URL:https://quatrequarts.coop/event/le-voyage-de-la-baleine/
ATTACH;FMTTYPE=image/jpeg:https://quatrequarts.coop/wp-content/uploads/2021/10/le-voyage-de-la-baleine-affiche-1.jpg
END:VEVENT
BEGIN:VEVENT
DTSTART;TZID=Europe/Brussels:20211108T093000
DTEND;TZID=Europe/Brussels:20211108T113000
DTSTAMP:20260425T151503
CREATED:20180910T105738Z
LAST-MODIFIED:20180910T111211Z
UID:10003535-1636363800-1636371000@quatrequarts.coop
SUMMARY:La physiologie de la naissance
DESCRIPTION:Rencontres périnatales avec l’Asbl Timoun\nL’équipe des sages-femmes de TIMOUN vous propose un cycle d’ateliers autour de la naissance. Ces séances sont ouvertes à tous les parents quel que soit le lieu de naissance de l’enfant. Elles se font en collectif\, à partir de 3 couples et ou mamans. Durant cet atelier\, nous allons découvrir comment le corps de la femme se prépare pour la mise au monde de l’enfant\, quelles sont les différentes phases\, comment les reconnaitre\, les accompagner. Comprendre le fonctionnement des hormones du travail fabuleux que font la mère et l’enfant. Nous aborderons l’évolution de ce travail\, la descente du bébé\, la poussée\, le périnée……
URL:https://quatrequarts.coop/event/rencontres-perinatales/2021-11-08/
END:VEVENT
BEGIN:VEVENT
DTSTART;TZID=Europe/Brussels:20211109T200000
DTEND;TZID=Europe/Brussels:20211109T220000
DTSTAMP:20260425T151503
CREATED:20210929T072843Z
LAST-MODIFIED:20211202T161306Z
UID:10004102-1636488000-1636495200@quatrequarts.coop
SUMMARY:Quatre Quarts Band
DESCRIPTION:Ensemble musical ouvert à tou·tes les musicien·nes et/ou chanteur·euses\, de tous styles et niveaux. Nous pouvons accueillir chant\, percussion\, basse\, guitare\, violon(celle)\, et tout autre instrument. \n\nCovers français\, anglais\, ou plus\, seront au menu mais\, revisités\, arrangés à la sauce «Quatre Quarts Band». On compte sur la dynamique qui va se mettre en place pour en faire des reprises inattendues.\nVous venez participer à un\, trois ou dix morceaux selon votre niveau\, mais avec un engagement d’assiduité aux répétitions toutes les deux semaines (2e et 4e mardi du mois\, de 20h à 22h) pour finaliser un concert de folie au Quatre Quarts.\n\nAttention\, ceci n’est pas un cours de musique\, vous devez pouvoir comprendre et suivre une grille d’accords ou une notation musicale et maîtriser votre instrument ou votre voix\, mais nous serons là pour progresser tous ensemble.\n\n>> Et ici un petit teaser 😉\n\nInfos : olivier.stevens@oszone.be \nGratuit
URL:https://quatrequarts.coop/event/quatre-quarts-band-repet/2021-11-09/
ATTACH;FMTTYPE=image/png:https://quatrequarts.coop/wp-content/uploads/2021/09/Logo-QQB-1200-628-avec-fond-texte.png
END:VEVENT
BEGIN:VEVENT
DTSTART;TZID=Europe/Brussels:20211109T200000
DTEND;TZID=Europe/Brussels:20211109T230000
DTSTAMP:20260425T151503
CREATED:20221227T160822Z
LAST-MODIFIED:20221227T160822Z
UID:10003229-1636488000-1636498800@quatrequarts.coop
SUMMARY:Quatre Quart's Band
DESCRIPTION:Ensemble musical ouvert à tou·tes les instrumentistes et/ou chanteur·euses\, de tous styles et niveaux. Nous pouvons accueillir vocal\, percussion\, basse\, guitare\, violon(celle)\, et tout autre instrument. \n\n\nCovers français\, anglais\, ou plus\, seront au menu mais\, revisités\, arrangés à la sauce «Quatre Quarts Band». On compte sur la dynamique qui va se mettre en place pour en faire des reprises inattendues.\nVous venez participer à un\, trois ou tous les morceaux selon votre niveau\, mais avec un engagement d’assiduité aux répétitions toutes les deux semaines (2e et 4e mardi du mois\, de 20h à 23h) pour finaliser une presta de folie au Quatre Quarts.\n\n\nAttention\, ceci n’est pas un cours de musique\, vous devez pouvoir comprendre et suivre une grille d’accords ou une notation musicale et maîtriser votre instrument ou votre voix\, mais nous serons là pour progresser tous ensemble.\n\n\n\nSi vous êtes nouveau-nouvelle\, annoncez-vous tant que possible. \ncontact : olivier.stevens@oszone.be 
URL:https://quatrequarts.coop/event/quatre-quatres-band/2021-11-09/
LOCATION:Sans titre\, Belgique
ATTACH;FMTTYPE=image/png:https://quatrequarts.coop/wp-content/uploads/2022/01/Logo-QQB-1200-628-avec-fond-texte.png
END:VEVENT
BEGIN:VEVENT
DTSTART;TZID=Europe/Brussels:20211110T180000
DTEND;TZID=Europe/Brussels:20211110T220000
DTSTAMP:20260425T151503
CREATED:20211030T154329Z
LAST-MODIFIED:20211108T144742Z
UID:10003166-1636567200-1636581600@quatrequarts.coop
SUMMARY:Vernissage Nouvelle carte restauration
DESCRIPTION:Cela fait maintenant quelques temps que nous avons une bien belle équipe aux commandes des fourneaux…\nAprès un rodage du palais\, le moment est venu de dévoiler la nouvelle carte ! Venez nombreux pour saliver ensemble ! \nInscrivez-vous via info@quatrequarts.coop ou en nous téléphonant au 010 613 813 !
URL:https://quatrequarts.coop/event/vernissage-nouvelle-carte-restauration/
ATTACH;FMTTYPE=application/pdf:https://quatrequarts.coop/wp-content/uploads/2021/10/Manu44.pdf
END:VEVENT
BEGIN:VEVENT
DTSTART;TZID=Europe/Brussels:20211110T193000
DTEND;TZID=Europe/Brussels:20211110T220000
DTSTAMP:20260425T151503
CREATED:20180910T110134Z
LAST-MODIFIED:20180910T111145Z
UID:10003647-1636572600-1636581600@quatrequarts.coop
SUMMARY:La physiologie de la naissance
DESCRIPTION:Rencontres périnatales avec l’Asble Timoun\nL’équipe des sages-femmes de TIMOUN vous propose un cycle d’ateliers autour de la naissance. Ces séances sont ouvertes à tous les parents quel que soit le lieu de naissance de l’enfant. Elles se font en collectif\, à partir de 3 couples et ou mamans. Durant cet atelier\, nous allons découvrir comment le corps de la femme se prépare pour la mise au monde de l’enfant\, quelles sont les différentes phases\, comment les reconnaitre\, les accompagner. Comprendre le fonctionnement des hormones du travail fabuleux que font la mère et l’enfant. Nous aborderons l’évolution de ce travail\, la descente du bébé\, la poussée\, le périnée……
URL:https://quatrequarts.coop/event/rencontres-perinatales-2/2021-11-10/
END:VEVENT
BEGIN:VEVENT
DTSTART;TZID=Europe/Brussels:20211117T180000
DTEND;TZID=Europe/Brussels:20211117T210000
DTSTAMP:20260425T151503
CREATED:20211108T150023Z
LAST-MODIFIED:20211210T083526Z
UID:10004246-1637172000-1637182800@quatrequarts.coop
SUMMARY:Atelier Découvrez vos couleurs
DESCRIPTION:Découvrez votre palette de couleurs\, combinez vos vêtements et accordez votre maquillage ainsi que vos accessoires.\nAprès une introduction au Conseil en Image et l’explication de l’harmonie des couleurs\, nous analyserons ensemble les couleurs qui vous mettent en valeur avec un drapage personnalisé de chacune.\nChaque participante recevra une fiche reprenant les conseils couleur pour les vêtements\, le maquillage\, les cheveux et les bijoux.\n40 euros par personne\, places limitées et réservation obligatoire.\ninfos & inscription: alison@colorsandyou.be\nAcompte de 20 euros à payer à la réservation sur le compte de Colors&You Conseill en Image.\nBE29 0018 3080 3864\nCommunication: Nom et Prénom – date de l’atelier.\nLes acomptes font office de réservation et bloquent votre place pour l’atelier\, ils ne peuvent être remboursés.\nEn cas d’annulation 3 jours ou plus avant la date de atelier\, les acomptes peuvent être reportés pour tout autre atelier ou service de Colors & You.\nPour une annulation moins de 3 jours avant la date de l’atelier\, les acomptes ne peuvent être reportés.
URL:https://quatrequarts.coop/event/atelier-decouvrez-vos-couleurs-4/2021-11-17/
ATTACH;FMTTYPE=image/jpeg:https://quatrequarts.coop/wp-content/uploads/2021/10/Couleurs.jpeg
END:VEVENT
BEGIN:VEVENT
DTSTART;TZID=Europe/Brussels:20211118T180000
DTEND;TZID=Europe/Brussels:20211118T200000
DTSTAMP:20260425T151503
CREATED:20211030T152739Z
LAST-MODIFIED:20220112T100021Z
UID:10003264-1637258400-1637265600@quatrequarts.coop
SUMMARY:Envie de s'investir chez Quatre Quarts ?
DESCRIPTION:Vous souhaitez vous engager davantage chez Quatre Quarts ?\nMais vous ne savez pas comment… Alors venez prendre un moment pour faire le point avec un membre actif au quotidien dans la coopérative !\nToutes les ressources sont bienvenues.
URL:https://quatrequarts.coop/event/envie-de-sinvestir-chez-quatre-quarts/2021-11-18/
ATTACH;FMTTYPE=image/jpeg:https://quatrequarts.coop/wp-content/uploads/2020/07/116427927_582597759295830_7386334195426454888_n-1.jpg
END:VEVENT
BEGIN:VEVENT
DTSTART;TZID=Europe/Brussels:20211119T090000
DTEND;TZID=Europe/Brussels:20211119T120000
DTSTAMP:20260425T151503
CREATED:20180825T114406Z
LAST-MODIFIED:20180825T114406Z
UID:10003424-1637312400-1637323200@quatrequarts.coop
SUMMARY:"Cheminons ensemble"
DESCRIPTION:  \n  \n  \n 
URL:https://quatrequarts.coop/event/cheminons-ensemble/2021-11-19/
END:VEVENT
BEGIN:VEVENT
DTSTART;TZID=Europe/Brussels:20211122T093000
DTEND;TZID=Europe/Brussels:20211122T113000
DTSTAMP:20260425T151503
CREATED:20180910T105738Z
LAST-MODIFIED:20180910T111211Z
UID:10003536-1637573400-1637580600@quatrequarts.coop
SUMMARY:La physiologie de la naissance
DESCRIPTION:Rencontres périnatales avec l’Asbl Timoun\nL’équipe des sages-femmes de TIMOUN vous propose un cycle d’ateliers autour de la naissance. Ces séances sont ouvertes à tous les parents quel que soit le lieu de naissance de l’enfant. Elles se font en collectif\, à partir de 3 couples et ou mamans. Durant cet atelier\, nous allons découvrir comment le corps de la femme se prépare pour la mise au monde de l’enfant\, quelles sont les différentes phases\, comment les reconnaitre\, les accompagner. Comprendre le fonctionnement des hormones du travail fabuleux que font la mère et l’enfant. Nous aborderons l’évolution de ce travail\, la descente du bébé\, la poussée\, le périnée……
URL:https://quatrequarts.coop/event/rencontres-perinatales/2021-11-22/
END:VEVENT
BEGIN:VEVENT
DTSTART;TZID=Europe/Brussels:20211123T200000
DTEND;TZID=Europe/Brussels:20211123T220000
DTSTAMP:20260425T151503
CREATED:20210929T072843Z
LAST-MODIFIED:20211202T161306Z
UID:10004103-1637697600-1637704800@quatrequarts.coop
SUMMARY:Quatre Quarts Band
DESCRIPTION:Ensemble musical ouvert à tou·tes les musicien·nes et/ou chanteur·euses\, de tous styles et niveaux. Nous pouvons accueillir chant\, percussion\, basse\, guitare\, violon(celle)\, et tout autre instrument. \n\nCovers français\, anglais\, ou plus\, seront au menu mais\, revisités\, arrangés à la sauce «Quatre Quarts Band». On compte sur la dynamique qui va se mettre en place pour en faire des reprises inattendues.\nVous venez participer à un\, trois ou dix morceaux selon votre niveau\, mais avec un engagement d’assiduité aux répétitions toutes les deux semaines (2e et 4e mardi du mois\, de 20h à 22h) pour finaliser un concert de folie au Quatre Quarts.\n\nAttention\, ceci n’est pas un cours de musique\, vous devez pouvoir comprendre et suivre une grille d’accords ou une notation musicale et maîtriser votre instrument ou votre voix\, mais nous serons là pour progresser tous ensemble.\n\n>> Et ici un petit teaser 😉\n\nInfos : olivier.stevens@oszone.be \nGratuit
URL:https://quatrequarts.coop/event/quatre-quarts-band-repet/2021-11-23/
ATTACH;FMTTYPE=image/png:https://quatrequarts.coop/wp-content/uploads/2021/09/Logo-QQB-1200-628-avec-fond-texte.png
END:VEVENT
BEGIN:VEVENT
DTSTART;TZID=Europe/Brussels:20211123T200000
DTEND;TZID=Europe/Brussels:20211123T230000
DTSTAMP:20260425T151503
CREATED:20220128T151459Z
LAST-MODIFIED:20220927T095957Z
UID:10003215-1637697600-1637708400@quatrequarts.coop
SUMMARY:Quatre Quart's Band
DESCRIPTION:Ensemble musical ouvert à tou·tes les instrumentistes et/ou chanteur·euses\, de tous styles et niveaux. Nous pouvons accueillir vocal\, percussion\, basse\, guitare\, violon(celle)\, et tout autre instrument. \n\n\nCovers français\, anglais\, ou plus\, seront au menu mais\, revisités\, arrangés à la sauce «Quatre Quarts Band». On compte sur la dynamique qui va se mettre en place pour en faire des reprises inattendues.\nVous venez participer à un\, trois ou tous les morceaux selon votre niveau\, mais avec un engagement d’assiduité aux répétitions toutes les deux semaines (2e et 4e mardi du mois\, de 20h à 23h) pour finaliser une presta de folie au Quatre Quarts.\n\n\nAttention\, ceci n’est pas un cours de musique\, vous devez pouvoir comprendre et suivre une grille d’accords ou une notation musicale et maîtriser votre instrument ou votre voix\, mais nous serons là pour progresser tous ensemble.\n\n\n\nSi vous êtes nouveau-nouvelle\, annoncez-vous tant que possible. \ncontact : olivier.stevens@oszone.be 
URL:https://quatrequarts.coop/event/quatre-quatres-band/2021-11-23/
LOCATION:Sans titre\, Belgique
ATTACH;FMTTYPE=image/png:https://quatrequarts.coop/wp-content/uploads/2022/01/Logo-QQB-1200-628-avec-fond-texte.png
END:VEVENT
BEGIN:VEVENT
DTSTART;TZID=Europe/Brussels:20211124T193000
DTEND;TZID=Europe/Brussels:20211124T220000
DTSTAMP:20260425T151503
CREATED:20180910T110134Z
LAST-MODIFIED:20180910T111145Z
UID:10003648-1637782200-1637791200@quatrequarts.coop
SUMMARY:La physiologie de la naissance
DESCRIPTION:Rencontres périnatales avec l’Asble Timoun\nL’équipe des sages-femmes de TIMOUN vous propose un cycle d’ateliers autour de la naissance. Ces séances sont ouvertes à tous les parents quel que soit le lieu de naissance de l’enfant. Elles se font en collectif\, à partir de 3 couples et ou mamans. Durant cet atelier\, nous allons découvrir comment le corps de la femme se prépare pour la mise au monde de l’enfant\, quelles sont les différentes phases\, comment les reconnaitre\, les accompagner. Comprendre le fonctionnement des hormones du travail fabuleux que font la mère et l’enfant. Nous aborderons l’évolution de ce travail\, la descente du bébé\, la poussée\, le périnée……
URL:https://quatrequarts.coop/event/rencontres-perinatales-2/2021-11-24/
END:VEVENT
BEGIN:VEVENT
DTSTART;TZID=Europe/Brussels:20211125T183000
DTEND;TZID=Europe/Brussels:20211125T200000
DTSTAMP:20260425T151503
CREATED:20211108T151224Z
LAST-MODIFIED:20211108T151224Z
UID:10004147-1637865000-1637870400@quatrequarts.coop
SUMMARY:Réunion de discussions entre coopérateurs Quatre-Quarts
DESCRIPTION:Nous avons eu le temps de vous en parler une première fois le 5 octobre dernier\, plein de choses bougent chez Quatre-Quarts:\n– l’activité reprend après le COVID;\n– des cuisiniers et responsables bar ont été engagés;\n– on gère l’entièreté du bâtiment de la gare\, en y accueillant d’autres occupants avec de supers projets;\n– et on a besoin d’une myriade de coups de main\, petits ou grands\, pour parvenir à réussir tout cela…\n\n\n\n\nAlors\, pour prendre le temps de vous ré-expliquer ce qui n’est peut-être pas clair\, de répondre à vos questions\, d’écouter vos envies\, d’échanger\, de rêver… on vous propose deux rencontres \n– le jeudi 25 novembre de 18h30 à 20h\n– le mercredi 1er décembre de 18h30 à 20h  \n\n\nEn espérant qu’une de ces dates puisse vous convenir… Et que ce soit pour préparer cette rencontre ou pour poser des questions car vous ne saurez pas venir\, n’hésitez pas à mettre vos questions dans ce mini formulaire-ci.
URL:https://quatrequarts.coop/event/reunion-de-discussions-entre-cooperateurs-quatre-quarts/
ATTACH;FMTTYPE=image/jpeg:https://quatrequarts.coop/wp-content/uploads/2020/02/téléchargement-8.jpeg
END:VEVENT
BEGIN:VEVENT
DTSTART;TZID=Europe/Brussels:20211126T180000
DTEND;TZID=Europe/Brussels:20211126T190000
DTSTAMP:20260425T151503
CREATED:20170928T131010Z
LAST-MODIFIED:20180926T092627Z
UID:10002633-1637949600-1637953200@quatrequarts.coop
SUMMARY:Table de conversation en espagnol
DESCRIPTION:Un vendredi par mois\, venez à notre table de conversation en espagnol ! gérés par un couple de voyageurs. \nOn peut aborder divers sujets\, culture\, voyages\, paysages\, nourriture\, musique et tout ce que vous proposez. \nPrenons un bol d’air latino ensemble ! \n 
URL:https://quatrequarts.coop/event/table-de-conversation-espagnole/2021-11-26/
ATTACH;FMTTYPE=image/jpeg:https://quatrequarts.coop/wp-content/uploads/2017/09/drapeau-espagnol.jpg
ORGANIZER;CN="Sarai & Quentin":MAILTO:heritageancestral@gmail.com
END:VEVENT
BEGIN:VEVENT
DTSTART;TZID=Europe/Brussels:20211126T200000
DTEND;TZID=Europe/Brussels:20211126T220000
DTSTAMP:20260425T151503
CREATED:20211126T131311Z
LAST-MODIFIED:20211126T131311Z
UID:10004544-1637956800-1637964000@quatrequarts.coop
SUMMARY:Soirée vacances à vélo - GRACQ
DESCRIPTION:Venez nous rejoindre pour une soirée d’échanges autour d’aventures cyclistes insolites! \nVenez découvrir des cartes\, des itinéraires\, des photos. C’est le moment de rêver à de nouvelles destinations et façons de partir en vacances. \nAu programme: des présentations sur la Norvège\, la côte atlantique\, entre autres. \nPossibilité de manger sur place avant de passer de table en table. Soirée ouverte à tou(te)s.
URL:https://quatrequarts.coop/event/soiree-vacances-a-velo-gracq/
ATTACH;FMTTYPE=image/jpeg:https://quatrequarts.coop/wp-content/uploads/2021/11/gracq.jpg
END:VEVENT
BEGIN:VEVENT
DTSTART;TZID=Europe/Brussels:20211127T200000
DTEND;TZID=Europe/Brussels:20211127T220000
DTSTAMP:20260425T151503
CREATED:20211126T142528Z
LAST-MODIFIED:20211126T152017Z
UID:10004148-1638043200-1638050400@quatrequarts.coop
SUMMARY:Jam du 4/4 & Friends
DESCRIPTION:La Jam du Quatre Quarts et ses amis musiciens vous invitent à une soirée concert où vous en mettre plein les oreilles.Au programme :– Simply Us\, Duo de choc acoustique\, fervent de musiqueElles revisitent leurs titres favoris.– « 3…4 » \, Groupe de musique Folk.– Gary Hatman and The Burning Flow \, Roots Blues Rock Band.– QUICK&FLÛTE \, répertoire traditionnel allant du médiéval au folk irlandais.
URL:https://quatrequarts.coop/event/concert-jam-du-4-4-band/
ATTACH;FMTTYPE=image/jpeg:https://quatrequarts.coop/wp-content/uploads/2021/11/jamquaterquartsandfriends.jpg
END:VEVENT
END:VCALENDAR