BEGIN:VCALENDAR
VERSION:2.0
PRODID:-//Quatre Quarts - ECPv6.15.20//NONSGML v1.0//EN
CALSCALE:GREGORIAN
METHOD:PUBLISH
X-WR-CALNAME:Quatre Quarts
X-ORIGINAL-URL:https://quatrequarts.coop
X-WR-CALDESC:Évènements pour Quatre Quarts
REFRESH-INTERVAL;VALUE=DURATION:PT1H
X-Robots-Tag:noindex
X-PUBLISHED-TTL:PT1H
BEGIN:VTIMEZONE
TZID:Europe/Brussels
BEGIN:DAYLIGHT
TZOFFSETFROM:+0100
TZOFFSETTO:+0200
TZNAME:CEST
DTSTART:20200329T010000
END:DAYLIGHT
BEGIN:STANDARD
TZOFFSETFROM:+0200
TZOFFSETTO:+0100
TZNAME:CET
DTSTART:20201025T010000
END:STANDARD
BEGIN:DAYLIGHT
TZOFFSETFROM:+0100
TZOFFSETTO:+0200
TZNAME:CEST
DTSTART:20210328T010000
END:DAYLIGHT
BEGIN:STANDARD
TZOFFSETFROM:+0200
TZOFFSETTO:+0100
TZNAME:CET
DTSTART:20211031T010000
END:STANDARD
BEGIN:DAYLIGHT
TZOFFSETFROM:+0100
TZOFFSETTO:+0200
TZNAME:CEST
DTSTART:20220327T010000
END:DAYLIGHT
BEGIN:STANDARD
TZOFFSETFROM:+0200
TZOFFSETTO:+0100
TZNAME:CET
DTSTART:20221030T010000
END:STANDARD
END:VTIMEZONE
BEGIN:VEVENT
DTSTART;TZID=Europe/Brussels:20211001T200000
DTEND;TZID=Europe/Brussels:20211001T230000
DTSTAMP:20260425T170108
CREATED:20200930T191257Z
LAST-MODIFIED:20210929T065636Z
UID:10004285-1633118400-1633129200@quatrequarts.coop
SUMMARY:Jam session
DESCRIPTION:Organisateur : Olivier Stevens (olivier.stevens@oszone.be) \n\n\nVenez avec votre instrument et/ou votre voix\, ou simplement avec vos oreilles pour écouter ;-).\nTous niveaux\, tous styles\, impros et cover. Accueil des musiciens à partir de 19h40.\n\n\n\n\n\n\n\n\n\n>>gratuit\n >>restauration possible sur place\n\nLien facebook : https://www.facebook.com/events/533079311158236?ref=newsfeed
URL:https://quatrequarts.coop/event/20777/2021-10-01/
ATTACH;FMTTYPE=image/jpeg:https://quatrequarts.coop/wp-content/uploads/2020/09/104128258_10223229367786788_2207158401393696453_o.jpg
END:VEVENT
BEGIN:VEVENT
DTSTART;TZID=Europe/Brussels:20211005T183000
DTEND;TZID=Europe/Brussels:20211005T223000
DTSTAMP:20260425T170108
CREATED:20210929T071145Z
LAST-MODIFIED:20210930T080924Z
UID:10004242-1633458600-1633473000@quatrequarts.coop
SUMMARY:Assemblée générale festive
DESCRIPTION:Toute l’équipe te donne rendez-vous le 5 octobre dès 18h30 pour une assemblée festive ouverte à tous pour (re)découvrir la vie au sein de la coopérative\, ses nouveaux projets et visages…\nUne opportunité pour échanger ensemble des nouvelles perspectives et des différentes façons de s’impliquer.\nOu simplement pour se revoir ou se rencontrer\, le tout dans une ambiance conviviale !\nProgramme détaillé à venir bientôt… Stay tuned !
URL:https://quatrequarts.coop/event/assemblee-generale-festive/
ATTACH;FMTTYPE=image/jpeg:https://quatrequarts.coop/wp-content/uploads/2021/09/242767578_4349544181749914_4236459152774775855_n.jpg
END:VEVENT
BEGIN:VEVENT
DTSTART;TZID=Europe/Brussels:20211008T090000
DTEND;TZID=Europe/Brussels:20211008T120000
DTSTAMP:20260425T170108
CREATED:20180825T114406Z
LAST-MODIFIED:20180825T114406Z
UID:10003421-1633683600-1633694400@quatrequarts.coop
SUMMARY:"Cheminons ensemble"
DESCRIPTION:  \n  \n  \n 
URL:https://quatrequarts.coop/event/cheminons-ensemble/2021-10-08/
END:VEVENT
BEGIN:VEVENT
DTSTART;TZID=Europe/Brussels:20211011T093000
DTEND;TZID=Europe/Brussels:20211011T113000
DTSTAMP:20260425T170108
CREATED:20180910T105738Z
LAST-MODIFIED:20180910T111211Z
UID:10003533-1633944600-1633951800@quatrequarts.coop
SUMMARY:La physiologie de la naissance
DESCRIPTION:Rencontres périnatales avec l’Asbl Timoun\nL’équipe des sages-femmes de TIMOUN vous propose un cycle d’ateliers autour de la naissance. Ces séances sont ouvertes à tous les parents quel que soit le lieu de naissance de l’enfant. Elles se font en collectif\, à partir de 3 couples et ou mamans. Durant cet atelier\, nous allons découvrir comment le corps de la femme se prépare pour la mise au monde de l’enfant\, quelles sont les différentes phases\, comment les reconnaitre\, les accompagner. Comprendre le fonctionnement des hormones du travail fabuleux que font la mère et l’enfant. Nous aborderons l’évolution de ce travail\, la descente du bébé\, la poussée\, le périnée……
URL:https://quatrequarts.coop/event/rencontres-perinatales/2021-10-11/
END:VEVENT
BEGIN:VEVENT
DTSTART;TZID=Europe/Brussels:20211012T200000
DTEND;TZID=Europe/Brussels:20211012T230000
DTSTAMP:20260425T170108
CREATED:20221227T160822Z
LAST-MODIFIED:20221227T160822Z
UID:10003228-1634068800-1634079600@quatrequarts.coop
SUMMARY:Quatre Quart's Band
DESCRIPTION:Ensemble musical ouvert à tou·tes les instrumentistes et/ou chanteur·euses\, de tous styles et niveaux. Nous pouvons accueillir vocal\, percussion\, basse\, guitare\, violon(celle)\, et tout autre instrument. \n\n\nCovers français\, anglais\, ou plus\, seront au menu mais\, revisités\, arrangés à la sauce «Quatre Quarts Band». On compte sur la dynamique qui va se mettre en place pour en faire des reprises inattendues.\nVous venez participer à un\, trois ou tous les morceaux selon votre niveau\, mais avec un engagement d’assiduité aux répétitions toutes les deux semaines (2e et 4e mardi du mois\, de 20h à 23h) pour finaliser une presta de folie au Quatre Quarts.\n\n\nAttention\, ceci n’est pas un cours de musique\, vous devez pouvoir comprendre et suivre une grille d’accords ou une notation musicale et maîtriser votre instrument ou votre voix\, mais nous serons là pour progresser tous ensemble.\n\n\n\nSi vous êtes nouveau-nouvelle\, annoncez-vous tant que possible. \ncontact : olivier.stevens@oszone.be 
URL:https://quatrequarts.coop/event/quatre-quatres-band/2021-10-12/
LOCATION:Sans titre\, Belgique
ATTACH;FMTTYPE=image/png:https://quatrequarts.coop/wp-content/uploads/2022/01/Logo-QQB-1200-628-avec-fond-texte.png
END:VEVENT
BEGIN:VEVENT
DTSTART;TZID=Europe/Brussels:20211013T193000
DTEND;TZID=Europe/Brussels:20211013T220000
DTSTAMP:20260425T170108
CREATED:20180910T110134Z
LAST-MODIFIED:20180910T111145Z
UID:10003645-1634153400-1634162400@quatrequarts.coop
SUMMARY:La physiologie de la naissance
DESCRIPTION:Rencontres périnatales avec l’Asble Timoun\nL’équipe des sages-femmes de TIMOUN vous propose un cycle d’ateliers autour de la naissance. Ces séances sont ouvertes à tous les parents quel que soit le lieu de naissance de l’enfant. Elles se font en collectif\, à partir de 3 couples et ou mamans. Durant cet atelier\, nous allons découvrir comment le corps de la femme se prépare pour la mise au monde de l’enfant\, quelles sont les différentes phases\, comment les reconnaitre\, les accompagner. Comprendre le fonctionnement des hormones du travail fabuleux que font la mère et l’enfant. Nous aborderons l’évolution de ce travail\, la descente du bébé\, la poussée\, le périnée……
URL:https://quatrequarts.coop/event/rencontres-perinatales-2/2021-10-13/
END:VEVENT
BEGIN:VEVENT
DTSTART;TZID=Europe/Brussels:20211019T170000
DTEND;TZID=Europe/Brussels:20211019T220000
DTSTAMP:20260425T170108
CREATED:20170601T160201Z
LAST-MODIFIED:20210929T162958Z
UID:10000033-1634662800-1634680800@quatrequarts.coop
SUMMARY:L'autre Table\, avec vous
DESCRIPTION:Venez partager un repas convivial. \nTROIS MOMENTS CLEFS \n13h – 17h – 20h \n\nUn mardi par mois RDV au marché\, place Beauduin 1er a 13h pour récolter des invendus\nRendez-vous à 17h pour ceux qui souhaitent préparer le repas avec nous Toutes les recettes sont bienvenues\, Le menu du soir sera réalisé avec ces invendus récoltes auprès de quelques maraîchers de Court st Etienne.\nSi vous voulez venir juste au repas il sera servi à 20 h\n\nFin vers 22 h après le rangement de la salle. \n\n\n\nPour participer prévenez-nous un jour à l’avance précisant votre choix
URL:https://quatrequarts.coop/event/lautre-table-avec-vous/2021-10-19/
ATTACH;FMTTYPE=image/jpeg:https://quatrequarts.coop/wp-content/uploads/2017/06/Ma.parole.cuisiner.Article-1024x732.jpeg
ORGANIZER;CN="Equipes populaires":MAILTO:mauhin@equipespopulaires.be
END:VEVENT
BEGIN:VEVENT
DTSTART;TZID=Europe/Brussels:20211022T090000
DTEND;TZID=Europe/Brussels:20211022T120000
DTSTAMP:20260425T170108
CREATED:20180825T114406Z
LAST-MODIFIED:20180825T114406Z
UID:10003422-1634893200-1634904000@quatrequarts.coop
SUMMARY:"Cheminons ensemble"
DESCRIPTION:  \n  \n  \n 
URL:https://quatrequarts.coop/event/cheminons-ensemble/2021-10-22/
END:VEVENT
BEGIN:VEVENT
DTSTART;TZID=Europe/Brussels:20211022T180000
DTEND;TZID=Europe/Brussels:20211022T190000
DTSTAMP:20260425T170108
CREATED:20170928T131010Z
LAST-MODIFIED:20180926T092627Z
UID:10002632-1634925600-1634929200@quatrequarts.coop
SUMMARY:Table de conversation en espagnol
DESCRIPTION:Un vendredi par mois\, venez à notre table de conversation en espagnol ! gérés par un couple de voyageurs. \nOn peut aborder divers sujets\, culture\, voyages\, paysages\, nourriture\, musique et tout ce que vous proposez. \nPrenons un bol d’air latino ensemble ! \n 
URL:https://quatrequarts.coop/event/table-de-conversation-espagnole/2021-10-22/
ATTACH;FMTTYPE=image/jpeg:https://quatrequarts.coop/wp-content/uploads/2017/09/drapeau-espagnol.jpg
ORGANIZER;CN="Sarai & Quentin":MAILTO:heritageancestral@gmail.com
END:VEVENT
BEGIN:VEVENT
DTSTART;TZID=Europe/Brussels:20211022T203000
DTEND;TZID=Europe/Brussels:20211022T230000
DTSTAMP:20260425T170108
CREATED:20210929T163957Z
LAST-MODIFIED:20210929T165812Z
UID:10004012-1634934600-1634943600@quatrequarts.coop
SUMMARY:Spectacle-concert "Apéro intime"
DESCRIPTION:« Un voyage au bord de l’âme le temps d’un apéro »\nSpectacle musical.. \nPrix : au chapeau. \n>> Teaser ici 😉 https://m.youtube.com/watch?v=3JwqGf2IsnM \n>> Page facebook : https://www.facebook.com/aperointime/about/?ref=page_internal
URL:https://quatrequarts.coop/event/spectacle-concert-apero-intime/
ATTACH;FMTTYPE=image/jpeg:https://quatrequarts.coop/wp-content/uploads/2021/09/Visuel-AI-promo-recto-kim-WEB-scaled.jpg
END:VEVENT
BEGIN:VEVENT
DTSTART;TZID=Europe/Brussels:20211023T200000
DTEND;TZID=Europe/Brussels:20211023T230000
DTSTAMP:20260425T170108
CREATED:20210929T175715Z
LAST-MODIFIED:20210930T112103Z
UID:10003053-1635019200-1635030000@quatrequarts.coop
SUMMARY:Conférence gesticulée « Dis Maman\, c’est quoi qu’on mange ? »
DESCRIPTION:« Je suis une bobo\, bio\, zéro déchet. Je suis petite-fille d’agriculteurs et je ne sais plus planter une patate »\, voilà la base du récit personnel d’Odile Ramelot qui lui permettra d’entrer dans l’histoire des changements agricoles du 20ème siècle et la main mise des multinationales sur les ressources planétaires et sur les hommes. \nDe la recette technologique qu’est la Révolution Verte naît notre système alimentaire industriel mondialisé et capitaliste\, un système participant activement au réchauffement climatique\, à la perte massive de notre biodiversité et …à la disparition des agriculteurs eux-même. Cette conférence décrit comment les marchés écrasent les prestataires en les mettant tous en compétition via la sacro-sainte concurrence… des prix toujours plus bas qui entraînent\, dans leur chute\, les savoir-faire inhérent à nos métiers.\nLe métier d’audiodescripteur (description pour les personnes malvoyantes)\, profession récente dans l’histoire de l’humanité\, n’y échappe pas. \nOdile Ramelot parle de son ancienne activité d’audiodescriptrice pour le cinéma et de la difficulté à continuer de garantir la qualité d’un processus devenu\, sans raison\, « luxueux » face à des propositions « low cost ». Audiodécrire c’est nommer ce qu’on voit… plongeons dans le système agro-alimentaire pour en débusquer quelques faux récits. \n> Réservations ici : https://www.financite.be/fr/node/24873/register \n> Un aperçu ici : https://www.youtube.com/watch?v=Yygz1EFZIzU et ici : https://www.financite.be/fr/event/dis-maman-cest-quoi-quon-mange-festival-financite-2021 \n> Possibilité de manger sur place\, assiette découverte « producteur locaux » à 14 €\, servi avant le spectacle. Réservation soit par mail à info@quatrequarts.coop ou au 010/613813\, pendant les heures d’ouverture de la coopérative.
URL:https://quatrequarts.coop/event/conference-gesticulee-dis-maman-cest-quoi-quon-mange/
ATTACH;FMTTYPE=image/jpeg:https://quatrequarts.coop/wp-content/uploads/2021/09/Conf_DisMaman_ODILE006-scaled.jpg
END:VEVENT
BEGIN:VEVENT
DTSTART;TZID=Europe/Brussels:20211025T093000
DTEND;TZID=Europe/Brussels:20211025T113000
DTSTAMP:20260425T170108
CREATED:20180910T105738Z
LAST-MODIFIED:20180910T111211Z
UID:10003534-1635154200-1635161400@quatrequarts.coop
SUMMARY:La physiologie de la naissance
DESCRIPTION:Rencontres périnatales avec l’Asbl Timoun\nL’équipe des sages-femmes de TIMOUN vous propose un cycle d’ateliers autour de la naissance. Ces séances sont ouvertes à tous les parents quel que soit le lieu de naissance de l’enfant. Elles se font en collectif\, à partir de 3 couples et ou mamans. Durant cet atelier\, nous allons découvrir comment le corps de la femme se prépare pour la mise au monde de l’enfant\, quelles sont les différentes phases\, comment les reconnaitre\, les accompagner. Comprendre le fonctionnement des hormones du travail fabuleux que font la mère et l’enfant. Nous aborderons l’évolution de ce travail\, la descente du bébé\, la poussée\, le périnée……
URL:https://quatrequarts.coop/event/rencontres-perinatales/2021-10-25/
END:VEVENT
BEGIN:VEVENT
DTSTART;TZID=Europe/Brussels:20211026T200000
DTEND;TZID=Europe/Brussels:20211026T220000
DTSTAMP:20260425T170108
CREATED:20210929T072843Z
LAST-MODIFIED:20211202T161306Z
UID:10004101-1635278400-1635285600@quatrequarts.coop
SUMMARY:Quatre Quarts Band
DESCRIPTION:Ensemble musical ouvert à tou·tes les musicien·nes et/ou chanteur·euses\, de tous styles et niveaux. Nous pouvons accueillir chant\, percussion\, basse\, guitare\, violon(celle)\, et tout autre instrument. \n\nCovers français\, anglais\, ou plus\, seront au menu mais\, revisités\, arrangés à la sauce «Quatre Quarts Band». On compte sur la dynamique qui va se mettre en place pour en faire des reprises inattendues.\nVous venez participer à un\, trois ou dix morceaux selon votre niveau\, mais avec un engagement d’assiduité aux répétitions toutes les deux semaines (2e et 4e mardi du mois\, de 20h à 22h) pour finaliser un concert de folie au Quatre Quarts.\n\nAttention\, ceci n’est pas un cours de musique\, vous devez pouvoir comprendre et suivre une grille d’accords ou une notation musicale et maîtriser votre instrument ou votre voix\, mais nous serons là pour progresser tous ensemble.\n\n>> Et ici un petit teaser 😉\n\nInfos : olivier.stevens@oszone.be \nGratuit
URL:https://quatrequarts.coop/event/quatre-quarts-band-repet/2021-10-26/
ATTACH;FMTTYPE=image/png:https://quatrequarts.coop/wp-content/uploads/2021/09/Logo-QQB-1200-628-avec-fond-texte.png
END:VEVENT
BEGIN:VEVENT
DTSTART;TZID=Europe/Brussels:20211026T200000
DTEND;TZID=Europe/Brussels:20211026T230000
DTSTAMP:20260425T170108
CREATED:20220128T151459Z
LAST-MODIFIED:20220927T095957Z
UID:10003214-1635278400-1635289200@quatrequarts.coop
SUMMARY:Quatre Quart's Band
DESCRIPTION:Ensemble musical ouvert à tou·tes les instrumentistes et/ou chanteur·euses\, de tous styles et niveaux. Nous pouvons accueillir vocal\, percussion\, basse\, guitare\, violon(celle)\, et tout autre instrument. \n\n\nCovers français\, anglais\, ou plus\, seront au menu mais\, revisités\, arrangés à la sauce «Quatre Quarts Band». On compte sur la dynamique qui va se mettre en place pour en faire des reprises inattendues.\nVous venez participer à un\, trois ou tous les morceaux selon votre niveau\, mais avec un engagement d’assiduité aux répétitions toutes les deux semaines (2e et 4e mardi du mois\, de 20h à 23h) pour finaliser une presta de folie au Quatre Quarts.\n\n\nAttention\, ceci n’est pas un cours de musique\, vous devez pouvoir comprendre et suivre une grille d’accords ou une notation musicale et maîtriser votre instrument ou votre voix\, mais nous serons là pour progresser tous ensemble.\n\n\n\nSi vous êtes nouveau-nouvelle\, annoncez-vous tant que possible. \ncontact : olivier.stevens@oszone.be 
URL:https://quatrequarts.coop/event/quatre-quatres-band/2021-10-26/
LOCATION:Sans titre\, Belgique
ATTACH;FMTTYPE=image/png:https://quatrequarts.coop/wp-content/uploads/2022/01/Logo-QQB-1200-628-avec-fond-texte.png
END:VEVENT
BEGIN:VEVENT
DTSTART;TZID=Europe/Brussels:20211027T193000
DTEND;TZID=Europe/Brussels:20211027T220000
DTSTAMP:20260425T170108
CREATED:20180910T110134Z
LAST-MODIFIED:20180910T111145Z
UID:10003646-1635363000-1635372000@quatrequarts.coop
SUMMARY:La physiologie de la naissance
DESCRIPTION:Rencontres périnatales avec l’Asble Timoun\nL’équipe des sages-femmes de TIMOUN vous propose un cycle d’ateliers autour de la naissance. Ces séances sont ouvertes à tous les parents quel que soit le lieu de naissance de l’enfant. Elles se font en collectif\, à partir de 3 couples et ou mamans. Durant cet atelier\, nous allons découvrir comment le corps de la femme se prépare pour la mise au monde de l’enfant\, quelles sont les différentes phases\, comment les reconnaitre\, les accompagner. Comprendre le fonctionnement des hormones du travail fabuleux que font la mère et l’enfant. Nous aborderons l’évolution de ce travail\, la descente du bébé\, la poussée\, le périnée……
URL:https://quatrequarts.coop/event/rencontres-perinatales-2/2021-10-27/
END:VEVENT
BEGIN:VEVENT
DTSTART;TZID=Europe/Brussels:20211030T200000
DTEND;TZID=Europe/Brussels:20211030T220000
DTSTAMP:20260425T170108
CREATED:20211021T152109Z
LAST-MODIFIED:20211021T152215Z
UID:10004217-1635624000-1635631200@quatrequarts.coop
SUMMARY:Rituel du Vivant pour honorer les Morts
DESCRIPTION:Inspirée du Dias de los Muertos\, cette performance artistique chamanique a pour projet de célébrer nos morts personnels\, et nos morts collectif par ce qui nous rend vivant.\nParticipation libre en conscience. \nPlus d’informations ici. \n  \n 
URL:https://quatrequarts.coop/event/rituel-du-vivant-pour-honorer-les-morts/
ATTACH;FMTTYPE=image/jpeg:https://quatrequarts.coop/wp-content/uploads/2021/10/BelCiShO.jpg
END:VEVENT
BEGIN:VEVENT
DTSTART;TZID=Europe/Brussels:20211031T150000
DTEND;TZID=Europe/Brussels:20211031T180000
DTSTAMP:20260425T170108
CREATED:20211021T152945Z
LAST-MODIFIED:20211030T171434Z
UID:10004321-1635692400-1635703200@quatrequarts.coop
SUMMARY:Portes ouvertes Folia Officinalis
DESCRIPTION:Oyé oyé\, \nMême si nous sommes encore un peu dans les travaux\, nous avons la possibilité d’ouvrir les portes de la bibliothèque dès novembre ! \nPour fêter ça\, nous vous invitons à notre Tea Time d’inauguration le dimanche 31 octobre de 15h à 18h. \nCe sera une belle opportunité pour nous rencontrer\, créer du lien et découvrir notre collection! \nNous proposerons à boire et à manger\, mais si le cœur vous en dit\, libre à vous de venir avec quelque chose à partager 🙂 \nPour nous soutenir\, si certains de vos livres sur les médecines complémentaires et les plantes médicinales prennent la poussière sur vos étagères\, apportez-les avec vous ! Nous en faire don serait une chouette manière de leur offrir une seconde vie. \nCe sera le jour d’Halloween\, et nous en profiterons pour venir déguisées ! N’hésitez pas à faire de même 😉 \nA tout bientôt\, \nChloé et Tamara de Folia Officinalis. \n \nPlus d’informations\, ici. \nComment ? \n→ En voiture ! Possibilité de parking aux alentours. \n→ En train ! Prendre la ligne omnibus Ottignies-Charleroi\, arrêt Court-Saint-Etienne. \n→ En bus ! Ligne 19 (arrêt Ecole Provinciale\, attention l’arrêt est déplacé suite aux travaux!)\, Ligne 28 et 30 (arrêt CSE Gare). \n 
URL:https://quatrequarts.coop/event/portes-ouvertes-folia-officinalis/
ATTACH;FMTTYPE=image/jpeg:https://quatrequarts.coop/wp-content/uploads/2021/10/246466920_337008908221717_8233761841242617382_n.jpg
END:VEVENT
END:VCALENDAR