BEGIN:VCALENDAR
VERSION:2.0
PRODID:-//Quatre Quarts - ECPv6.15.20//NONSGML v1.0//EN
CALSCALE:GREGORIAN
METHOD:PUBLISH
X-WR-CALNAME:Quatre Quarts
X-ORIGINAL-URL:https://quatrequarts.coop
X-WR-CALDESC:Évènements pour Quatre Quarts
REFRESH-INTERVAL;VALUE=DURATION:PT1H
X-Robots-Tag:noindex
X-PUBLISHED-TTL:PT1H
BEGIN:VTIMEZONE
TZID:Europe/Brussels
BEGIN:DAYLIGHT
TZOFFSETFROM:+0100
TZOFFSETTO:+0200
TZNAME:CEST
DTSTART:20200329T010000
END:DAYLIGHT
BEGIN:STANDARD
TZOFFSETFROM:+0200
TZOFFSETTO:+0100
TZNAME:CET
DTSTART:20201025T010000
END:STANDARD
BEGIN:DAYLIGHT
TZOFFSETFROM:+0100
TZOFFSETTO:+0200
TZNAME:CEST
DTSTART:20210328T010000
END:DAYLIGHT
BEGIN:STANDARD
TZOFFSETFROM:+0200
TZOFFSETTO:+0100
TZNAME:CET
DTSTART:20211031T010000
END:STANDARD
BEGIN:DAYLIGHT
TZOFFSETFROM:+0100
TZOFFSETTO:+0200
TZNAME:CEST
DTSTART:20220327T010000
END:DAYLIGHT
BEGIN:STANDARD
TZOFFSETFROM:+0200
TZOFFSETTO:+0100
TZNAME:CET
DTSTART:20221030T010000
END:STANDARD
END:VTIMEZONE
BEGIN:VEVENT
DTSTART;TZID=Europe/Brussels:20210901T193000
DTEND;TZID=Europe/Brussels:20210901T220000
DTSTAMP:20260425T185043
CREATED:20180910T110134Z
LAST-MODIFIED:20180910T111145Z
UID:10003642-1630524600-1630533600@quatrequarts.coop
SUMMARY:La physiologie de la naissance
DESCRIPTION:Rencontres périnatales avec l’Asble Timoun\nL’équipe des sages-femmes de TIMOUN vous propose un cycle d’ateliers autour de la naissance. Ces séances sont ouvertes à tous les parents quel que soit le lieu de naissance de l’enfant. Elles se font en collectif\, à partir de 3 couples et ou mamans. Durant cet atelier\, nous allons découvrir comment le corps de la femme se prépare pour la mise au monde de l’enfant\, quelles sont les différentes phases\, comment les reconnaitre\, les accompagner. Comprendre le fonctionnement des hormones du travail fabuleux que font la mère et l’enfant. Nous aborderons l’évolution de ce travail\, la descente du bébé\, la poussée\, le périnée……
URL:https://quatrequarts.coop/event/rencontres-perinatales-2/2021-09-01/
END:VEVENT
BEGIN:VEVENT
DTSTART;TZID=Europe/Brussels:20210903T200000
DTEND;TZID=Europe/Brussels:20210903T220000
DTSTAMP:20260425T185043
CREATED:20210902T081227Z
LAST-MODIFIED:20210902T081227Z
UID:10003994-1630699200-1630706400@quatrequarts.coop
SUMMARY:conférence gesticulée “MERCI LES CADRES”
DESCRIPTION:Suivie d’un débat sur nos relations au travail\nOrganisée par le Vertpop\, Etopia\, Ecolo\nPlus d’infos ici.
URL:https://quatrequarts.coop/event/conference-gesticulee-merci-les-cadres/
ATTACH;FMTTYPE=image/png:https://quatrequarts.coop/wp-content/uploads/2021/09/Marcel-Linsmeau-Explicite-1.png
END:VEVENT
BEGIN:VEVENT
DTSTART;TZID=Europe/Brussels:20210904T100000
DTEND;TZID=Europe/Brussels:20210905T170000
DTSTAMP:20260425T185043
CREATED:20210902T084420Z
LAST-MODIFIED:20210902T084420Z
UID:10003928-1630749600-1630861200@quatrequarts.coop
SUMMARY:Braderie stéphanoise
DESCRIPTION:Restauration toute la journée à la coopérative 😉
URL:https://quatrequarts.coop/event/braderie-stephanoise/
ATTACH;FMTTYPE=image/png:https://quatrequarts.coop/wp-content/uploads/2021/09/braderie.png
END:VEVENT
BEGIN:VEVENT
DTSTART;TZID=Europe/Brussels:20210906T190000
DTEND;TZID=Europe/Brussels:20210906T210000
DTSTAMP:20260425T185043
CREATED:20210802T153725Z
LAST-MODIFIED:20210830T131620Z
UID:10003051-1630954800-1630962000@quatrequarts.coop
SUMMARY:La Marche des philosophes
DESCRIPTION:Comment la servitude peut-elle être volontaire ?\nComment peut-on avoir le désir de se soumettre ?\nComment la liberté peut-elle se nier elle-même ?\nIci se joue un étonnant dialogue avec La Boétie. Un plongeon au cœur d’une pensée saisissante. Le comédien nous embarque avec ce texte dans une traversée épique et quelque peu inattendue.\nTexte bref\, parfaitement construit\, scintillant\, le Discours de la servitude volontaire d’Étienne de La Boétie est un mode d’emploi pour ne pas être dupe du pouvoir\, car ce n’est pas en luttant contre la tyrannie qu’on parvient à l’abattre\, mais en comprenant ses mécanismes qu’on parvient à ne pas la subir\, ni la désirer. Découvrez la parole de celui qui n’a que 16 ans quand il rédige ce texte plein de sagesse. \n« Soyez résolus à ne plus servir\, et vous voilà libres.» \n\nCe projet est né d’une double nécessité. Il y a d’abord l’urgence – malheureusement intarissable – de regarder et de voir le rapport ambigu que nous entretenons avec le pouvoir. Le texte de La Boétie nous bouscule dans ce sens. Il nous pousse à se réapproprier notre part de responsabilité dans l’effritement incessant de nos libertés.\nPuis c’est l’appel de l’oralité qui m’a amené à adapter ce texte pour la scène. Même si La Boétie n’a pas rédigé son Discours de la servitude volontaire dans l’idée d’être prononcé en public (nous sommes ici dans l’exercice du discours philosophique)\, il l’adresse de manière très directe au lecteur avec les mêmes exigences qu’un discours oral qui serait adressé à une audience : communiquer\, exposer et persuader.\nC’est un quidam\, enivré par les effets du texte de La Boétie\, qui se transforme en pourfendeur de l’oppression. Une passion pour la liberté nait sous nos yeux. \nSeul en scène\, dans un décor épuré\, l’acteur et le spectateur sont au centre du dispositif. Rien n’est là\, tout y est. Il y a une force dans l’imagination et une intelligence dans l’inventivité\, qu’on doit prendre à notre compte pour se défaire de nos servitudes. N’attendons pas de La Boétie qu’il nous apporte la solution… \nCharly Magonza \n\n« Hâtons-nous de rendre la philosophie populaire » disait Diderot dans sa volonté brûlante de sortir le peuple de l’obscurantisme. \nMARCHER – une tournée particulière pour le spectacle \nSur une période de cinq à six jours\, Charly Magonza (comédien) et Agathe Mortelecq (metteuse en scène) marchent de commune en commune (dans un rayon de 5 à 20 km) avec leur spectacle dans un sac à dos pour offrir chaque soir\, dans un lieu différent\, une représentation du seul en scène « Le Contr’un ». C’est le théâtre qui se déplace à la rencontre du spectateur\, c’est aussi le spectateur qui\, s’il le souhaite\, peut se déplacer avec le théâtre en prenant part à la marche quotidienne. \nRALENTIR – un thème qui invite au pas de côté. Se surprendre à penser le monde\, à observer des problématiques de société et d’actualité par le prisme de la philosophie\, c’est une motivation fondamentale de ce projet. Nous marchons avec l’oeuvre de La Boétie\, terriblement actuelle\, qui n’est pas une leçon\, mais une réflexion universelle sur notre capacité à organiser notre propre soumission\, une démonstration efficace et bousculante qui produit de grandes questions et laisse le spectateur trouver ses propres réponses. \nCOMMUNIER – se rassembler autour de l’essentiel. Grâce au travail d’adaptation que nous avons mené autour de ce texte\, nous réussissons avec le théâtre à dépasser les a priori que peut véhiculer la philosophie\, et à proposer un spectacle accessible qui mêle réflexion\, épopée chevaleresque\, rire et étonnement\, touchant ainsi un large public\, jeune et adulte.
URL:https://quatrequarts.coop/event/marche-des-philosophes/
ATTACH;FMTTYPE=image/png:https://quatrequarts.coop/wp-content/uploads/2021/08/boétie2.png
END:VEVENT
BEGIN:VEVENT
DTSTART;TZID=Europe/Brussels:20210910T090000
DTEND;TZID=Europe/Brussels:20210910T120000
DTSTAMP:20260425T185043
CREATED:20180825T114406Z
LAST-MODIFIED:20180825T114406Z
UID:10003419-1631264400-1631275200@quatrequarts.coop
SUMMARY:"Cheminons ensemble"
DESCRIPTION:  \n  \n  \n 
URL:https://quatrequarts.coop/event/cheminons-ensemble/2021-09-10/
END:VEVENT
BEGIN:VEVENT
DTSTART;TZID=Europe/Brussels:20210910T200000
DTEND;TZID=Europe/Brussels:20210910T230000
DTSTAMP:20260425T185043
CREATED:20200930T191257Z
LAST-MODIFIED:20210929T065636Z
UID:10004284-1631304000-1631314800@quatrequarts.coop
SUMMARY:Jam session
DESCRIPTION:Organisateur : Olivier Stevens (olivier.stevens@oszone.be) \n\n\nVenez avec votre instrument et/ou votre voix\, ou simplement avec vos oreilles pour écouter ;-).\nTous niveaux\, tous styles\, impros et cover. Accueil des musiciens à partir de 19h40.\n\n\n\n\n\n\n\n\n\n>>gratuit\n >>restauration possible sur place\n\nLien facebook : https://www.facebook.com/events/533079311158236?ref=newsfeed
URL:https://quatrequarts.coop/event/20777/2021-09-10/
ATTACH;FMTTYPE=image/jpeg:https://quatrequarts.coop/wp-content/uploads/2020/09/104128258_10223229367786788_2207158401393696453_o.jpg
END:VEVENT
BEGIN:VEVENT
DTSTART;TZID=Europe/Brussels:20210913T093000
DTEND;TZID=Europe/Brussels:20210913T113000
DTSTAMP:20260425T185043
CREATED:20180910T105738Z
LAST-MODIFIED:20180910T111211Z
UID:10003531-1631525400-1631532600@quatrequarts.coop
SUMMARY:La physiologie de la naissance
DESCRIPTION:Rencontres périnatales avec l’Asbl Timoun\nL’équipe des sages-femmes de TIMOUN vous propose un cycle d’ateliers autour de la naissance. Ces séances sont ouvertes à tous les parents quel que soit le lieu de naissance de l’enfant. Elles se font en collectif\, à partir de 3 couples et ou mamans. Durant cet atelier\, nous allons découvrir comment le corps de la femme se prépare pour la mise au monde de l’enfant\, quelles sont les différentes phases\, comment les reconnaitre\, les accompagner. Comprendre le fonctionnement des hormones du travail fabuleux que font la mère et l’enfant. Nous aborderons l’évolution de ce travail\, la descente du bébé\, la poussée\, le périnée……
URL:https://quatrequarts.coop/event/rencontres-perinatales/2021-09-13/
END:VEVENT
BEGIN:VEVENT
DTSTART;TZID=Europe/Brussels:20210915T193000
DTEND;TZID=Europe/Brussels:20210915T220000
DTSTAMP:20260425T185043
CREATED:20180910T110134Z
LAST-MODIFIED:20180910T111145Z
UID:10003643-1631734200-1631743200@quatrequarts.coop
SUMMARY:La physiologie de la naissance
DESCRIPTION:Rencontres périnatales avec l’Asble Timoun\nL’équipe des sages-femmes de TIMOUN vous propose un cycle d’ateliers autour de la naissance. Ces séances sont ouvertes à tous les parents quel que soit le lieu de naissance de l’enfant. Elles se font en collectif\, à partir de 3 couples et ou mamans. Durant cet atelier\, nous allons découvrir comment le corps de la femme se prépare pour la mise au monde de l’enfant\, quelles sont les différentes phases\, comment les reconnaitre\, les accompagner. Comprendre le fonctionnement des hormones du travail fabuleux que font la mère et l’enfant. Nous aborderons l’évolution de ce travail\, la descente du bébé\, la poussée\, le périnée……
URL:https://quatrequarts.coop/event/rencontres-perinatales-2/2021-09-15/
END:VEVENT
BEGIN:VEVENT
DTSTART;TZID=Europe/Brussels:20210918T100000
DTEND;TZID=Europe/Brussels:20210918T220000
DTSTAMP:20260425T185043
CREATED:20210902T082725Z
LAST-MODIFIED:20210916T194830Z
UID:10004216-1631959200-1632002400@quatrequarts.coop
SUMMARY:Mobi'fiesta
DESCRIPTION:Dans le cadre de la semaine de la mobilité les associations de Genappe et Court-saint-Etienne vous convient à leur toute première Mobi Fiesta! \nA pied\, à vélo\, en trotinette\, venez entre amis ou en famille découvrir les chemins qui relient Court-St-Etienne et Genappe. Balades\, animations\, concerts et bons petits plats vous attendent lors de cette journée placée sous le signe de la rencontre\, du partage et de la mobilté douce. \nPlus d’infos ici : https://lemonty.be/event/mobi-fiesta/ \net ici : https://www.facebook.com/events/224337086135770?active_tab=about \n>> Pour réserver votre repas c’est par ici : https://forms.gle/iZ3q2TmuLkncPXtn7
URL:https://quatrequarts.coop/event/mobifiesta/
ATTACH;FMTTYPE=image/png:https://quatrequarts.coop/wp-content/uploads/2021/09/mobifiesta.png
END:VEVENT
BEGIN:VEVENT
DTSTART;TZID=Europe/Brussels:20210924T090000
DTEND;TZID=Europe/Brussels:20210924T120000
DTSTAMP:20260425T185043
CREATED:20180825T114406Z
LAST-MODIFIED:20180825T114406Z
UID:10003420-1632474000-1632484800@quatrequarts.coop
SUMMARY:"Cheminons ensemble"
DESCRIPTION:  \n  \n  \n 
URL:https://quatrequarts.coop/event/cheminons-ensemble/2021-09-24/
END:VEVENT
BEGIN:VEVENT
DTSTART;TZID=Europe/Brussels:20210924T180000
DTEND;TZID=Europe/Brussels:20210924T190000
DTSTAMP:20260425T185043
CREATED:20170928T131010Z
LAST-MODIFIED:20180926T092627Z
UID:10002631-1632506400-1632510000@quatrequarts.coop
SUMMARY:Table de conversation en espagnol
DESCRIPTION:Un vendredi par mois\, venez à notre table de conversation en espagnol ! gérés par un couple de voyageurs. \nOn peut aborder divers sujets\, culture\, voyages\, paysages\, nourriture\, musique et tout ce que vous proposez. \nPrenons un bol d’air latino ensemble ! \n 
URL:https://quatrequarts.coop/event/table-de-conversation-espagnole/2021-09-24/
ATTACH;FMTTYPE=image/jpeg:https://quatrequarts.coop/wp-content/uploads/2017/09/drapeau-espagnol.jpg
ORGANIZER;CN="Sarai & Quentin":MAILTO:heritageancestral@gmail.com
END:VEVENT
BEGIN:VEVENT
DTSTART;TZID=Europe/Brussels:20210927T093000
DTEND;TZID=Europe/Brussels:20210927T113000
DTSTAMP:20260425T185043
CREATED:20180910T105738Z
LAST-MODIFIED:20180910T111211Z
UID:10003532-1632735000-1632742200@quatrequarts.coop
SUMMARY:La physiologie de la naissance
DESCRIPTION:Rencontres périnatales avec l’Asbl Timoun\nL’équipe des sages-femmes de TIMOUN vous propose un cycle d’ateliers autour de la naissance. Ces séances sont ouvertes à tous les parents quel que soit le lieu de naissance de l’enfant. Elles se font en collectif\, à partir de 3 couples et ou mamans. Durant cet atelier\, nous allons découvrir comment le corps de la femme se prépare pour la mise au monde de l’enfant\, quelles sont les différentes phases\, comment les reconnaitre\, les accompagner. Comprendre le fonctionnement des hormones du travail fabuleux que font la mère et l’enfant. Nous aborderons l’évolution de ce travail\, la descente du bébé\, la poussée\, le périnée……
URL:https://quatrequarts.coop/event/rencontres-perinatales/2021-09-27/
END:VEVENT
BEGIN:VEVENT
DTSTART;TZID=Europe/Brussels:20210928T200000
DTEND;TZID=Europe/Brussels:20210928T230000
DTSTAMP:20260425T185043
CREATED:20220128T151459Z
LAST-MODIFIED:20220927T095957Z
UID:10003213-1632859200-1632870000@quatrequarts.coop
SUMMARY:Quatre Quart's Band
DESCRIPTION:Ensemble musical ouvert à tou·tes les instrumentistes et/ou chanteur·euses\, de tous styles et niveaux. Nous pouvons accueillir vocal\, percussion\, basse\, guitare\, violon(celle)\, et tout autre instrument. \n\n\nCovers français\, anglais\, ou plus\, seront au menu mais\, revisités\, arrangés à la sauce «Quatre Quarts Band». On compte sur la dynamique qui va se mettre en place pour en faire des reprises inattendues.\nVous venez participer à un\, trois ou tous les morceaux selon votre niveau\, mais avec un engagement d’assiduité aux répétitions toutes les deux semaines (2e et 4e mardi du mois\, de 20h à 23h) pour finaliser une presta de folie au Quatre Quarts.\n\n\nAttention\, ceci n’est pas un cours de musique\, vous devez pouvoir comprendre et suivre une grille d’accords ou une notation musicale et maîtriser votre instrument ou votre voix\, mais nous serons là pour progresser tous ensemble.\n\n\n\nSi vous êtes nouveau-nouvelle\, annoncez-vous tant que possible. \ncontact : olivier.stevens@oszone.be 
URL:https://quatrequarts.coop/event/quatre-quatres-band/2021-09-28/
LOCATION:Sans titre\, Belgique
ATTACH;FMTTYPE=image/png:https://quatrequarts.coop/wp-content/uploads/2022/01/Logo-QQB-1200-628-avec-fond-texte.png
END:VEVENT
BEGIN:VEVENT
DTSTART;TZID=Europe/Brussels:20210929T193000
DTEND;TZID=Europe/Brussels:20210929T220000
DTSTAMP:20260425T185043
CREATED:20180910T110134Z
LAST-MODIFIED:20180910T111145Z
UID:10003644-1632943800-1632952800@quatrequarts.coop
SUMMARY:La physiologie de la naissance
DESCRIPTION:Rencontres périnatales avec l’Asble Timoun\nL’équipe des sages-femmes de TIMOUN vous propose un cycle d’ateliers autour de la naissance. Ces séances sont ouvertes à tous les parents quel que soit le lieu de naissance de l’enfant. Elles se font en collectif\, à partir de 3 couples et ou mamans. Durant cet atelier\, nous allons découvrir comment le corps de la femme se prépare pour la mise au monde de l’enfant\, quelles sont les différentes phases\, comment les reconnaitre\, les accompagner. Comprendre le fonctionnement des hormones du travail fabuleux que font la mère et l’enfant. Nous aborderons l’évolution de ce travail\, la descente du bébé\, la poussée\, le périnée……
URL:https://quatrequarts.coop/event/rencontres-perinatales-2/2021-09-29/
END:VEVENT
END:VCALENDAR