BEGIN:VCALENDAR
VERSION:2.0
PRODID:-//Quatre Quarts - ECPv6.15.20//NONSGML v1.0//EN
CALSCALE:GREGORIAN
METHOD:PUBLISH
X-WR-CALNAME:Quatre Quarts
X-ORIGINAL-URL:https://quatrequarts.coop
X-WR-CALDESC:Évènements pour Quatre Quarts
REFRESH-INTERVAL;VALUE=DURATION:PT1H
X-Robots-Tag:noindex
X-PUBLISHED-TTL:PT1H
BEGIN:VTIMEZONE
TZID:Europe/Brussels
BEGIN:DAYLIGHT
TZOFFSETFROM:+0100
TZOFFSETTO:+0200
TZNAME:CEST
DTSTART:20200329T010000
END:DAYLIGHT
BEGIN:STANDARD
TZOFFSETFROM:+0200
TZOFFSETTO:+0100
TZNAME:CET
DTSTART:20201025T010000
END:STANDARD
BEGIN:DAYLIGHT
TZOFFSETFROM:+0100
TZOFFSETTO:+0200
TZNAME:CEST
DTSTART:20210328T010000
END:DAYLIGHT
BEGIN:STANDARD
TZOFFSETFROM:+0200
TZOFFSETTO:+0100
TZNAME:CET
DTSTART:20211031T010000
END:STANDARD
BEGIN:DAYLIGHT
TZOFFSETFROM:+0100
TZOFFSETTO:+0200
TZNAME:CEST
DTSTART:20220327T010000
END:DAYLIGHT
BEGIN:STANDARD
TZOFFSETFROM:+0200
TZOFFSETTO:+0100
TZNAME:CET
DTSTART:20221030T010000
END:STANDARD
END:VTIMEZONE
BEGIN:VEVENT
DTSTART;TZID=Europe/Brussels:20210702T090000
DTEND;TZID=Europe/Brussels:20210702T120000
DTSTAMP:20260425T223448
CREATED:20180825T114406Z
LAST-MODIFIED:20180825T114406Z
UID:10003414-1625216400-1625227200@quatrequarts.coop
SUMMARY:"Cheminons ensemble"
DESCRIPTION:  \n  \n  \n 
URL:https://quatrequarts.coop/event/cheminons-ensemble/2021-07-02/
END:VEVENT
BEGIN:VEVENT
DTSTART;TZID=Europe/Brussels:20210705T093000
DTEND;TZID=Europe/Brussels:20210705T113000
DTSTAMP:20260425T223448
CREATED:20180910T105738Z
LAST-MODIFIED:20180910T111211Z
UID:10003526-1625477400-1625484600@quatrequarts.coop
SUMMARY:La physiologie de la naissance
DESCRIPTION:Rencontres périnatales avec l’Asbl Timoun\nL’équipe des sages-femmes de TIMOUN vous propose un cycle d’ateliers autour de la naissance. Ces séances sont ouvertes à tous les parents quel que soit le lieu de naissance de l’enfant. Elles se font en collectif\, à partir de 3 couples et ou mamans. Durant cet atelier\, nous allons découvrir comment le corps de la femme se prépare pour la mise au monde de l’enfant\, quelles sont les différentes phases\, comment les reconnaitre\, les accompagner. Comprendre le fonctionnement des hormones du travail fabuleux que font la mère et l’enfant. Nous aborderons l’évolution de ce travail\, la descente du bébé\, la poussée\, le périnée……
URL:https://quatrequarts.coop/event/rencontres-perinatales/2021-07-05/
END:VEVENT
BEGIN:VEVENT
DTSTART;TZID=Europe/Brussels:20210707T193000
DTEND;TZID=Europe/Brussels:20210707T220000
DTSTAMP:20260425T223448
CREATED:20180910T110134Z
LAST-MODIFIED:20180910T111145Z
UID:10003638-1625686200-1625695200@quatrequarts.coop
SUMMARY:La physiologie de la naissance
DESCRIPTION:Rencontres périnatales avec l’Asble Timoun\nL’équipe des sages-femmes de TIMOUN vous propose un cycle d’ateliers autour de la naissance. Ces séances sont ouvertes à tous les parents quel que soit le lieu de naissance de l’enfant. Elles se font en collectif\, à partir de 3 couples et ou mamans. Durant cet atelier\, nous allons découvrir comment le corps de la femme se prépare pour la mise au monde de l’enfant\, quelles sont les différentes phases\, comment les reconnaitre\, les accompagner. Comprendre le fonctionnement des hormones du travail fabuleux que font la mère et l’enfant. Nous aborderons l’évolution de ce travail\, la descente du bébé\, la poussée\, le périnée……
URL:https://quatrequarts.coop/event/rencontres-perinatales-2/2021-07-07/
END:VEVENT
BEGIN:VEVENT
DTSTART;TZID=Europe/Brussels:20210708T193000
DTEND;TZID=Europe/Brussels:20210708T220000
DTSTAMP:20260425T223448
CREATED:20210701T123618Z
LAST-MODIFIED:20210701T140731Z
UID:10004555-1625772600-1625781600@quatrequarts.coop
SUMMARY:Ciné-échanges "Présent simple"
DESCRIPTION:Ciné-échanges autour du film Présent simple de Rino Noviello \n  \nLa nouvelle locale d’Ottignies-LLN et environs des Ami·es de la Terre vous invite à la projection du film Présent simple\, en présence du réalisateur Rino Noviello\, suivie d’un moment d’échange et de partage autour de modes de vie simplicitaires. \nPrésent simple nous conduit sur les pas d’un couple qui a choisi de vivre en accord avec la simplicité volontaire\, une démarche qui nous invite à renouer des liens avec les autres et avec nous-mêmes\, de ralentir dans nos vies\, et de mieux et moins consommer pour un vrai épanouissement personnel et collectif\, pour une vie plus simple et une réappropriation du sens de son chemin de vie et des actes qu’on y pose. \nRéalisé en 2013\, le film est bien d’actualité et dans notre actualité locale\, lorsqu’en explorant Ottignies-Louvain-la-Neuve et ses alentours nous découvrons la multiplication des habitats légers et des tiers-lieux – parallèlement les habitats groupés connaissent un engouement de plus en plus marqué. \nLa projection du film sera précédée d’une présentation des Ami·es de la Terre et de la nouvelle locale d’Ottignies-LLN et environs\, dont plusieurs membres sont également coopér’actrices et coopér’acteurs à Quatre Quarts. \nQui sont les Ami·es de la Terre ? De quel futur sont-ils porteurs ? Pourquoi les actions des Ami·es de la Terre sont-elles essentielles\, aujourd’hui plus que jamais ? Venez le découvrir en toute convivialité à la Coopérative Quatre Quarts avec le ciné-échanges Présent simple. \nDétails pratiques : \n\nOù : Quatre Quarts\, Rue Emile Henricot 61\, 1490 Court-St.-Étienne\nQuand : 8 juillet de 19h30 (accueil) à 22h (+ échanges informels)\nInscription vivement souhaitée (nombre limité de places) via : https://framaforms.org/reservations-pour-la-soiree-du-080721-quatre-quarts-1622404131\nPossibilité de petite restauration sur place dès 18h (assiette tapas à partager)\n\nSarah\, Kim\, Adèle\, Françoise et Raquel pour la Locale d’Ottignies-LLN et environs des Ami·es de la Terre \n  \n>> https://www.amisdelaterre.be/cine-echanges-autour-du-film-present-simple
URL:https://quatrequarts.coop/event/cine-echanges-present-simple/
ATTACH;FMTTYPE=image/jpeg:https://quatrequarts.coop/wp-content/uploads/2021/07/at_affiche_present_simple_web-0dddf-2-2-eee2f.jpg
END:VEVENT
BEGIN:VEVENT
DTSTART;TZID=Europe/Brussels:20210709T200000
DTEND;TZID=Europe/Brussels:20210709T230000
DTSTAMP:20260425T223448
CREATED:20200930T191257Z
LAST-MODIFIED:20210929T065636Z
UID:10004281-1625860800-1625871600@quatrequarts.coop
SUMMARY:Jam session
DESCRIPTION:Organisateur : Olivier Stevens (olivier.stevens@oszone.be) \n\n\nVenez avec votre instrument et/ou votre voix\, ou simplement avec vos oreilles pour écouter ;-).\nTous niveaux\, tous styles\, impros et cover. Accueil des musiciens à partir de 19h40.\n\n\n\n\n\n\n\n\n\n>>gratuit\n >>restauration possible sur place\n\nLien facebook : https://www.facebook.com/events/533079311158236?ref=newsfeed
URL:https://quatrequarts.coop/event/20777/2021-07-09/
ATTACH;FMTTYPE=image/jpeg:https://quatrequarts.coop/wp-content/uploads/2020/09/104128258_10223229367786788_2207158401393696453_o.jpg
END:VEVENT
BEGIN:VEVENT
DTSTART;TZID=Europe/Brussels:20210710T110000
DTEND;TZID=Europe/Brussels:20210710T140000
DTSTAMP:20260425T223448
CREATED:20210605T061407Z
LAST-MODIFIED:20210702T192617Z
UID:10003826-1625914800-1625925600@quatrequarts.coop
SUMMARY:Brocante de Quatre Quarts
DESCRIPTION:Notre brocante du 27 juin a été un beau succès… mais il nous reste quantité de choses à vous vendre à petit prix !!! \nNous vous accueillerons donc à nouveau : \n\nle samedi 10/7 de 11h à 14h\nle samedi 17/7 de 11h à 16h\nle samedi 24/7 de 11h à 16h\n\nObjets à vendre : vaisselle\, objets de déco\, petit électroménager\, quelques appareils hifi\, tondeuses électriques\, barres de toit et caissons pour voiture\, petit mobilier\, matériel médical (rolators\, béquilles…)\, CD-DVD\, livres\, jeux\, bijoux fantaisie\, et divers… comme sur une brocante :-). \n \nVenez y faire votre choix ! \nDes questions ? Contactez Françoise : francoisedossin@edpnet.be \nMerci d’avance pour votre soutien ;-).  À bientôt !!
URL:https://quatrequarts.coop/event/brocante-petits-meubles-et-deco/2021-07-10/
ATTACH;FMTTYPE=image/jpeg:https://quatrequarts.coop/wp-content/uploads/2021/06/depositphotos_199311130-stock-illustration-people-selling-shopping-second-hand.jpg
END:VEVENT
BEGIN:VEVENT
DTSTART;TZID=Europe/Brussels:20210714T080000
DTEND;TZID=Europe/Brussels:20210714T170000
DTSTAMP:20260425T223448
CREATED:20210701T130958Z
LAST-MODIFIED:20210701T130958Z
UID:10003781-1626249600-1626282000@quatrequarts.coop
SUMMARY:Atelier de couture
DESCRIPTION:Plus d’infos à venir 😉
URL:https://quatrequarts.coop/event/atelier-de-couture-2/2021-07-14/
ATTACH;FMTTYPE=image/jpeg:https://quatrequarts.coop/wp-content/uploads/2021/07/cours-de-couture.jpg
END:VEVENT
BEGIN:VEVENT
DTSTART;TZID=Europe/Brussels:20210715T080000
DTEND;TZID=Europe/Brussels:20210715T170000
DTSTAMP:20260425T223448
CREATED:20210701T130958Z
LAST-MODIFIED:20210701T130958Z
UID:10003782-1626336000-1626368400@quatrequarts.coop
SUMMARY:Atelier de couture
DESCRIPTION:Plus d’infos à venir 😉
URL:https://quatrequarts.coop/event/atelier-de-couture-2/2021-07-15/
ATTACH;FMTTYPE=image/jpeg:https://quatrequarts.coop/wp-content/uploads/2021/07/cours-de-couture.jpg
END:VEVENT
BEGIN:VEVENT
DTSTART;TZID=Europe/Brussels:20210716T080000
DTEND;TZID=Europe/Brussels:20210716T170000
DTSTAMP:20260425T223448
CREATED:20210701T130958Z
LAST-MODIFIED:20210701T130958Z
UID:10003783-1626422400-1626454800@quatrequarts.coop
SUMMARY:Atelier de couture
DESCRIPTION:Plus d’infos à venir 😉
URL:https://quatrequarts.coop/event/atelier-de-couture-2/2021-07-16/
ATTACH;FMTTYPE=image/jpeg:https://quatrequarts.coop/wp-content/uploads/2021/07/cours-de-couture.jpg
END:VEVENT
BEGIN:VEVENT
DTSTART;TZID=Europe/Brussels:20210716T090000
DTEND;TZID=Europe/Brussels:20210716T120000
DTSTAMP:20260425T223448
CREATED:20180825T114406Z
LAST-MODIFIED:20180825T114406Z
UID:10003415-1626426000-1626436800@quatrequarts.coop
SUMMARY:"Cheminons ensemble"
DESCRIPTION:  \n  \n  \n 
URL:https://quatrequarts.coop/event/cheminons-ensemble/2021-07-16/
END:VEVENT
BEGIN:VEVENT
DTSTART;TZID=Europe/Brussels:20210717T110000
DTEND;TZID=Europe/Brussels:20210717T140000
DTSTAMP:20260425T223448
CREATED:20210605T061407Z
LAST-MODIFIED:20210702T192617Z
UID:10003827-1626519600-1626530400@quatrequarts.coop
SUMMARY:Brocante de Quatre Quarts
DESCRIPTION:Notre brocante du 27 juin a été un beau succès… mais il nous reste quantité de choses à vous vendre à petit prix !!! \nNous vous accueillerons donc à nouveau : \n\nle samedi 10/7 de 11h à 14h\nle samedi 17/7 de 11h à 16h\nle samedi 24/7 de 11h à 16h\n\nObjets à vendre : vaisselle\, objets de déco\, petit électroménager\, quelques appareils hifi\, tondeuses électriques\, barres de toit et caissons pour voiture\, petit mobilier\, matériel médical (rolators\, béquilles…)\, CD-DVD\, livres\, jeux\, bijoux fantaisie\, et divers… comme sur une brocante :-). \n \nVenez y faire votre choix ! \nDes questions ? Contactez Françoise : francoisedossin@edpnet.be \nMerci d’avance pour votre soutien ;-).  À bientôt !!
URL:https://quatrequarts.coop/event/brocante-petits-meubles-et-deco/2021-07-17/
ATTACH;FMTTYPE=image/jpeg:https://quatrequarts.coop/wp-content/uploads/2021/06/depositphotos_199311130-stock-illustration-people-selling-shopping-second-hand.jpg
END:VEVENT
BEGIN:VEVENT
DTSTART;TZID=Europe/Brussels:20210719T093000
DTEND;TZID=Europe/Brussels:20210719T113000
DTSTAMP:20260425T223448
CREATED:20180910T105738Z
LAST-MODIFIED:20180910T111211Z
UID:10003527-1626687000-1626694200@quatrequarts.coop
SUMMARY:La physiologie de la naissance
DESCRIPTION:Rencontres périnatales avec l’Asbl Timoun\nL’équipe des sages-femmes de TIMOUN vous propose un cycle d’ateliers autour de la naissance. Ces séances sont ouvertes à tous les parents quel que soit le lieu de naissance de l’enfant. Elles se font en collectif\, à partir de 3 couples et ou mamans. Durant cet atelier\, nous allons découvrir comment le corps de la femme se prépare pour la mise au monde de l’enfant\, quelles sont les différentes phases\, comment les reconnaitre\, les accompagner. Comprendre le fonctionnement des hormones du travail fabuleux que font la mère et l’enfant. Nous aborderons l’évolution de ce travail\, la descente du bébé\, la poussée\, le périnée……
URL:https://quatrequarts.coop/event/rencontres-perinatales/2021-07-19/
END:VEVENT
BEGIN:VEVENT
DTSTART;TZID=Europe/Brussels:20210721T193000
DTEND;TZID=Europe/Brussels:20210721T220000
DTSTAMP:20260425T223448
CREATED:20180910T110134Z
LAST-MODIFIED:20180910T111145Z
UID:10003639-1626895800-1626904800@quatrequarts.coop
SUMMARY:La physiologie de la naissance
DESCRIPTION:Rencontres périnatales avec l’Asble Timoun\nL’équipe des sages-femmes de TIMOUN vous propose un cycle d’ateliers autour de la naissance. Ces séances sont ouvertes à tous les parents quel que soit le lieu de naissance de l’enfant. Elles se font en collectif\, à partir de 3 couples et ou mamans. Durant cet atelier\, nous allons découvrir comment le corps de la femme se prépare pour la mise au monde de l’enfant\, quelles sont les différentes phases\, comment les reconnaitre\, les accompagner. Comprendre le fonctionnement des hormones du travail fabuleux que font la mère et l’enfant. Nous aborderons l’évolution de ce travail\, la descente du bébé\, la poussée\, le périnée……
URL:https://quatrequarts.coop/event/rencontres-perinatales-2/2021-07-21/
END:VEVENT
BEGIN:VEVENT
DTSTART;TZID=Europe/Brussels:20210722T170000
DTEND;TZID=Europe/Brussels:20210722T193000
DTSTAMP:20260425T223448
CREATED:20210701T125809Z
LAST-MODIFIED:20210802T114458Z
UID:10003775-1626973200-1626982200@quatrequarts.coop
SUMMARY:Atelier jeu d'échecs intergénérationnel
DESCRIPTION:Échecs à Court ! \nDans un climat familial et convivial\, nous vous donnons rendez-vous pour jouer aux échecs . \nDe 12 à 102 ans \nDu plus Fort au plus Débutant \nOn vous attend ! \nDes questions ? Samuel.fiorini@ulb.ac.be \nDates été : \n– jeudi 22 juillet 17h-19h30\n– vendredi 30 juillet 19h-21h30\n– vendredi 13 aout 19h-21h30\n– jeudi 19 aout 17h-19h30 \n(si vous voulez bien et que vous avez un jeu\, vous pouvez l’apporter) \nFamille Fiorini-Crespel : Samuel 46 ans\, Agathe 47 ans\, Lucien 16 ans\, Gabriel 13 ans \n  \n>> Restauration possible sur place
URL:https://quatrequarts.coop/event/atelier-jeu-dechecs-intergenerationnel-et-ouvert-a-tous-22-et-30-juillet/2021-07-22/
ATTACH;FMTTYPE=image/jpeg:https://quatrequarts.coop/wp-content/uploads/2021/07/le-jeu-de-la-dame-photo-anya-taylor-joy-1354946.jpg
END:VEVENT
BEGIN:VEVENT
DTSTART;TZID=Europe/Brussels:20210723T180000
DTEND;TZID=Europe/Brussels:20210723T190000
DTSTAMP:20260425T223448
CREATED:20170928T131010Z
LAST-MODIFIED:20180926T092627Z
UID:10002629-1627063200-1627066800@quatrequarts.coop
SUMMARY:Table de conversation en espagnol
DESCRIPTION:Un vendredi par mois\, venez à notre table de conversation en espagnol ! gérés par un couple de voyageurs. \nOn peut aborder divers sujets\, culture\, voyages\, paysages\, nourriture\, musique et tout ce que vous proposez. \nPrenons un bol d’air latino ensemble ! \n 
URL:https://quatrequarts.coop/event/table-de-conversation-espagnole/2021-07-23/
ATTACH;FMTTYPE=image/jpeg:https://quatrequarts.coop/wp-content/uploads/2017/09/drapeau-espagnol.jpg
ORGANIZER;CN="Sarai & Quentin":MAILTO:heritageancestral@gmail.com
END:VEVENT
BEGIN:VEVENT
DTSTART;TZID=Europe/Brussels:20210724T110000
DTEND;TZID=Europe/Brussels:20210724T140000
DTSTAMP:20260425T223448
CREATED:20210605T061407Z
LAST-MODIFIED:20210702T192617Z
UID:10003828-1627124400-1627135200@quatrequarts.coop
SUMMARY:Brocante de Quatre Quarts
DESCRIPTION:Notre brocante du 27 juin a été un beau succès… mais il nous reste quantité de choses à vous vendre à petit prix !!! \nNous vous accueillerons donc à nouveau : \n\nle samedi 10/7 de 11h à 14h\nle samedi 17/7 de 11h à 16h\nle samedi 24/7 de 11h à 16h\n\nObjets à vendre : vaisselle\, objets de déco\, petit électroménager\, quelques appareils hifi\, tondeuses électriques\, barres de toit et caissons pour voiture\, petit mobilier\, matériel médical (rolators\, béquilles…)\, CD-DVD\, livres\, jeux\, bijoux fantaisie\, et divers… comme sur une brocante :-). \n \nVenez y faire votre choix ! \nDes questions ? Contactez Françoise : francoisedossin@edpnet.be \nMerci d’avance pour votre soutien ;-).  À bientôt !!
URL:https://quatrequarts.coop/event/brocante-petits-meubles-et-deco/2021-07-24/
ATTACH;FMTTYPE=image/jpeg:https://quatrequarts.coop/wp-content/uploads/2021/06/depositphotos_199311130-stock-illustration-people-selling-shopping-second-hand.jpg
END:VEVENT
BEGIN:VEVENT
DTSTART;TZID=Europe/Brussels:20210726T080000
DTEND;TZID=Europe/Brussels:20210808T170000
DTSTAMP:20260425T223448
CREATED:20210701T122823Z
LAST-MODIFIED:20210701T122823Z
UID:10004241-1627286400-1628442000@quatrequarts.coop
SUMMARY:Chantier estival
DESCRIPTION:Les plans et l’organisation de l’aménagement de la gare avancent pour le projet Quai Libre. \nAu programme\, nettoyage\, peinture\, pose de plancher\, électricité\,…\nIl n’est pas nécessaire d’avoir des compétences particulières pour venir aider\, bienvenue à tous 🙂 \nNous vous enverrons des informations plus précise sur les travaux qui seront à faire dans le courant du mois de juillet.\nSi vous avez envie de venir rejoindre l’équipe\, même un jour\, voici le lien pour s’inscrire : https://docs.google.com/forms/d/e/1FAIpQLSeVUBlGgQ4DHMiWPYzCeRAmDtVdqitctkO1Z-baI3nbvqLx-g/viewform?usp=pp_url
URL:https://quatrequarts.coop/event/chantier-estival/
ATTACH;FMTTYPE=image/jpeg:https://quatrequarts.coop/wp-content/uploads/2021/07/DSCF7880-scaled.jpg
END:VEVENT
BEGIN:VEVENT
DTSTART;TZID=Europe/Brussels:20210729T180000
DTEND;TZID=Europe/Brussels:20210729T200000
DTSTAMP:20260425T223448
CREATED:20210701T123137Z
LAST-MODIFIED:20210802T123652Z
UID:10004552-1627581600-1627588800@quatrequarts.coop
SUMMARY:Atelier BD
DESCRIPTION:Ateliers d’expression par la BD – Les jeudis 29 juillet\, 12 août et 26 août\, de 18h00 à 20h00.\nTrois soirées pour exprimer sa créativité à travers la bande dessinée.\nOuvert à tous à partir de 12 ans\, sans prérequis ! On explore\, on partage nos expériences\,\non crée suivant un thème ou on développe librement son propre projet. \nApporter son matériel (papier\, crayons\, gomme\, latte\, marqueurs). \nPAF : 5 € par soirée durant l’été\nInscription souhaitée avant chaque soirée : ty_col@yahoo.fr ou 0472 624 803\nNB : pour avancer dans un projet\, il est suggéré de participer à plusieurs soirées. \n  \n>> Restauration possible sur place
URL:https://quatrequarts.coop/event/atelier-bd/2021-07-29/
ATTACH;FMTTYPE=image/jpeg:https://quatrequarts.coop/wp-content/uploads/2021/07/atelier-bd-crecc81teil-6-scaled.jpg
END:VEVENT
BEGIN:VEVENT
DTSTART;TZID=Europe/Brussels:20210729T200000
DTEND;TZID=Europe/Brussels:20210729T230000
DTSTAMP:20260425T223448
CREATED:20200930T191257Z
LAST-MODIFIED:20210929T065636Z
UID:10004282-1627588800-1627599600@quatrequarts.coop
SUMMARY:Jam session
DESCRIPTION:Organisateur : Olivier Stevens (olivier.stevens@oszone.be) \n\n\nVenez avec votre instrument et/ou votre voix\, ou simplement avec vos oreilles pour écouter ;-).\nTous niveaux\, tous styles\, impros et cover. Accueil des musiciens à partir de 19h40.\n\n\n\n\n\n\n\n\n\n>>gratuit\n >>restauration possible sur place\n\nLien facebook : https://www.facebook.com/events/533079311158236?ref=newsfeed
URL:https://quatrequarts.coop/event/20777/2021-07-29/
ATTACH;FMTTYPE=image/jpeg:https://quatrequarts.coop/wp-content/uploads/2020/09/104128258_10223229367786788_2207158401393696453_o.jpg
END:VEVENT
BEGIN:VEVENT
DTSTART;TZID=Europe/Brussels:20210730T090000
DTEND;TZID=Europe/Brussels:20210730T120000
DTSTAMP:20260425T223448
CREATED:20180825T114406Z
LAST-MODIFIED:20180825T114406Z
UID:10003416-1627635600-1627646400@quatrequarts.coop
SUMMARY:"Cheminons ensemble"
DESCRIPTION:  \n  \n  \n 
URL:https://quatrequarts.coop/event/cheminons-ensemble/2021-07-30/
END:VEVENT
BEGIN:VEVENT
DTSTART;TZID=Europe/Brussels:20210730T170000
DTEND;TZID=Europe/Brussels:20210730T193000
DTSTAMP:20260425T223448
CREATED:20210701T125809Z
LAST-MODIFIED:20210802T114458Z
UID:10003776-1627664400-1627673400@quatrequarts.coop
SUMMARY:Atelier jeu d'échecs intergénérationnel
DESCRIPTION:Échecs à Court ! \nDans un climat familial et convivial\, nous vous donnons rendez-vous pour jouer aux échecs . \nDe 12 à 102 ans \nDu plus Fort au plus Débutant \nOn vous attend ! \nDes questions ? Samuel.fiorini@ulb.ac.be \nDates été : \n– jeudi 22 juillet 17h-19h30\n– vendredi 30 juillet 19h-21h30\n– vendredi 13 aout 19h-21h30\n– jeudi 19 aout 17h-19h30 \n(si vous voulez bien et que vous avez un jeu\, vous pouvez l’apporter) \nFamille Fiorini-Crespel : Samuel 46 ans\, Agathe 47 ans\, Lucien 16 ans\, Gabriel 13 ans \n  \n>> Restauration possible sur place
URL:https://quatrequarts.coop/event/atelier-jeu-dechecs-intergenerationnel-et-ouvert-a-tous-22-et-30-juillet/2021-07-30/
ATTACH;FMTTYPE=image/jpeg:https://quatrequarts.coop/wp-content/uploads/2021/07/le-jeu-de-la-dame-photo-anya-taylor-joy-1354946.jpg
END:VEVENT
END:VCALENDAR