BEGIN:VCALENDAR
VERSION:2.0
PRODID:-//Quatre Quarts - ECPv6.15.20//NONSGML v1.0//EN
CALSCALE:GREGORIAN
METHOD:PUBLISH
X-ORIGINAL-URL:https://quatrequarts.coop
X-WR-CALDESC:Évènements pour Quatre Quarts
REFRESH-INTERVAL;VALUE=DURATION:PT1H
X-Robots-Tag:noindex
X-PUBLISHED-TTL:PT1H
BEGIN:VTIMEZONE
TZID:Europe/Brussels
BEGIN:DAYLIGHT
TZOFFSETFROM:+0100
TZOFFSETTO:+0200
TZNAME:CEST
DTSTART:20200329T010000
END:DAYLIGHT
BEGIN:STANDARD
TZOFFSETFROM:+0200
TZOFFSETTO:+0100
TZNAME:CET
DTSTART:20201025T010000
END:STANDARD
BEGIN:DAYLIGHT
TZOFFSETFROM:+0100
TZOFFSETTO:+0200
TZNAME:CEST
DTSTART:20210328T010000
END:DAYLIGHT
BEGIN:STANDARD
TZOFFSETFROM:+0200
TZOFFSETTO:+0100
TZNAME:CET
DTSTART:20211031T010000
END:STANDARD
BEGIN:DAYLIGHT
TZOFFSETFROM:+0100
TZOFFSETTO:+0200
TZNAME:CEST
DTSTART:20220327T010000
END:DAYLIGHT
BEGIN:STANDARD
TZOFFSETFROM:+0200
TZOFFSETTO:+0100
TZNAME:CET
DTSTART:20221030T010000
END:STANDARD
END:VTIMEZONE
BEGIN:VEVENT
DTSTART;TZID=Europe/Brussels:20210604T090000
DTEND;TZID=Europe/Brussels:20210604T120000
DTSTAMP:20260426T003151
CREATED:20180825T114406Z
LAST-MODIFIED:20180825T114406Z
UID:10003412-1622797200-1622808000@quatrequarts.coop
SUMMARY:"Cheminons ensemble"
DESCRIPTION:  \n  \n  \n 
URL:https://quatrequarts.coop/event/cheminons-ensemble/2021-06-04/
END:VEVENT
BEGIN:VEVENT
DTSTART;TZID=Europe/Brussels:20210607T093000
DTEND;TZID=Europe/Brussels:20210607T113000
DTSTAMP:20260426T003151
CREATED:20180910T105738Z
LAST-MODIFIED:20180910T111211Z
UID:10003524-1623058200-1623065400@quatrequarts.coop
SUMMARY:La physiologie de la naissance
DESCRIPTION:Rencontres périnatales avec l’Asbl Timoun\nL’équipe des sages-femmes de TIMOUN vous propose un cycle d’ateliers autour de la naissance. Ces séances sont ouvertes à tous les parents quel que soit le lieu de naissance de l’enfant. Elles se font en collectif\, à partir de 3 couples et ou mamans. Durant cet atelier\, nous allons découvrir comment le corps de la femme se prépare pour la mise au monde de l’enfant\, quelles sont les différentes phases\, comment les reconnaitre\, les accompagner. Comprendre le fonctionnement des hormones du travail fabuleux que font la mère et l’enfant. Nous aborderons l’évolution de ce travail\, la descente du bébé\, la poussée\, le périnée……
URL:https://quatrequarts.coop/event/rencontres-perinatales/2021-06-07/
END:VEVENT
BEGIN:VEVENT
DTSTART;TZID=Europe/Brussels:20210609T193000
DTEND;TZID=Europe/Brussels:20210609T220000
DTSTAMP:20260426T003151
CREATED:20180910T110134Z
LAST-MODIFIED:20180910T111145Z
UID:10003636-1623267000-1623276000@quatrequarts.coop
SUMMARY:La physiologie de la naissance
DESCRIPTION:Rencontres périnatales avec l’Asble Timoun\nL’équipe des sages-femmes de TIMOUN vous propose un cycle d’ateliers autour de la naissance. Ces séances sont ouvertes à tous les parents quel que soit le lieu de naissance de l’enfant. Elles se font en collectif\, à partir de 3 couples et ou mamans. Durant cet atelier\, nous allons découvrir comment le corps de la femme se prépare pour la mise au monde de l’enfant\, quelles sont les différentes phases\, comment les reconnaitre\, les accompagner. Comprendre le fonctionnement des hormones du travail fabuleux que font la mère et l’enfant. Nous aborderons l’évolution de ce travail\, la descente du bébé\, la poussée\, le périnée……
URL:https://quatrequarts.coop/event/rencontres-perinatales-2/2021-06-09/
END:VEVENT
BEGIN:VEVENT
DTSTART;TZID=Europe/Brussels:20210610T100000
DTEND;TZID=Europe/Brussels:20210610T220000
DTSTAMP:20260426T003151
CREATED:20210609T072441Z
LAST-MODIFIED:20210609T072441Z
UID:10004551-1623319200-1623362400@quatrequarts.coop
SUMMARY:La coopérative rouvre ses portes !!!
DESCRIPTION:Vous venez célébrer ça avec nous;)? \nHoraires d’été :\n>> Ouverture les jeudis\, vendredis\, samedis\n>> de 10h à 22h … et un peu plus s’il fait bon en terrasse 😉\n>> En attente de la vraie réouverture de la cantine en septembre\, nous proposons toute la journée à grignoter des planches-tapas à 20€ (un peu comme celle du 8 mai\, pour ceux qui s’en souviennent 😉 Des pâtisseries complèteront le menu !
URL:https://quatrequarts.coop/event/la-cooperative-rouvre-ses-portes/
ATTACH;FMTTYPE=image/png:https://quatrequarts.coop/wp-content/uploads/2021/06/180944509_3916735005030836_2767423101917422106_n.png
END:VEVENT
BEGIN:VEVENT
DTSTART;TZID=Europe/Brussels:20210611T200000
DTEND;TZID=Europe/Brussels:20210611T220000
DTSTAMP:20260426T003151
CREATED:20210605T063339Z
LAST-MODIFIED:20210607T141554Z
UID:10004099-1623441600-1623448800@quatrequarts.coop
SUMMARY:Projection-discussion autour du Voyage pour la vie des zapatistes
DESCRIPTION:Les zapatistes\, ces révolutionnaires mexicains dont le soulèvement marque le début de l’altermondialisme\, sortent de leur territoire et nous rendent visite en Europe.\nConquête inversée\, 500 ans après ? Non\, plutôt un « Voyage pour la vie » afin de tisser des liens entre ceux qui luttent contre le capitalisme\, résistent\, créent des alternatives. \nIls passeront par la Belgique ! \nVenez en découvrir plus sur les zapatistes\, sur leur « viaje por la vida » et la façon d’éventuellement s’y impliquer. \n20h : Projection de courts documentaires au sujet des zapatistes et discussion-débat \nDès 18h : Bar ouvert et planchettes apéro (fromage-charcuterie) disponibles \nRéservation nécessaire via ce lien : Réservations pour soirée docu-débat 11/6/21 – Quatre Quarts \n \nPour en savoir plus sur le « Voyage pour la vie » : https://zapatista2021.lebib.org/doku.php \nPour en savoir plus à propos du RAZB : http://www.viajezapatista.be/ \nOrganisateur : RAZB (Réseau d’accueil des Zapatistes en Belgique)\, groupe LLN et environs
URL:https://quatrequarts.coop/event/soiree-docu-debat-autour-des-zapatistes/
ATTACH;FMTTYPE=image/jpeg:https://quatrequarts.coop/wp-content/uploads/2021/06/barco.jpg
END:VEVENT
BEGIN:VEVENT
DTSTART;TZID=Europe/Brussels:20210618T090000
DTEND;TZID=Europe/Brussels:20210618T120000
DTSTAMP:20260426T003151
CREATED:20180825T114406Z
LAST-MODIFIED:20180825T114406Z
UID:10003413-1624006800-1624017600@quatrequarts.coop
SUMMARY:"Cheminons ensemble"
DESCRIPTION:  \n  \n  \n 
URL:https://quatrequarts.coop/event/cheminons-ensemble/2021-06-18/
END:VEVENT
BEGIN:VEVENT
DTSTART;TZID=Europe/Brussels:20210618T200000
DTEND;TZID=Europe/Brussels:20210618T230000
DTSTAMP:20260426T003151
CREATED:20200930T191257Z
LAST-MODIFIED:20210929T065636Z
UID:10004280-1624046400-1624057200@quatrequarts.coop
SUMMARY:Jam session
DESCRIPTION:Organisateur : Olivier Stevens (olivier.stevens@oszone.be) \n\n\nVenez avec votre instrument et/ou votre voix\, ou simplement avec vos oreilles pour écouter ;-).\nTous niveaux\, tous styles\, impros et cover. Accueil des musiciens à partir de 19h40.\n\n\n\n\n\n\n\n\n\n>>gratuit\n >>restauration possible sur place\n\nLien facebook : https://www.facebook.com/events/533079311158236?ref=newsfeed
URL:https://quatrequarts.coop/event/20777/2021-06-18/
ATTACH;FMTTYPE=image/jpeg:https://quatrequarts.coop/wp-content/uploads/2020/09/104128258_10223229367786788_2207158401393696453_o.jpg
END:VEVENT
BEGIN:VEVENT
DTSTART;TZID=Europe/Brussels:20210621T093000
DTEND;TZID=Europe/Brussels:20210621T113000
DTSTAMP:20260426T003151
CREATED:20180910T105738Z
LAST-MODIFIED:20180910T111211Z
UID:10003525-1624267800-1624275000@quatrequarts.coop
SUMMARY:La physiologie de la naissance
DESCRIPTION:Rencontres périnatales avec l’Asbl Timoun\nL’équipe des sages-femmes de TIMOUN vous propose un cycle d’ateliers autour de la naissance. Ces séances sont ouvertes à tous les parents quel que soit le lieu de naissance de l’enfant. Elles se font en collectif\, à partir de 3 couples et ou mamans. Durant cet atelier\, nous allons découvrir comment le corps de la femme se prépare pour la mise au monde de l’enfant\, quelles sont les différentes phases\, comment les reconnaitre\, les accompagner. Comprendre le fonctionnement des hormones du travail fabuleux que font la mère et l’enfant. Nous aborderons l’évolution de ce travail\, la descente du bébé\, la poussée\, le périnée……
URL:https://quatrequarts.coop/event/rencontres-perinatales/2021-06-21/
END:VEVENT
BEGIN:VEVENT
DTSTART;TZID=Europe/Brussels:20210623T193000
DTEND;TZID=Europe/Brussels:20210623T220000
DTSTAMP:20260426T003151
CREATED:20180910T110134Z
LAST-MODIFIED:20180910T111145Z
UID:10003637-1624476600-1624485600@quatrequarts.coop
SUMMARY:La physiologie de la naissance
DESCRIPTION:Rencontres périnatales avec l’Asble Timoun\nL’équipe des sages-femmes de TIMOUN vous propose un cycle d’ateliers autour de la naissance. Ces séances sont ouvertes à tous les parents quel que soit le lieu de naissance de l’enfant. Elles se font en collectif\, à partir de 3 couples et ou mamans. Durant cet atelier\, nous allons découvrir comment le corps de la femme se prépare pour la mise au monde de l’enfant\, quelles sont les différentes phases\, comment les reconnaitre\, les accompagner. Comprendre le fonctionnement des hormones du travail fabuleux que font la mère et l’enfant. Nous aborderons l’évolution de ce travail\, la descente du bébé\, la poussée\, le périnée……
URL:https://quatrequarts.coop/event/rencontres-perinatales-2/2021-06-23/
END:VEVENT
BEGIN:VEVENT
DTSTART;TZID=Europe/Brussels:20210625T180000
DTEND;TZID=Europe/Brussels:20210625T190000
DTSTAMP:20260426T003151
CREATED:20170928T131010Z
LAST-MODIFIED:20180926T092627Z
UID:10002628-1624644000-1624647600@quatrequarts.coop
SUMMARY:Table de conversation en espagnol
DESCRIPTION:Un vendredi par mois\, venez à notre table de conversation en espagnol ! gérés par un couple de voyageurs. \nOn peut aborder divers sujets\, culture\, voyages\, paysages\, nourriture\, musique et tout ce que vous proposez. \nPrenons un bol d’air latino ensemble ! \n 
URL:https://quatrequarts.coop/event/table-de-conversation-espagnole/2021-06-25/
ATTACH;FMTTYPE=image/jpeg:https://quatrequarts.coop/wp-content/uploads/2017/09/drapeau-espagnol.jpg
ORGANIZER;CN="Sarai & Quentin":MAILTO:heritageancestral@gmail.com
END:VEVENT
BEGIN:VEVENT
DTSTART;TZID=Europe/Brussels:20210627T110000
DTEND;TZID=Europe/Brussels:20210627T140000
DTSTAMP:20260426T003151
CREATED:20210605T061407Z
LAST-MODIFIED:20210702T192617Z
UID:10003825-1624791600-1624802400@quatrequarts.coop
SUMMARY:Brocante de Quatre Quarts
DESCRIPTION:Notre brocante du 27 juin a été un beau succès… mais il nous reste quantité de choses à vous vendre à petit prix !!! \nNous vous accueillerons donc à nouveau : \n\nle samedi 10/7 de 11h à 14h\nle samedi 17/7 de 11h à 16h\nle samedi 24/7 de 11h à 16h\n\nObjets à vendre : vaisselle\, objets de déco\, petit électroménager\, quelques appareils hifi\, tondeuses électriques\, barres de toit et caissons pour voiture\, petit mobilier\, matériel médical (rolators\, béquilles…)\, CD-DVD\, livres\, jeux\, bijoux fantaisie\, et divers… comme sur une brocante :-). \n \nVenez y faire votre choix ! \nDes questions ? Contactez Françoise : francoisedossin@edpnet.be \nMerci d’avance pour votre soutien ;-).  À bientôt !!
URL:https://quatrequarts.coop/event/brocante-petits-meubles-et-deco/2021-06-27/
ATTACH;FMTTYPE=image/jpeg:https://quatrequarts.coop/wp-content/uploads/2021/06/depositphotos_199311130-stock-illustration-people-selling-shopping-second-hand.jpg
END:VEVENT
END:VCALENDAR