BEGIN:VCALENDAR
VERSION:2.0
PRODID:-//Quatre Quarts - ECPv6.15.20//NONSGML v1.0//EN
CALSCALE:GREGORIAN
METHOD:PUBLISH
X-WR-CALNAME:Quatre Quarts
X-ORIGINAL-URL:https://quatrequarts.coop
X-WR-CALDESC:Évènements pour Quatre Quarts
REFRESH-INTERVAL;VALUE=DURATION:PT1H
X-Robots-Tag:noindex
X-PUBLISHED-TTL:PT1H
BEGIN:VTIMEZONE
TZID:Europe/Brussels
BEGIN:DAYLIGHT
TZOFFSETFROM:+0100
TZOFFSETTO:+0200
TZNAME:CEST
DTSTART:20200329T010000
END:DAYLIGHT
BEGIN:STANDARD
TZOFFSETFROM:+0200
TZOFFSETTO:+0100
TZNAME:CET
DTSTART:20201025T010000
END:STANDARD
BEGIN:DAYLIGHT
TZOFFSETFROM:+0100
TZOFFSETTO:+0200
TZNAME:CEST
DTSTART:20210328T010000
END:DAYLIGHT
BEGIN:STANDARD
TZOFFSETFROM:+0200
TZOFFSETTO:+0100
TZNAME:CET
DTSTART:20211031T010000
END:STANDARD
BEGIN:DAYLIGHT
TZOFFSETFROM:+0100
TZOFFSETTO:+0200
TZNAME:CEST
DTSTART:20220327T010000
END:DAYLIGHT
BEGIN:STANDARD
TZOFFSETFROM:+0200
TZOFFSETTO:+0100
TZNAME:CET
DTSTART:20221030T010000
END:STANDARD
END:VTIMEZONE
BEGIN:VEVENT
DTSTART;TZID=Europe/Brussels:20210507T090000
DTEND;TZID=Europe/Brussels:20210507T120000
DTSTAMP:20260426T021554
CREATED:20180825T114406Z
LAST-MODIFIED:20180825T114406Z
UID:10003410-1620378000-1620388800@quatrequarts.coop
SUMMARY:"Cheminons ensemble"
DESCRIPTION:  \n  \n  \n 
URL:https://quatrequarts.coop/event/cheminons-ensemble/2021-05-07/
END:VEVENT
BEGIN:VEVENT
DTSTART;TZID=Europe/Brussels:20210510T093000
DTEND;TZID=Europe/Brussels:20210510T113000
DTSTAMP:20260426T021554
CREATED:20180910T105738Z
LAST-MODIFIED:20180910T111211Z
UID:10003522-1620639000-1620646200@quatrequarts.coop
SUMMARY:La physiologie de la naissance
DESCRIPTION:Rencontres périnatales avec l’Asbl Timoun\nL’équipe des sages-femmes de TIMOUN vous propose un cycle d’ateliers autour de la naissance. Ces séances sont ouvertes à tous les parents quel que soit le lieu de naissance de l’enfant. Elles se font en collectif\, à partir de 3 couples et ou mamans. Durant cet atelier\, nous allons découvrir comment le corps de la femme se prépare pour la mise au monde de l’enfant\, quelles sont les différentes phases\, comment les reconnaitre\, les accompagner. Comprendre le fonctionnement des hormones du travail fabuleux que font la mère et l’enfant. Nous aborderons l’évolution de ce travail\, la descente du bébé\, la poussée\, le périnée……
URL:https://quatrequarts.coop/event/rencontres-perinatales/2021-05-10/
END:VEVENT
BEGIN:VEVENT
DTSTART;TZID=Europe/Brussels:20210512T193000
DTEND;TZID=Europe/Brussels:20210512T220000
DTSTAMP:20260426T021554
CREATED:20180910T110134Z
LAST-MODIFIED:20180910T111145Z
UID:10003634-1620847800-1620856800@quatrequarts.coop
SUMMARY:La physiologie de la naissance
DESCRIPTION:Rencontres périnatales avec l’Asble Timoun\nL’équipe des sages-femmes de TIMOUN vous propose un cycle d’ateliers autour de la naissance. Ces séances sont ouvertes à tous les parents quel que soit le lieu de naissance de l’enfant. Elles se font en collectif\, à partir de 3 couples et ou mamans. Durant cet atelier\, nous allons découvrir comment le corps de la femme se prépare pour la mise au monde de l’enfant\, quelles sont les différentes phases\, comment les reconnaitre\, les accompagner. Comprendre le fonctionnement des hormones du travail fabuleux que font la mère et l’enfant. Nous aborderons l’évolution de ce travail\, la descente du bébé\, la poussée\, le périnée……
URL:https://quatrequarts.coop/event/rencontres-perinatales-2/2021-05-12/
END:VEVENT
BEGIN:VEVENT
DTSTART;TZID=Europe/Brussels:20210521T090000
DTEND;TZID=Europe/Brussels:20210521T120000
DTSTAMP:20260426T021554
CREATED:20180825T114406Z
LAST-MODIFIED:20180825T114406Z
UID:10003411-1621587600-1621598400@quatrequarts.coop
SUMMARY:"Cheminons ensemble"
DESCRIPTION:  \n  \n  \n 
URL:https://quatrequarts.coop/event/cheminons-ensemble/2021-05-21/
END:VEVENT
BEGIN:VEVENT
DTSTART;TZID=Europe/Brussels:20210524T093000
DTEND;TZID=Europe/Brussels:20210524T113000
DTSTAMP:20260426T021554
CREATED:20180910T105738Z
LAST-MODIFIED:20180910T111211Z
UID:10003523-1621848600-1621855800@quatrequarts.coop
SUMMARY:La physiologie de la naissance
DESCRIPTION:Rencontres périnatales avec l’Asbl Timoun\nL’équipe des sages-femmes de TIMOUN vous propose un cycle d’ateliers autour de la naissance. Ces séances sont ouvertes à tous les parents quel que soit le lieu de naissance de l’enfant. Elles se font en collectif\, à partir de 3 couples et ou mamans. Durant cet atelier\, nous allons découvrir comment le corps de la femme se prépare pour la mise au monde de l’enfant\, quelles sont les différentes phases\, comment les reconnaitre\, les accompagner. Comprendre le fonctionnement des hormones du travail fabuleux que font la mère et l’enfant. Nous aborderons l’évolution de ce travail\, la descente du bébé\, la poussée\, le périnée……
URL:https://quatrequarts.coop/event/rencontres-perinatales/2021-05-24/
END:VEVENT
BEGIN:VEVENT
DTSTART;TZID=Europe/Brussels:20210526T193000
DTEND;TZID=Europe/Brussels:20210526T220000
DTSTAMP:20260426T021554
CREATED:20180910T110134Z
LAST-MODIFIED:20180910T111145Z
UID:10003635-1622057400-1622066400@quatrequarts.coop
SUMMARY:La physiologie de la naissance
DESCRIPTION:Rencontres périnatales avec l’Asble Timoun\nL’équipe des sages-femmes de TIMOUN vous propose un cycle d’ateliers autour de la naissance. Ces séances sont ouvertes à tous les parents quel que soit le lieu de naissance de l’enfant. Elles se font en collectif\, à partir de 3 couples et ou mamans. Durant cet atelier\, nous allons découvrir comment le corps de la femme se prépare pour la mise au monde de l’enfant\, quelles sont les différentes phases\, comment les reconnaitre\, les accompagner. Comprendre le fonctionnement des hormones du travail fabuleux que font la mère et l’enfant. Nous aborderons l’évolution de ce travail\, la descente du bébé\, la poussée\, le périnée……
URL:https://quatrequarts.coop/event/rencontres-perinatales-2/2021-05-26/
END:VEVENT
BEGIN:VEVENT
DTSTART;TZID=Europe/Brussels:20210528T180000
DTEND;TZID=Europe/Brussels:20210528T190000
DTSTAMP:20260426T021554
CREATED:20170928T131010Z
LAST-MODIFIED:20180926T092627Z
UID:10002627-1622224800-1622228400@quatrequarts.coop
SUMMARY:Table de conversation en espagnol
DESCRIPTION:Un vendredi par mois\, venez à notre table de conversation en espagnol ! gérés par un couple de voyageurs. \nOn peut aborder divers sujets\, culture\, voyages\, paysages\, nourriture\, musique et tout ce que vous proposez. \nPrenons un bol d’air latino ensemble ! \n 
URL:https://quatrequarts.coop/event/table-de-conversation-espagnole/2021-05-28/
ATTACH;FMTTYPE=image/jpeg:https://quatrequarts.coop/wp-content/uploads/2017/09/drapeau-espagnol.jpg
ORGANIZER;CN="Sarai & Quentin":MAILTO:heritageancestral@gmail.com
END:VEVENT
END:VCALENDAR