BEGIN:VCALENDAR
VERSION:2.0
PRODID:-//Quatre Quarts - ECPv6.15.20//NONSGML v1.0//EN
CALSCALE:GREGORIAN
METHOD:PUBLISH
X-WR-CALNAME:Quatre Quarts
X-ORIGINAL-URL:https://quatrequarts.coop
X-WR-CALDESC:Évènements pour Quatre Quarts
REFRESH-INTERVAL;VALUE=DURATION:PT1H
X-Robots-Tag:noindex
X-PUBLISHED-TTL:PT1H
BEGIN:VTIMEZONE
TZID:Europe/Brussels
BEGIN:DAYLIGHT
TZOFFSETFROM:+0100
TZOFFSETTO:+0200
TZNAME:CEST
DTSTART:20200329T010000
END:DAYLIGHT
BEGIN:STANDARD
TZOFFSETFROM:+0200
TZOFFSETTO:+0100
TZNAME:CET
DTSTART:20201025T010000
END:STANDARD
BEGIN:DAYLIGHT
TZOFFSETFROM:+0100
TZOFFSETTO:+0200
TZNAME:CEST
DTSTART:20210328T010000
END:DAYLIGHT
BEGIN:STANDARD
TZOFFSETFROM:+0200
TZOFFSETTO:+0100
TZNAME:CET
DTSTART:20211031T010000
END:STANDARD
BEGIN:DAYLIGHT
TZOFFSETFROM:+0100
TZOFFSETTO:+0200
TZNAME:CEST
DTSTART:20220327T010000
END:DAYLIGHT
BEGIN:STANDARD
TZOFFSETFROM:+0200
TZOFFSETTO:+0100
TZNAME:CET
DTSTART:20221030T010000
END:STANDARD
END:VTIMEZONE
BEGIN:VEVENT
DTSTART;TZID=Europe/Brussels:20210301T093000
DTEND;TZID=Europe/Brussels:20210301T113000
DTSTAMP:20260426T061054
CREATED:20180910T105738Z
LAST-MODIFIED:20180910T111211Z
UID:10003517-1614591000-1614598200@quatrequarts.coop
SUMMARY:La physiologie de la naissance
DESCRIPTION:Rencontres périnatales avec l’Asbl Timoun\nL’équipe des sages-femmes de TIMOUN vous propose un cycle d’ateliers autour de la naissance. Ces séances sont ouvertes à tous les parents quel que soit le lieu de naissance de l’enfant. Elles se font en collectif\, à partir de 3 couples et ou mamans. Durant cet atelier\, nous allons découvrir comment le corps de la femme se prépare pour la mise au monde de l’enfant\, quelles sont les différentes phases\, comment les reconnaitre\, les accompagner. Comprendre le fonctionnement des hormones du travail fabuleux que font la mère et l’enfant. Nous aborderons l’évolution de ce travail\, la descente du bébé\, la poussée\, le périnée……
URL:https://quatrequarts.coop/event/rencontres-perinatales/2021-03-01/
END:VEVENT
BEGIN:VEVENT
DTSTART;TZID=Europe/Brussels:20210302T120000
DTEND;TZID=Europe/Brussels:20210302T160000
DTSTAMP:20260426T061054
CREATED:20210122T185853Z
LAST-MODIFIED:20210313T163314Z
UID:10003689-1614686400-1614700800@quatrequarts.coop
SUMMARY:Plat végétarien à emporter
DESCRIPTION:Proposé par Klaudia et son projet culinaire Artemisia.\n\nUn plat végétarien équilibré avec une céréale\, une protéine végétale et des légumes.\nVotre plat sera préparé avec des ingrédients bio\, des délicieux légumes de la ferme de la Distillerie à Bousval\, locaux et de saison.\nSi vous avez l’habitude du plat du jour de Quatre Quarts\, vous savez à quoi vous attendre :-).\nMais si vous ne l’avez pas\, sachez que le plat est équilibré\, plein de goût\, d’inspiration et de créativité.\nIl est facile à réchauffer au four ou à la poêle\, selon votre préférence.\nSi vous souhaitez connaitre le menu\, je vous envoie les informations par mail (envoyez-moi un mail sur klaudiaben@gmail.com) ou sur ma page fb : Artemisia cuisine respectueuse – gastronomie mobile.\nContenants à vous sont privilégiés\, mais ils aurait aussi une possibilité d’un contentant bio-dégradable à emporter.\nLes réservations pour le mardi seront clôturées le lundi avant midi.\nEnlèvement :  au Quatre Quarts\, dans l’ancienne gare de Court-Saint-Étienne\, entre 12h et 16h.\nPrix : 12€\nPour les réservations : par télephone au 0488 87 49 56 ou par mail : klaudiaben@gmail.com\nVous pouvez également envoyer un message fb : Artemisia cuisine respectueuse – gastronomie mobile\, (et liker ma page\, tout nouvelle et encore peu visitée).\nPour le paiement : sur place lors de l’enlèvement en espèces ou par virement ou pour confirmer votre réservation sur le compte BE98 0639 4533 8793\n\nMerci d’avoir choisi ma cuisine pour vous nourrir avec une nourriture saine\, qui sera une joie pour vos papilles gustatives et en même temps soutenir le maraichage local !\n\nJe vous souhaite un bon appétit !\nKlaudia
URL:https://quatrequarts.coop/event/plat-vegetarien-a-emporter-2/2021-03-02/
ATTACH;FMTTYPE=image/jpeg:https://quatrequarts.coop/wp-content/uploads/2020/11/109495510_3085466398157705_2365412237531801291_o.jpg
END:VEVENT
BEGIN:VEVENT
DTSTART;TZID=Europe/Brussels:20210303T193000
DTEND;TZID=Europe/Brussels:20210303T220000
DTSTAMP:20260426T061054
CREATED:20180910T110134Z
LAST-MODIFIED:20180910T111145Z
UID:10003629-1614799800-1614808800@quatrequarts.coop
SUMMARY:La physiologie de la naissance
DESCRIPTION:Rencontres périnatales avec l’Asble Timoun\nL’équipe des sages-femmes de TIMOUN vous propose un cycle d’ateliers autour de la naissance. Ces séances sont ouvertes à tous les parents quel que soit le lieu de naissance de l’enfant. Elles se font en collectif\, à partir de 3 couples et ou mamans. Durant cet atelier\, nous allons découvrir comment le corps de la femme se prépare pour la mise au monde de l’enfant\, quelles sont les différentes phases\, comment les reconnaitre\, les accompagner. Comprendre le fonctionnement des hormones du travail fabuleux que font la mère et l’enfant. Nous aborderons l’évolution de ce travail\, la descente du bébé\, la poussée\, le périnée……
URL:https://quatrequarts.coop/event/rencontres-perinatales-2/2021-03-03/
END:VEVENT
BEGIN:VEVENT
DTSTART;TZID=Europe/Brussels:20210305T160000
DTEND;TZID=Europe/Brussels:20210305T170000
DTSTAMP:20260426T061054
CREATED:20210204T102806Z
LAST-MODIFIED:20210313T163351Z
UID:10004291-1614960000-1614963600@quatrequarts.coop
SUMMARY:Plat végétarien à emporter
DESCRIPTION:Avec Viannou et Evelyne et leur projet « C’est bon c’est quoi »\, offrez-vous un délicieux repas de saison cuisiné avec amour le jour même !!! \nToutes les infos\, où-quand-comment ici: https://www.facebook.com/cboncquoi
URL:https://quatrequarts.coop/event/plat-vegetarien-a-emporter-3/2021-03-05/
ATTACH;FMTTYPE=image/jpeg:https://quatrequarts.coop/wp-content/uploads/2021/02/144295675_111902857533130_1040788281587417231_o.jpg
END:VEVENT
BEGIN:VEVENT
DTSTART;TZID=Europe/Brussels:20210308T090000
DTEND;TZID=Europe/Brussels:20210308T170000
DTSTAMP:20260426T061054
CREATED:20210228T201947Z
LAST-MODIFIED:20210301T203033Z
UID:10002669-1615194000-1615222800@quatrequarts.coop
SUMMARY:Commandes Semailles - Le retour !
DESCRIPTION:Pour préparer le printemps\, on vous propose de commander vos semences Semailles via Quatre Quarts.\nUne manière de soutenir Semailles et Quatre Quarts et en plus le plaisir de produire votre nourriture.\nMode d’emploi : \nCompléter et renvoyer le bon de commande Excel (à télécharger ici : bon-de-commande-2021) par mail\, au plus tard le lundi 8 mars à info@quatrequarts.coop  \n>> Pour la commande ne remplir que la colonne quantité\n>> personne de contact\, nom + prénom\n>> mail\n>> tél ou GSM \nNB1: pour les semences\, l’approvisionnement est assuré.\nNB2 : pour les plants\, vu le grand nombre de demandes\, Semailles n’est pas sûr de pouvoir honorer votre commande. \nLes commandes seront disponibles chez Quatre Quarts les vendredi 19 et samedi 20 mars\, de 10h à 17h. \n\n\n 
URL:https://quatrequarts.coop/event/fin-des-commandes-semailles/
ATTACH;FMTTYPE=image/jpeg:https://quatrequarts.coop/wp-content/uploads/2021/02/148860354_3682654921772180_3715421289810930854_o.jpg
END:VEVENT
BEGIN:VEVENT
DTSTART;TZID=Europe/Brussels:20210309T120000
DTEND;TZID=Europe/Brussels:20210309T160000
DTSTAMP:20260426T061054
CREATED:20210122T185853Z
LAST-MODIFIED:20210313T163314Z
UID:10003690-1615291200-1615305600@quatrequarts.coop
SUMMARY:Plat végétarien à emporter
DESCRIPTION:Proposé par Klaudia et son projet culinaire Artemisia.\n\nUn plat végétarien équilibré avec une céréale\, une protéine végétale et des légumes.\nVotre plat sera préparé avec des ingrédients bio\, des délicieux légumes de la ferme de la Distillerie à Bousval\, locaux et de saison.\nSi vous avez l’habitude du plat du jour de Quatre Quarts\, vous savez à quoi vous attendre :-).\nMais si vous ne l’avez pas\, sachez que le plat est équilibré\, plein de goût\, d’inspiration et de créativité.\nIl est facile à réchauffer au four ou à la poêle\, selon votre préférence.\nSi vous souhaitez connaitre le menu\, je vous envoie les informations par mail (envoyez-moi un mail sur klaudiaben@gmail.com) ou sur ma page fb : Artemisia cuisine respectueuse – gastronomie mobile.\nContenants à vous sont privilégiés\, mais ils aurait aussi une possibilité d’un contentant bio-dégradable à emporter.\nLes réservations pour le mardi seront clôturées le lundi avant midi.\nEnlèvement :  au Quatre Quarts\, dans l’ancienne gare de Court-Saint-Étienne\, entre 12h et 16h.\nPrix : 12€\nPour les réservations : par télephone au 0488 87 49 56 ou par mail : klaudiaben@gmail.com\nVous pouvez également envoyer un message fb : Artemisia cuisine respectueuse – gastronomie mobile\, (et liker ma page\, tout nouvelle et encore peu visitée).\nPour le paiement : sur place lors de l’enlèvement en espèces ou par virement ou pour confirmer votre réservation sur le compte BE98 0639 4533 8793\n\nMerci d’avoir choisi ma cuisine pour vous nourrir avec une nourriture saine\, qui sera une joie pour vos papilles gustatives et en même temps soutenir le maraichage local !\n\nJe vous souhaite un bon appétit !\nKlaudia
URL:https://quatrequarts.coop/event/plat-vegetarien-a-emporter-2/2021-03-09/
ATTACH;FMTTYPE=image/jpeg:https://quatrequarts.coop/wp-content/uploads/2020/11/109495510_3085466398157705_2365412237531801291_o.jpg
END:VEVENT
BEGIN:VEVENT
DTSTART;TZID=Europe/Brussels:20210312T090000
DTEND;TZID=Europe/Brussels:20210312T120000
DTSTAMP:20260426T061054
CREATED:20180825T114406Z
LAST-MODIFIED:20180825T114406Z
UID:10003406-1615539600-1615550400@quatrequarts.coop
SUMMARY:"Cheminons ensemble"
DESCRIPTION:  \n  \n  \n 
URL:https://quatrequarts.coop/event/cheminons-ensemble/2021-03-12/
END:VEVENT
BEGIN:VEVENT
DTSTART;TZID=Europe/Brussels:20210312T160000
DTEND;TZID=Europe/Brussels:20210312T170000
DTSTAMP:20260426T061054
CREATED:20210204T102806Z
LAST-MODIFIED:20210313T163351Z
UID:10004292-1615564800-1615568400@quatrequarts.coop
SUMMARY:Plat végétarien à emporter
DESCRIPTION:Avec Viannou et Evelyne et leur projet « C’est bon c’est quoi »\, offrez-vous un délicieux repas de saison cuisiné avec amour le jour même !!! \nToutes les infos\, où-quand-comment ici: https://www.facebook.com/cboncquoi
URL:https://quatrequarts.coop/event/plat-vegetarien-a-emporter-3/2021-03-12/
ATTACH;FMTTYPE=image/jpeg:https://quatrequarts.coop/wp-content/uploads/2021/02/144295675_111902857533130_1040788281587417231_o.jpg
END:VEVENT
BEGIN:VEVENT
DTSTART;TZID=Europe/Brussels:20210315T093000
DTEND;TZID=Europe/Brussels:20210315T113000
DTSTAMP:20260426T061054
CREATED:20180910T105738Z
LAST-MODIFIED:20180910T111211Z
UID:10003518-1615800600-1615807800@quatrequarts.coop
SUMMARY:La physiologie de la naissance
DESCRIPTION:Rencontres périnatales avec l’Asbl Timoun\nL’équipe des sages-femmes de TIMOUN vous propose un cycle d’ateliers autour de la naissance. Ces séances sont ouvertes à tous les parents quel que soit le lieu de naissance de l’enfant. Elles se font en collectif\, à partir de 3 couples et ou mamans. Durant cet atelier\, nous allons découvrir comment le corps de la femme se prépare pour la mise au monde de l’enfant\, quelles sont les différentes phases\, comment les reconnaitre\, les accompagner. Comprendre le fonctionnement des hormones du travail fabuleux que font la mère et l’enfant. Nous aborderons l’évolution de ce travail\, la descente du bébé\, la poussée\, le périnée……
URL:https://quatrequarts.coop/event/rencontres-perinatales/2021-03-15/
END:VEVENT
BEGIN:VEVENT
DTSTART;TZID=Europe/Brussels:20210316T120000
DTEND;TZID=Europe/Brussels:20210316T160000
DTSTAMP:20260426T061054
CREATED:20210122T185853Z
LAST-MODIFIED:20210313T163314Z
UID:10003691-1615896000-1615910400@quatrequarts.coop
SUMMARY:Plat végétarien à emporter
DESCRIPTION:Proposé par Klaudia et son projet culinaire Artemisia.\n\nUn plat végétarien équilibré avec une céréale\, une protéine végétale et des légumes.\nVotre plat sera préparé avec des ingrédients bio\, des délicieux légumes de la ferme de la Distillerie à Bousval\, locaux et de saison.\nSi vous avez l’habitude du plat du jour de Quatre Quarts\, vous savez à quoi vous attendre :-).\nMais si vous ne l’avez pas\, sachez que le plat est équilibré\, plein de goût\, d’inspiration et de créativité.\nIl est facile à réchauffer au four ou à la poêle\, selon votre préférence.\nSi vous souhaitez connaitre le menu\, je vous envoie les informations par mail (envoyez-moi un mail sur klaudiaben@gmail.com) ou sur ma page fb : Artemisia cuisine respectueuse – gastronomie mobile.\nContenants à vous sont privilégiés\, mais ils aurait aussi une possibilité d’un contentant bio-dégradable à emporter.\nLes réservations pour le mardi seront clôturées le lundi avant midi.\nEnlèvement :  au Quatre Quarts\, dans l’ancienne gare de Court-Saint-Étienne\, entre 12h et 16h.\nPrix : 12€\nPour les réservations : par télephone au 0488 87 49 56 ou par mail : klaudiaben@gmail.com\nVous pouvez également envoyer un message fb : Artemisia cuisine respectueuse – gastronomie mobile\, (et liker ma page\, tout nouvelle et encore peu visitée).\nPour le paiement : sur place lors de l’enlèvement en espèces ou par virement ou pour confirmer votre réservation sur le compte BE98 0639 4533 8793\n\nMerci d’avoir choisi ma cuisine pour vous nourrir avec une nourriture saine\, qui sera une joie pour vos papilles gustatives et en même temps soutenir le maraichage local !\n\nJe vous souhaite un bon appétit !\nKlaudia
URL:https://quatrequarts.coop/event/plat-vegetarien-a-emporter-2/2021-03-16/
ATTACH;FMTTYPE=image/jpeg:https://quatrequarts.coop/wp-content/uploads/2020/11/109495510_3085466398157705_2365412237531801291_o.jpg
END:VEVENT
BEGIN:VEVENT
DTSTART;TZID=Europe/Brussels:20210317T193000
DTEND;TZID=Europe/Brussels:20210317T220000
DTSTAMP:20260426T061054
CREATED:20180910T110134Z
LAST-MODIFIED:20180910T111145Z
UID:10003630-1616009400-1616018400@quatrequarts.coop
SUMMARY:La physiologie de la naissance
DESCRIPTION:Rencontres périnatales avec l’Asble Timoun\nL’équipe des sages-femmes de TIMOUN vous propose un cycle d’ateliers autour de la naissance. Ces séances sont ouvertes à tous les parents quel que soit le lieu de naissance de l’enfant. Elles se font en collectif\, à partir de 3 couples et ou mamans. Durant cet atelier\, nous allons découvrir comment le corps de la femme se prépare pour la mise au monde de l’enfant\, quelles sont les différentes phases\, comment les reconnaitre\, les accompagner. Comprendre le fonctionnement des hormones du travail fabuleux que font la mère et l’enfant. Nous aborderons l’évolution de ce travail\, la descente du bébé\, la poussée\, le périnée……
URL:https://quatrequarts.coop/event/rencontres-perinatales-2/2021-03-17/
END:VEVENT
BEGIN:VEVENT
DTSTART;TZID=Europe/Brussels:20210319T100000
DTEND;TZID=Europe/Brussels:20210320T170000
DTSTAMP:20260426T061054
CREATED:20210228T202327Z
LAST-MODIFIED:20210313T171950Z
UID:10004077-1616148000-1616259600@quatrequarts.coop
SUMMARY:VENTE DE VÊTEMENTS AU KILO à la coopérative !!
DESCRIPTION:(10€/kg) \nSi vous avez envie de faire un don et de venir déposer les vêtements que vous n’utilisez plus mais qui plairaient à d’autres\, vous pouvez encore venir les déposer dans la coopérative ce jeudi 18 mars\, de 10h à 17h !\n \nLa vente se déroulera les vendredi 19 et samedi 20 mars\, de 10h à 17h. \nC’est une bonne manière de recycler\, faire le tri\, mais également de soutenir financièrement la coopérative :-). \nLe surplus sera redistribué via des associations locales. \nBienvenue !
URL:https://quatrequarts.coop/event/vente-de-vetements-au-kilo-a-la-cooperative/
ATTACH;FMTTYPE=image/jpeg:https://quatrequarts.coop/wp-content/uploads/2021/02/B9723841628Z.1_20200626080646_000GQ2G7U5MB.1-0.jpg
END:VEVENT
BEGIN:VEVENT
DTSTART;TZID=Europe/Brussels:20210319T160000
DTEND;TZID=Europe/Brussels:20210319T170000
DTSTAMP:20260426T061054
CREATED:20210204T102806Z
LAST-MODIFIED:20210313T163351Z
UID:10004293-1616169600-1616173200@quatrequarts.coop
SUMMARY:Plat végétarien à emporter
DESCRIPTION:Avec Viannou et Evelyne et leur projet « C’est bon c’est quoi »\, offrez-vous un délicieux repas de saison cuisiné avec amour le jour même !!! \nToutes les infos\, où-quand-comment ici: https://www.facebook.com/cboncquoi
URL:https://quatrequarts.coop/event/plat-vegetarien-a-emporter-3/2021-03-19/
ATTACH;FMTTYPE=image/jpeg:https://quatrequarts.coop/wp-content/uploads/2021/02/144295675_111902857533130_1040788281587417231_o.jpg
END:VEVENT
BEGIN:VEVENT
DTSTART;TZID=Europe/Brussels:20210320T110000
DTEND;TZID=Europe/Brussels:20210321T170000
DTSTAMP:20260426T061054
CREATED:20210313T165042Z
LAST-MODIFIED:20210316T102539Z
UID:10004078-1616238000-1616346000@quatrequarts.coop
SUMMARY:Exposition
DESCRIPTION:Nous présentons les Gravures de Daniel R.Poisson et les Sculptures de et Frederic Soille. BIENVENUE \n>> https://www.facebook.com/events/186297746257127
URL:https://quatrequarts.coop/event/parcours-dartiste/
ATTACH;FMTTYPE=image/jpeg:https://quatrequarts.coop/wp-content/uploads/2021/03/157431674_1864043333758552_8297541902770986035_o.jpg
END:VEVENT
BEGIN:VEVENT
DTSTART;TZID=Europe/Brussels:20210323T120000
DTEND;TZID=Europe/Brussels:20210323T160000
DTSTAMP:20260426T061054
CREATED:20210122T185853Z
LAST-MODIFIED:20210313T163314Z
UID:10003692-1616500800-1616515200@quatrequarts.coop
SUMMARY:Plat végétarien à emporter
DESCRIPTION:Proposé par Klaudia et son projet culinaire Artemisia.\n\nUn plat végétarien équilibré avec une céréale\, une protéine végétale et des légumes.\nVotre plat sera préparé avec des ingrédients bio\, des délicieux légumes de la ferme de la Distillerie à Bousval\, locaux et de saison.\nSi vous avez l’habitude du plat du jour de Quatre Quarts\, vous savez à quoi vous attendre :-).\nMais si vous ne l’avez pas\, sachez que le plat est équilibré\, plein de goût\, d’inspiration et de créativité.\nIl est facile à réchauffer au four ou à la poêle\, selon votre préférence.\nSi vous souhaitez connaitre le menu\, je vous envoie les informations par mail (envoyez-moi un mail sur klaudiaben@gmail.com) ou sur ma page fb : Artemisia cuisine respectueuse – gastronomie mobile.\nContenants à vous sont privilégiés\, mais ils aurait aussi une possibilité d’un contentant bio-dégradable à emporter.\nLes réservations pour le mardi seront clôturées le lundi avant midi.\nEnlèvement :  au Quatre Quarts\, dans l’ancienne gare de Court-Saint-Étienne\, entre 12h et 16h.\nPrix : 12€\nPour les réservations : par télephone au 0488 87 49 56 ou par mail : klaudiaben@gmail.com\nVous pouvez également envoyer un message fb : Artemisia cuisine respectueuse – gastronomie mobile\, (et liker ma page\, tout nouvelle et encore peu visitée).\nPour le paiement : sur place lors de l’enlèvement en espèces ou par virement ou pour confirmer votre réservation sur le compte BE98 0639 4533 8793\n\nMerci d’avoir choisi ma cuisine pour vous nourrir avec une nourriture saine\, qui sera une joie pour vos papilles gustatives et en même temps soutenir le maraichage local !\n\nJe vous souhaite un bon appétit !\nKlaudia
URL:https://quatrequarts.coop/event/plat-vegetarien-a-emporter-2/2021-03-23/
ATTACH;FMTTYPE=image/jpeg:https://quatrequarts.coop/wp-content/uploads/2020/11/109495510_3085466398157705_2365412237531801291_o.jpg
END:VEVENT
BEGIN:VEVENT
DTSTART;TZID=Europe/Brussels:20210326T090000
DTEND;TZID=Europe/Brussels:20210326T120000
DTSTAMP:20260426T061054
CREATED:20180825T114406Z
LAST-MODIFIED:20180825T114406Z
UID:10003407-1616749200-1616760000@quatrequarts.coop
SUMMARY:"Cheminons ensemble"
DESCRIPTION:  \n  \n  \n 
URL:https://quatrequarts.coop/event/cheminons-ensemble/2021-03-26/
END:VEVENT
BEGIN:VEVENT
DTSTART;TZID=Europe/Brussels:20210326T160000
DTEND;TZID=Europe/Brussels:20210326T170000
DTSTAMP:20260426T061054
CREATED:20210204T102806Z
LAST-MODIFIED:20210313T163351Z
UID:10004294-1616774400-1616778000@quatrequarts.coop
SUMMARY:Plat végétarien à emporter
DESCRIPTION:Avec Viannou et Evelyne et leur projet « C’est bon c’est quoi »\, offrez-vous un délicieux repas de saison cuisiné avec amour le jour même !!! \nToutes les infos\, où-quand-comment ici: https://www.facebook.com/cboncquoi
URL:https://quatrequarts.coop/event/plat-vegetarien-a-emporter-3/2021-03-26/
ATTACH;FMTTYPE=image/jpeg:https://quatrequarts.coop/wp-content/uploads/2021/02/144295675_111902857533130_1040788281587417231_o.jpg
END:VEVENT
BEGIN:VEVENT
DTSTART;TZID=Europe/Brussels:20210326T180000
DTEND;TZID=Europe/Brussels:20210326T190000
DTSTAMP:20260426T061054
CREATED:20170928T131010Z
LAST-MODIFIED:20180926T092627Z
UID:10002625-1616781600-1616785200@quatrequarts.coop
SUMMARY:Table de conversation en espagnol
DESCRIPTION:Un vendredi par mois\, venez à notre table de conversation en espagnol ! gérés par un couple de voyageurs. \nOn peut aborder divers sujets\, culture\, voyages\, paysages\, nourriture\, musique et tout ce que vous proposez. \nPrenons un bol d’air latino ensemble ! \n 
URL:https://quatrequarts.coop/event/table-de-conversation-espagnole/2021-03-26/
ATTACH;FMTTYPE=image/jpeg:https://quatrequarts.coop/wp-content/uploads/2017/09/drapeau-espagnol.jpg
ORGANIZER;CN="Sarai & Quentin":MAILTO:heritageancestral@gmail.com
END:VEVENT
BEGIN:VEVENT
DTSTART;TZID=Europe/Brussels:20210329T093000
DTEND;TZID=Europe/Brussels:20210329T113000
DTSTAMP:20260426T061054
CREATED:20180910T105738Z
LAST-MODIFIED:20180910T111211Z
UID:10003519-1617010200-1617017400@quatrequarts.coop
SUMMARY:La physiologie de la naissance
DESCRIPTION:Rencontres périnatales avec l’Asbl Timoun\nL’équipe des sages-femmes de TIMOUN vous propose un cycle d’ateliers autour de la naissance. Ces séances sont ouvertes à tous les parents quel que soit le lieu de naissance de l’enfant. Elles se font en collectif\, à partir de 3 couples et ou mamans. Durant cet atelier\, nous allons découvrir comment le corps de la femme se prépare pour la mise au monde de l’enfant\, quelles sont les différentes phases\, comment les reconnaitre\, les accompagner. Comprendre le fonctionnement des hormones du travail fabuleux que font la mère et l’enfant. Nous aborderons l’évolution de ce travail\, la descente du bébé\, la poussée\, le périnée……
URL:https://quatrequarts.coop/event/rencontres-perinatales/2021-03-29/
END:VEVENT
BEGIN:VEVENT
DTSTART;TZID=Europe/Brussels:20210330T120000
DTEND;TZID=Europe/Brussels:20210330T160000
DTSTAMP:20260426T061054
CREATED:20210122T185853Z
LAST-MODIFIED:20210313T163314Z
UID:10003693-1617105600-1617120000@quatrequarts.coop
SUMMARY:Plat végétarien à emporter
DESCRIPTION:Proposé par Klaudia et son projet culinaire Artemisia.\n\nUn plat végétarien équilibré avec une céréale\, une protéine végétale et des légumes.\nVotre plat sera préparé avec des ingrédients bio\, des délicieux légumes de la ferme de la Distillerie à Bousval\, locaux et de saison.\nSi vous avez l’habitude du plat du jour de Quatre Quarts\, vous savez à quoi vous attendre :-).\nMais si vous ne l’avez pas\, sachez que le plat est équilibré\, plein de goût\, d’inspiration et de créativité.\nIl est facile à réchauffer au four ou à la poêle\, selon votre préférence.\nSi vous souhaitez connaitre le menu\, je vous envoie les informations par mail (envoyez-moi un mail sur klaudiaben@gmail.com) ou sur ma page fb : Artemisia cuisine respectueuse – gastronomie mobile.\nContenants à vous sont privilégiés\, mais ils aurait aussi une possibilité d’un contentant bio-dégradable à emporter.\nLes réservations pour le mardi seront clôturées le lundi avant midi.\nEnlèvement :  au Quatre Quarts\, dans l’ancienne gare de Court-Saint-Étienne\, entre 12h et 16h.\nPrix : 12€\nPour les réservations : par télephone au 0488 87 49 56 ou par mail : klaudiaben@gmail.com\nVous pouvez également envoyer un message fb : Artemisia cuisine respectueuse – gastronomie mobile\, (et liker ma page\, tout nouvelle et encore peu visitée).\nPour le paiement : sur place lors de l’enlèvement en espèces ou par virement ou pour confirmer votre réservation sur le compte BE98 0639 4533 8793\n\nMerci d’avoir choisi ma cuisine pour vous nourrir avec une nourriture saine\, qui sera une joie pour vos papilles gustatives et en même temps soutenir le maraichage local !\n\nJe vous souhaite un bon appétit !\nKlaudia
URL:https://quatrequarts.coop/event/plat-vegetarien-a-emporter-2/2021-03-30/
ATTACH;FMTTYPE=image/jpeg:https://quatrequarts.coop/wp-content/uploads/2020/11/109495510_3085466398157705_2365412237531801291_o.jpg
END:VEVENT
BEGIN:VEVENT
DTSTART;TZID=Europe/Brussels:20210331T193000
DTEND;TZID=Europe/Brussels:20210331T220000
DTSTAMP:20260426T061054
CREATED:20180910T110134Z
LAST-MODIFIED:20180910T111145Z
UID:10003631-1617219000-1617228000@quatrequarts.coop
SUMMARY:La physiologie de la naissance
DESCRIPTION:Rencontres périnatales avec l’Asble Timoun\nL’équipe des sages-femmes de TIMOUN vous propose un cycle d’ateliers autour de la naissance. Ces séances sont ouvertes à tous les parents quel que soit le lieu de naissance de l’enfant. Elles se font en collectif\, à partir de 3 couples et ou mamans. Durant cet atelier\, nous allons découvrir comment le corps de la femme se prépare pour la mise au monde de l’enfant\, quelles sont les différentes phases\, comment les reconnaitre\, les accompagner. Comprendre le fonctionnement des hormones du travail fabuleux que font la mère et l’enfant. Nous aborderons l’évolution de ce travail\, la descente du bébé\, la poussée\, le périnée……
URL:https://quatrequarts.coop/event/rencontres-perinatales-2/2021-03-31/
END:VEVENT
END:VCALENDAR