BEGIN:VCALENDAR
VERSION:2.0
PRODID:-//Quatre Quarts - ECPv6.15.20//NONSGML v1.0//EN
CALSCALE:GREGORIAN
METHOD:PUBLISH
X-ORIGINAL-URL:https://quatrequarts.coop
X-WR-CALDESC:Évènements pour Quatre Quarts
REFRESH-INTERVAL;VALUE=DURATION:PT1H
X-Robots-Tag:noindex
X-PUBLISHED-TTL:PT1H
BEGIN:VTIMEZONE
TZID:Europe/Brussels
BEGIN:DAYLIGHT
TZOFFSETFROM:+0100
TZOFFSETTO:+0200
TZNAME:CEST
DTSTART:19860330T010000
END:DAYLIGHT
BEGIN:STANDARD
TZOFFSETFROM:+0200
TZOFFSETTO:+0100
TZNAME:CET
DTSTART:19860928T010000
END:STANDARD
BEGIN:DAYLIGHT
TZOFFSETFROM:+0100
TZOFFSETTO:+0200
TZNAME:CEST
DTSTART:19870329T010000
END:DAYLIGHT
BEGIN:STANDARD
TZOFFSETFROM:+0200
TZOFFSETTO:+0100
TZNAME:CET
DTSTART:19870927T010000
END:STANDARD
BEGIN:DAYLIGHT
TZOFFSETFROM:+0100
TZOFFSETTO:+0200
TZNAME:CEST
DTSTART:19880327T010000
END:DAYLIGHT
BEGIN:STANDARD
TZOFFSETFROM:+0200
TZOFFSETTO:+0100
TZNAME:CET
DTSTART:19880925T010000
END:STANDARD
END:VTIMEZONE
BEGIN:VEVENT
DTSTART;TZID=Europe/Brussels:19871202T134500
DTEND;TZID=Europe/Brussels:19871202T154500
DTSTAMP:20260424T085359
CREATED:20230912T061647Z
LAST-MODIFIED:20240315T103949Z
UID:10010304-565451100-565458300@quatrequarts.coop
SUMMARY:Atelier "Au temps des cerises"
DESCRIPTION:Ateliers pour les Seniors\, avec une séance mensuelle avec les petits enfants.\n\nAtelier en construction\, une discussion aura lieu avec les participants afin de définir le programme de l’année.\n\nExemple d’ateliers réalisés l’année passée : jeux de société\, cuisine\, quizz musical\, transformation de plantes médicinales en baume…
URL:https://quatrequarts.coop/event/atelier-au-temps-des-cerises/1987-12-02/
LOCATION:Quatre Quarts\, Rue Emile Henricot 61\, Court-Saint-Etienne\, 1490\, Belgique
CATEGORIES:Atelier
ATTACH;FMTTYPE=image/png:https://quatrequarts.coop/wp-content/uploads/2023/09/Capture-decran-2023-09-13-a-11.03.31.png
ORGANIZER;CN="Quatre Quarts":MAILTO:viedulieu@quatrequarts.coop
GEO:50.6459666;4.5632717
X-APPLE-STRUCTURED-LOCATION;VALUE=URI;X-ADDRESS=Quatre Quarts Rue Emile Henricot 61 Court-Saint-Etienne 1490 Belgique;X-APPLE-RADIUS=500;X-TITLE=Rue Emile Henricot 61:geo:4.5632717,50.6459666
END:VEVENT
BEGIN:VEVENT
DTSTART;TZID=Europe/Brussels:19871209T134500
DTEND;TZID=Europe/Brussels:19871209T154500
DTSTAMP:20260424T085359
CREATED:20230912T061647Z
LAST-MODIFIED:20240315T103949Z
UID:10010305-566055900-566063100@quatrequarts.coop
SUMMARY:Atelier "Au temps des cerises"
DESCRIPTION:Ateliers pour les Seniors\, avec une séance mensuelle avec les petits enfants.\n\nAtelier en construction\, une discussion aura lieu avec les participants afin de définir le programme de l’année.\n\nExemple d’ateliers réalisés l’année passée : jeux de société\, cuisine\, quizz musical\, transformation de plantes médicinales en baume…
URL:https://quatrequarts.coop/event/atelier-au-temps-des-cerises/1987-12-09/
LOCATION:Quatre Quarts\, Rue Emile Henricot 61\, Court-Saint-Etienne\, 1490\, Belgique
CATEGORIES:Atelier
ATTACH;FMTTYPE=image/png:https://quatrequarts.coop/wp-content/uploads/2023/09/Capture-decran-2023-09-13-a-11.03.31.png
ORGANIZER;CN="Quatre Quarts":MAILTO:viedulieu@quatrequarts.coop
GEO:50.6459666;4.5632717
X-APPLE-STRUCTURED-LOCATION;VALUE=URI;X-ADDRESS=Quatre Quarts Rue Emile Henricot 61 Court-Saint-Etienne 1490 Belgique;X-APPLE-RADIUS=500;X-TITLE=Rue Emile Henricot 61:geo:4.5632717,50.6459666
END:VEVENT
BEGIN:VEVENT
DTSTART;TZID=Europe/Brussels:19871216T134500
DTEND;TZID=Europe/Brussels:19871216T154500
DTSTAMP:20260424T085359
CREATED:20230912T061647Z
LAST-MODIFIED:20240315T103949Z
UID:10010306-566660700-566667900@quatrequarts.coop
SUMMARY:Atelier "Au temps des cerises"
DESCRIPTION:Ateliers pour les Seniors\, avec une séance mensuelle avec les petits enfants.\n\nAtelier en construction\, une discussion aura lieu avec les participants afin de définir le programme de l’année.\n\nExemple d’ateliers réalisés l’année passée : jeux de société\, cuisine\, quizz musical\, transformation de plantes médicinales en baume…
URL:https://quatrequarts.coop/event/atelier-au-temps-des-cerises/1987-12-16/
LOCATION:Quatre Quarts\, Rue Emile Henricot 61\, Court-Saint-Etienne\, 1490\, Belgique
CATEGORIES:Atelier
ATTACH;FMTTYPE=image/png:https://quatrequarts.coop/wp-content/uploads/2023/09/Capture-decran-2023-09-13-a-11.03.31.png
ORGANIZER;CN="Quatre Quarts":MAILTO:viedulieu@quatrequarts.coop
GEO:50.6459666;4.5632717
X-APPLE-STRUCTURED-LOCATION;VALUE=URI;X-ADDRESS=Quatre Quarts Rue Emile Henricot 61 Court-Saint-Etienne 1490 Belgique;X-APPLE-RADIUS=500;X-TITLE=Rue Emile Henricot 61:geo:4.5632717,50.6459666
END:VEVENT
BEGIN:VEVENT
DTSTART;TZID=Europe/Brussels:19871223T134500
DTEND;TZID=Europe/Brussels:19871223T154500
DTSTAMP:20260424T085359
CREATED:20230912T061647Z
LAST-MODIFIED:20240315T103949Z
UID:10010307-567265500-567272700@quatrequarts.coop
SUMMARY:Atelier "Au temps des cerises"
DESCRIPTION:Ateliers pour les Seniors\, avec une séance mensuelle avec les petits enfants.\n\nAtelier en construction\, une discussion aura lieu avec les participants afin de définir le programme de l’année.\n\nExemple d’ateliers réalisés l’année passée : jeux de société\, cuisine\, quizz musical\, transformation de plantes médicinales en baume…
URL:https://quatrequarts.coop/event/atelier-au-temps-des-cerises/1987-12-23/
LOCATION:Quatre Quarts\, Rue Emile Henricot 61\, Court-Saint-Etienne\, 1490\, Belgique
CATEGORIES:Atelier
ATTACH;FMTTYPE=image/png:https://quatrequarts.coop/wp-content/uploads/2023/09/Capture-decran-2023-09-13-a-11.03.31.png
ORGANIZER;CN="Quatre Quarts":MAILTO:viedulieu@quatrequarts.coop
GEO:50.6459666;4.5632717
X-APPLE-STRUCTURED-LOCATION;VALUE=URI;X-ADDRESS=Quatre Quarts Rue Emile Henricot 61 Court-Saint-Etienne 1490 Belgique;X-APPLE-RADIUS=500;X-TITLE=Rue Emile Henricot 61:geo:4.5632717,50.6459666
END:VEVENT
BEGIN:VEVENT
DTSTART;TZID=Europe/Brussels:19871230T134500
DTEND;TZID=Europe/Brussels:19871230T154500
DTSTAMP:20260424T085359
CREATED:20230912T061647Z
LAST-MODIFIED:20240315T103949Z
UID:10010308-567870300-567877500@quatrequarts.coop
SUMMARY:Atelier "Au temps des cerises"
DESCRIPTION:Ateliers pour les Seniors\, avec une séance mensuelle avec les petits enfants.\n\nAtelier en construction\, une discussion aura lieu avec les participants afin de définir le programme de l’année.\n\nExemple d’ateliers réalisés l’année passée : jeux de société\, cuisine\, quizz musical\, transformation de plantes médicinales en baume…
URL:https://quatrequarts.coop/event/atelier-au-temps-des-cerises/1987-12-30/
LOCATION:Quatre Quarts\, Rue Emile Henricot 61\, Court-Saint-Etienne\, 1490\, Belgique
CATEGORIES:Atelier
ATTACH;FMTTYPE=image/png:https://quatrequarts.coop/wp-content/uploads/2023/09/Capture-decran-2023-09-13-a-11.03.31.png
ORGANIZER;CN="Quatre Quarts":MAILTO:viedulieu@quatrequarts.coop
GEO:50.6459666;4.5632717
X-APPLE-STRUCTURED-LOCATION;VALUE=URI;X-ADDRESS=Quatre Quarts Rue Emile Henricot 61 Court-Saint-Etienne 1490 Belgique;X-APPLE-RADIUS=500;X-TITLE=Rue Emile Henricot 61:geo:4.5632717,50.6459666
END:VEVENT
END:VCALENDAR