BEGIN:VCALENDAR
VERSION:2.0
PRODID:-//Quatre Quarts - ECPv6.15.20//NONSGML v1.0//EN
CALSCALE:GREGORIAN
METHOD:PUBLISH
X-WR-CALNAME:Quatre Quarts
X-ORIGINAL-URL:https://quatrequarts.coop
X-WR-CALDESC:Évènements pour Quatre Quarts
REFRESH-INTERVAL;VALUE=DURATION:PT1H
X-Robots-Tag:noindex
X-PUBLISHED-TTL:PT1H
BEGIN:VTIMEZONE
TZID:Europe/Brussels
BEGIN:DAYLIGHT
TZOFFSETFROM:+0100
TZOFFSETTO:+0200
TZNAME:CEST
DTSTART:20250330T010000
END:DAYLIGHT
BEGIN:STANDARD
TZOFFSETFROM:+0200
TZOFFSETTO:+0100
TZNAME:CET
DTSTART:20251026T010000
END:STANDARD
BEGIN:DAYLIGHT
TZOFFSETFROM:+0100
TZOFFSETTO:+0200
TZNAME:CEST
DTSTART:20260329T010000
END:DAYLIGHT
BEGIN:STANDARD
TZOFFSETFROM:+0200
TZOFFSETTO:+0100
TZNAME:CET
DTSTART:20261025T010000
END:STANDARD
BEGIN:DAYLIGHT
TZOFFSETFROM:+0100
TZOFFSETTO:+0200
TZNAME:CEST
DTSTART:20270328T010000
END:DAYLIGHT
BEGIN:STANDARD
TZOFFSETFROM:+0200
TZOFFSETTO:+0100
TZNAME:CET
DTSTART:20271031T010000
END:STANDARD
END:VTIMEZONE
BEGIN:VEVENT
DTSTART;TZID=Europe/Brussels:20260424T101500
DTEND;TZID=Europe/Brussels:20260424T114500
DTSTAMP:20260424T020119
CREATED:20241129T092845Z
LAST-MODIFIED:20260324T101318Z
UID:10019342-1777025700-1777031100@quatrequarts.coop
SUMMARY:Yoga Doux
DESCRIPTION:
URL:https://quatrequarts.coop/event/yoga-doux-5-2/2026-04-24/
LOCATION:Sans titre\, Belgique
CATEGORIES:Cours
ATTACH;FMTTYPE=image/jpeg:https://quatrequarts.coop/wp-content/uploads/2022/09/Yoga-Doux-Cours--scaled-e1767725793209.jpg
ORGANIZER;CN="Emmanuelle Bonnevie":MAILTO:emmanuellebonnevie@hotmail.com
END:VEVENT
BEGIN:VEVENT
DTSTART;TZID=Europe/Brussels:20260424T110000
DTEND;TZID=Europe/Brussels:20260424T130000
DTSTAMP:20260424T020119
CREATED:20260122T135325Z
LAST-MODIFIED:20260324T101611Z
UID:10019392-1777028400-1777035600@quatrequarts.coop
SUMMARY:Atelier de Collage
DESCRIPTION:L’atelier collage aura lieu tous les vendredis\, de 11h à 13h. \nInscription gratuite (nombre limité) : Brigitte Michotte – 0478 72 67 48 ou brigitte.michotte1@gmail.com
URL:https://quatrequarts.coop/event/atelier-de-collage-3-2-2-2-2-3-2/2026-04-24/
LOCATION:Sans titre\, Belgique
CATEGORIES:Atelier
ATTACH;FMTTYPE=image/jpeg:https://quatrequarts.coop/wp-content/uploads/2024/11/ateliercollage2-1.jpg
ORGANIZER;CN="Brigitte Michotte":MAILTO:brigitte.michotte1@gmail.com
END:VEVENT
BEGIN:VEVENT
DTSTART;TZID=Europe/Brussels:20260424T133000
DTEND;TZID=Europe/Brussels:20260424T160000
DTSTAMP:20260424T020119
CREATED:20250320T140829Z
LAST-MODIFIED:20250625T103332Z
UID:10019439-1777037400-1777046400@quatrequarts.coop
SUMMARY:Atelier d’écriture – PAC
DESCRIPTION:Et si vous donniez rendez-vous à votre envie d’écrire ? Nous serons là pour vous accueillir et vous inviter à mélanger les mots\, à faire valser les phrases\, à envoyer en l’air les textes ! \nPourquoi venir à un atelier d’écriture ? D’abord\, peut-être\, parce que l’écriture est réputée être\, en général\, une activité solitaire. Le fait de se rassembler à plusieurs\, en un lieu donné\, entre personnes désireuses de se frotter à leur envie d’écrire\, permet de faire émerger des dynamiques de collaboration et des synergies créatives. Le collectif stimule l’écriture et le temps de communication autorise les participant·es à rendre immédiatement audible leur production. \nNotre atelier d’écriture ne se veut ni une masterclass menée par un·e auteur·trice célèbre\, propice à recevoir des conseils stylistiques et à augmenter ses performances littéraires\, ni un atelier à visée thérapeutique\, qui nécessite un cadre et un accompagnement appropriés. \nIl s’agit ni plus ni moins de se faire plaisir\, de s’amuser avec les mots en jouant avec et en se jouant de la langue\, des registres de langage et des différents modes d’expression.
URL:https://quatrequarts.coop/event/atelier-decriture-pac-4-2-2-2/2026-04-24/
LOCATION:Quatre Quarts\, Rue Emile Henricot 61\, Court-Saint-Etienne\, 1490\, Belgique
CATEGORIES:Atelier
ATTACH;FMTTYPE=image/jpeg:https://quatrequarts.coop/wp-content/uploads/2025/01/Atelier-ecriture-4Q.jpg
ORGANIZER;CN="Quatre Quarts":MAILTO:viedulieu@quatrequarts.coop
GEO:50.6459666;4.5632717
X-APPLE-STRUCTURED-LOCATION;VALUE=URI;X-ADDRESS=Quatre Quarts Rue Emile Henricot 61 Court-Saint-Etienne 1490 Belgique;X-APPLE-RADIUS=500;X-TITLE=Rue Emile Henricot 61:geo:4.5632717,50.6459666
END:VEVENT
END:VCALENDAR