BEGIN:VCALENDAR
VERSION:2.0
PRODID:-//Quatre Quarts - ECPv6.15.20//NONSGML v1.0//EN
CALSCALE:GREGORIAN
METHOD:PUBLISH
X-WR-CALNAME:Quatre Quarts
X-ORIGINAL-URL:https://quatrequarts.coop
X-WR-CALDESC:Évènements pour Quatre Quarts
REFRESH-INTERVAL;VALUE=DURATION:PT1H
X-Robots-Tag:noindex
X-PUBLISHED-TTL:PT1H
BEGIN:VTIMEZONE
TZID:Europe/Brussels
BEGIN:DAYLIGHT
TZOFFSETFROM:+0100
TZOFFSETTO:+0200
TZNAME:CEST
DTSTART:20250330T010000
END:DAYLIGHT
BEGIN:STANDARD
TZOFFSETFROM:+0200
TZOFFSETTO:+0100
TZNAME:CET
DTSTART:20251026T010000
END:STANDARD
BEGIN:DAYLIGHT
TZOFFSETFROM:+0100
TZOFFSETTO:+0200
TZNAME:CEST
DTSTART:20260329T010000
END:DAYLIGHT
BEGIN:STANDARD
TZOFFSETFROM:+0200
TZOFFSETTO:+0100
TZNAME:CET
DTSTART:20261025T010000
END:STANDARD
BEGIN:DAYLIGHT
TZOFFSETFROM:+0100
TZOFFSETTO:+0200
TZNAME:CEST
DTSTART:20270328T010000
END:DAYLIGHT
BEGIN:STANDARD
TZOFFSETFROM:+0200
TZOFFSETTO:+0100
TZNAME:CET
DTSTART:20271031T010000
END:STANDARD
END:VTIMEZONE
BEGIN:VEVENT
DTSTART;TZID=Europe/Brussels:20260421T100000
DTEND;TZID=Europe/Brussels:20260421T120000
DTSTAMP:20260421T114445
CREATED:20251107T093216Z
LAST-MODIFIED:20260324T110151Z
UID:10020327-1776765600-1776772800@quatrequarts.coop
SUMMARY:Permanence des Écrivains publics
DESCRIPTION:Développé par Présence et Action culturelles\, l’Espace Écrivain public s’appuie sur les valeurs de l’éducation permanente et sur des méthodes d’écoute active afin de pouvoir : \n\napporter un soutien gratuit et confidentiel à la rédaction de courriers administratifs ou privés à des publics aux demandes diversifiées\n\ntransmettre les informations permettant aux bénéficiaires de devenir plus autonomes dans leurs démarches\n\ndévelopper des actions collectives à partir des situations émergeant dans les permanences (ateliers d’écriture\, lectures à voix haute\, recueils de récits de vie\, de mémoires collectives…)\n\n \nProposé dans le cadre du projet “Tisser son chemin”
URL:https://quatrequarts.coop/event/permanence-ecrivain-public-6/2026-04-21/
LOCATION:Quatre Quarts\, Rue Emile Henricot 61\, Court-Saint-Etienne\, 1490\, Belgique
CATEGORIES:Atelier,Tiers-Lieu,Tisser son chemin
ATTACH;FMTTYPE=image/jpeg:https://quatrequarts.coop/wp-content/uploads/2024/02/logo-ecrivain-publicpetit.jpg
GEO:50.6459666;4.5632717
X-APPLE-STRUCTURED-LOCATION;VALUE=URI;X-ADDRESS=Quatre Quarts Rue Emile Henricot 61 Court-Saint-Etienne 1490 Belgique;X-APPLE-RADIUS=500;X-TITLE=Rue Emile Henricot 61:geo:4.5632717,50.6459666
END:VEVENT
BEGIN:VEVENT
DTSTART;TZID=Europe/Brussels:20260421T140000
DTEND;TZID=Europe/Brussels:20260421T160000
DTSTAMP:20260421T114445
CREATED:20260211T085521Z
LAST-MODIFIED:20260324T110254Z
UID:10020889-1776780000-1776787200@quatrequarts.coop
SUMMARY:Cours de dessin pour les amateurs qui pensent ne pas  savoir dessiner
DESCRIPTION:Tous les 1er et 3ème Mardi du mois de 14h à 16h \nJe vous apprends à dessiner pas à pas\, point par point\, et vous  serez stupéfaits de vos progrès.  \nChacun progresse à son rythme.  \nApporter pour débuter quelques feuilles de papier à imprimer\, une  gomme et un crayon noir gras.   \nJe demande de venir régulièrement\, surtout au début\, pour  acquérir les bases élémentaires.   \nInscription chez Annie : 0477/532 540
URL:https://quatrequarts.coop/event/cours-de-dessin-pour-les-amateurs-qui-pensent-ne-pas-savoir-dessiner-2/2026-04-21/
LOCATION:Quatre Quarts\, Rue Emile Henricot 61\, Court-Saint-Etienne\, 1490\, Belgique
ATTACH;FMTTYPE=image/jpeg:https://quatrequarts.coop/wp-content/uploads/2026/02/Cercle-de-lecture-e1770799459979.jpg
ORGANIZER;CN="Quatre Quarts":MAILTO:viedulieu@quatrequarts.coop
GEO:50.6459666;4.5632717
X-APPLE-STRUCTURED-LOCATION;VALUE=URI;X-ADDRESS=Quatre Quarts Rue Emile Henricot 61 Court-Saint-Etienne 1490 Belgique;X-APPLE-RADIUS=500;X-TITLE=Rue Emile Henricot 61:geo:4.5632717,50.6459666
END:VEVENT
BEGIN:VEVENT
DTSTART;TZID=Europe/Brussels:20260421T183000
DTEND;TZID=Europe/Brussels:20260421T210000
DTSTAMP:20260421T114445
CREATED:20260305T095321Z
LAST-MODIFIED:20260324T110343Z
UID:10013820-1776796200-1776805200@quatrequarts.coop
SUMMARY:Soiréé Talapatat !
DESCRIPTION:Tu as envie d’une soirée agréable et abordable ? T’es dans la purée (ou pas) pour le moment ? Viens\, tu auras la patate en sortant ! Quatre Quarts ouvre les mardis soirs avec un plat du jour à 5€… (possibilité de payer 10\, 15\, 20€ et d’ainsi offrir des plats solidaires). \nSi t’as la patate et envie d’aller plus loin\, l’idée de ces mardis « auberge collective » est aussi de cuisiner et servir ensemble : tu peux t’inscrire pour venir aider en nous envoyant un mail la semaine précédente.\nPour manger\, il suffit de venir ! Nous ne prenons pas de réservation à l’avance… \n  \nImpulsé grâce au soutien de la Wallonie (SPW-ARNE) et du Plan de relance de la Wallonie\, dans le cadre de l’appel à projets « Tiers-lieux ruraux ».
URL:https://quatrequarts.coop/event/soirees-talapatat-2-3/2026-04-21/
LOCATION:Quatre Quarts\, Rue Emile Henricot 61\, Court-Saint-Etienne\, 1490\, Belgique
CATEGORIES:Cuisine,Echange
ATTACH;FMTTYPE=image/png:https://quatrequarts.coop/wp-content/uploads/2024/05/TALAPATAT-1-e1763389513784.png
ORGANIZER;CN="Quatre Quarts":MAILTO:viedulieu@quatrequarts.coop
GEO:50.6459666;4.5632717
X-APPLE-STRUCTURED-LOCATION;VALUE=URI;X-ADDRESS=Quatre Quarts Rue Emile Henricot 61 Court-Saint-Etienne 1490 Belgique;X-APPLE-RADIUS=500;X-TITLE=Rue Emile Henricot 61:geo:4.5632717,50.6459666
END:VEVENT
BEGIN:VEVENT
DTSTART;TZID=Europe/Brussels:20260421T190000
DTEND;TZID=Europe/Brussels:20260421T203000
DTSTAMP:20260421T114445
CREATED:20260113T143757Z
LAST-MODIFIED:20260122T134948Z
UID:10020809-1776798000-1776803400@quatrequarts.coop
SUMMARY:Téhima\, danse sur les lettres hébraïques
DESCRIPTION:La Téhima\, Harmonie en hébreu\, est un ensemble de postures en mouvement qui répondent aux 22 lettres de l’alphabet hébraïque. Cette gestuelle est liée à la symbolique\, la calligraphie et la dynamique de chaque lettre. Elle travaille sur l’ancrage\, l’allongement et la respiration des tissus\, le souffle\, donnant une intention dans la partie du corps en résonance avec la lettre et s’inscrivant dans une relation macrocosme/microcosme. \nNatacha vous propose ici un cycle d’ateliers qui suivra la progression des lettres telle qu’elle se présente dans l’alphabet\, aux dates suivantes : \n3 février\, 17 mars\, 21 avril et 19 mai.\n\nLa participation par atelier est de 20 euros. La participation au cycle complet est vivement recommandée et souhaitée. Ces ateliers sont accessibles à tous. \nInscription obligatoire via dansevoix@gmail.com. Plus d’infos sur www.natachasimmonds.com \nPrix : 20 euros/Atelier
URL:https://quatrequarts.coop/event/tehima-danse-sur-les-lettres-hebraiques-7-2/2026-04-21/
CATEGORIES:Atelier
ATTACH;FMTTYPE=image/png:https://quatrequarts.coop/wp-content/uploads/2024/11/tehima.png
ORGANIZER;CN="Natacha Simmonds":MAILTO:natacha.simmonds@gmail.com
END:VEVENT
END:VCALENDAR